Workbook
Name Aktuelles_Jahr: [1]olap_sp_bld!$B$30
Name Aktuelles_Jahr: [2]olap_sp_bld_1Lj!$B$30
Name Aktuelles_Jahr: [3]olap_sp_bld_1Lj!$B$30
Name Aktuelles_Jahr: [3]olap_sp_bld_1Lj!$B$30
Name Aktuelles_Jahr: [3]olap_sp_bld_1Lj!$B$30
Name Aktuelles_Jahr: [3]olap_sp_bld_1Lj!$B$30
Name Aktuelles_Jahr: [3]olap_sp_bld_1Lj!$B$30
Name Aktuelles_Jahr: [3]olap_sp_bld_1Lj!$B$30
Name Aktuelles_Jahr: [3]olap_sp_bld_1Lj!$B$30
Name Aktuelles_Jahr: [3]olap_sp_bld_1Lj!$B$30
Name Aktuelles_Jahr: [3]olap_sp_bld_1Lj!$B$30
Name Aktuelles_Jahr: [3]olap_sp_bld_1Lj!$B$30
Name Aktuelles_Jahr: [4]olap_sp_bld!$B$30
Name Auswahl_Bundesland: [5]Dropdown!$K$3
Name Auswahl_Jahr: [6]Dropdown!$D$3
Name Auswahl_Jahr: [7]Dropdown!$D$3
Name Auswahl_Jahr: [7]Dropdown!$D$3
Name Auswahl_Jahr: [7]Dropdown!$D$3
Name Auswahl_Jahr: [7]Dropdown!$D$3
Name Auswahl_Jahr: [7]Dropdown!$D$3
Name Auswahl_Jahr: [7]Dropdown!$D$3
Name Auswahl_Jahr: [7]Dropdown!$D$3
Name Auswahl_Jahr: [7]Dropdown!$D$3
Name Auswahl_Jahr: [7]Dropdown!$D$3
Name Auswahl_Jahr: [7]Dropdown!$D$3
Name Auswahl_Jahr: [1]Dropdown!$B$3
Name Auswahl_Jahr: [8]Dropdown!$D$3
Name Auswahl_Jahr: [9]Dropdown!$D$3
Name Auswahl_Jahr: [9]Dropdown!$D$3
Name Auswahl_Jahr: [9]Dropdown!$D$3
Name Auswahl_Jahr: [9]Dropdown!$D$3
Name Auswahl_Jahr: [9]Dropdown!$D$3
Name Auswahl_Jahr: [9]Dropdown!$D$3
Name Auswahl_Jahr: [9]Dropdown!$D$3
Name Auswahl_Jahr: [9]Dropdown!$D$3
Name Auswahl_Jahr: [9]Dropdown!$D$3
Name Auswahl_Jahr: [9]Dropdown!$D$3
Name Auswahl_Jahr: [10]Dropdown!$D$3
Name Auswahl_Jahr: Dropdown!$D$3
Name Auswahl_Status: [6]Dropdown!$E$3
Name Auswahl_Status: [7]Dropdown!$E$3
Name Auswahl_Status: [7]Dropdown!$E$3
Name Auswahl_Status: [7]Dropdown!$E$3
Name Auswahl_Status: [7]Dropdown!$E$3
Name Auswahl_Status: [7]Dropdown!$E$3
Name Auswahl_Status: [7]Dropdown!$E$3
Name Auswahl_Status: [7]Dropdown!$E$3
Name Auswahl_Status: [7]Dropdown!$E$3
Name Auswahl_Status: [7]Dropdown!$E$3
Name Auswahl_Status: [7]Dropdown!$E$3
Name Auswahl_Status: [8]Dropdown!$E$3
Name Auswahl_Status: [10]Dropdown!$E$3
Name Auswahl_Status: Dropdown!$E$3
Name Diagrammtitel: #REF!
Name Fußnote1_Lehrbetrieb: [7]olap_betriebe_sp!$K$34
Name Fußnote1_Lehrbetrieb: [7]olap_betriebe_sp!$K$34
Name Fußnote1_Lehrbetrieb: [7]olap_betriebe_sp!$K$34
Name Fußnote1_Lehrbetrieb: [7]olap_betriebe_sp!$K$34
Name Fußnote1_Lehrbetrieb: [7]olap_betriebe_sp!$K$34
Name Fußnote1_Lehrbetrieb: [7]olap_betriebe_sp!$K$34

Sheet LL_BDL
A5: Lehrlingsstatistik 31.12.2025
A6: Lehrlinge nach Bundesländern
A9: Bundesland | B9: Lehrlinge | D9: Veränderung zum Vorjahr
B10: absolut | C10: in % | D10: absolut | E10: in %
A11: Burgenland | B11: 2346 | C11: 2.2803709 | D11: -158 | E11: -6.3099042
A12: Kärnten | B12: 6971 | C12: 6.7759871 | D12: -228 | E12: -3.1671065
A13: Niederösterreich | B13: 16421 | C13: 15.961624 | D13: -565 | E13: -3.3262687
A14: Oberösterreich | B14: 21390 | C14: 20.791617 | D14: -769 | E14: -3.4703732
A15: Salzburg | B15: 7545 | C15: 7.3339295 | D15: -275 | E15: -3.516624
A16: Steiermark | B16: 14442 | C16: 14.037987 | D16: -486 | E16: -3.255627
A17: Tirol | B17: 9700 | C17: 9.4286436 | D17: -425 | E17: -4.1975309
A18: Vorarlberg | B18: 6348 | C18: 6.1704154 | D18: -205 | E18: -3.1283382
A19: Wien | B19: 17715 | C19: 17.219425 | D19: -463 | E19: -2.5470349
A20: ÖSTERREICH 1) | B20: 102878 | C20: 100 | D20: -3574 | E20: -3.3573817
A22: 1) Davon haben 8.362 Jugendliche einen Ausbildungsplatz in der Berufsausbildung gemäß §8b
A23: (7.091 in verlängerten Lehrausbildungen und 1.271 in Teilqualifizierungen;
A24: 6.243 werden in Unternehmungen und 2.119 in Einrichtungen ausgebildet).
A26: Rundungsdifferenzen wurden nicht ausgeglichen.
A27: Quelle: LEHRLINGSSTATISTIK 2025, Wirtschaftskammern Österreichs

Sheet LL_Sp
A3: Lehrlingsstatistik 31.12.2025
A4: Lehrlinge nach Sparten | E4: Österreich
A6: Sparte | B6: Lehrlinge | D6: Veränderung zum Vorjahr
B7: absolut | C7: in % | D7: absolut | E7: in %
A8: Gewerbe und Handwerk | B8: 43965 | C8: 42.735084 | D8: -1455 | E8: -3.2034346
A9: Industrie | B9: 16169 | C9: 15.716674 | D9: -768 | E9: -4.5344512
A10: Handel | B10: 12760 | C10: 12.40304 | D10: -1063 | E10: -7.6900817
A11: Bank und Versicherung | B11: 1456 | C11: 1.4152686 | D11: 2 | E11: 0.13755158
A12: Transport und Verkehr | B12: 3021 | C12: 2.9364879 | D12: -11 | E12: -0.36279683
A13: Tourismus und Freizeitwirtschaft | B13: 7149 | C13: 6.9490076 | D13: -149 | E13: -2.0416552
A14: Information und Consulting | B14: 2420 | C14: 2.3523008 | D14: -314 | E14: -11.485004
A15: Sonstige Lehrberechtigte 1) | B15: 10040 | C15: 9.7591322 | D15: -13 | E15: -0.12931463
A16: Summe in Ausbildungsbetrieben | B16: 96980 | C16: 94.266996 | D16: -3771 | E16: -3.7428909
A17: Überbetriebliche Lehrausbildung 2) | B17: 5898 | C17: 5.7330041 | D17: 197 | E17: 3.4555341
A18: INSGESAMT 3) | B18: 102878 | C18: 100 | D18: -3574 | E18: -3.3573817
A20: 1) Nicht der Kammer der gewerblichen Wirtschaft zugehörige Betriebe (z.B. Rechtsanwälte, Magistrate, usw).
A21: Der Bereich "Sonstige Lehrberechtigte" wurde bis zum Jahr 2012 als "Nichtkammer" bezeichnet.
A22: 2) Ausbildungseinrichtungen nach dem Berufsausbildungsgesetz
A23: (zB Überbetriebliche Lehrausbildungen im Auftrag des AMS, selbständige Ausbildungseinrichtungen).
A24: 3) Davon haben 8.362 Jugendliche einen Ausbildungsplatz in der Berufsausbildung gemäß §8b
A25: (7.091 in verlängerten Lehrausbildungen und 1.271 in Teilqualifizierungen;
A26: 6.243 werden in Unternehmungen und 2.119 in Einrichtungen ausgebildet).
A27: Rundungsdifferenzen wurden nicht ausgeglichen.
A28: Quelle: LEHRLINGSSTATISTIK 2025, Wirtschaftskammern Österreichs

Sheet LL_Sp B
A3: Lehrlingsstatistik 31.12.2025
A4: Lehrlinge nach Sparten | E4: Burgenland
A6: Sparte | B6: Lehrlinge | D6: Veränderung zum Vorjahr
B7: absolut | C7: in % | D7: absolut | E7: in %
A8: Gewerbe und Handwerk | B8: 1110 | C8: 47.314578 | D8: -132 | E8: -10.628019
A9: Industrie | B9: 239 | C9: 10.187553 | D9: -43 | E9: -15.248227
A10: Handel | B10: 288 | C10: 12.276215 | D10: 3 | E10: 1.0526316
A11: Bank und Versicherung | B11: 25 | C11: 1.0656436 | D11: -1 | E11: -3.8461538
A12: Transport und Verkehr | B12: 4 | C12: 0.17050298 | D12: 0 | E12: 0
A13: Tourismus und Freizeitwirtschaft | B13: 166 | C13: 7.0758738 | D13: 23 | E13: 16.083916
A14: Information und Consulting | B14: 23 | C14: 0.98039216 | D14: -8 | E14: -25.806452
A15: Sonstige Lehrberechtigte 1) | B15: 198 | C15: 8.4398977 | D15: 5 | E15: 2.5906736
A16: Summe in Ausbildungsbetrieben | B16: 2053 | C16: 87.510656 | D16: -153 | E16: -6.9356301
A17: Überbetriebliche Lehrausbildung 2) | B17: 293 | C17: 12.489344 | D17: -5 | E17: -1.6778523
A18: INSGESAMT 3) | B18: 2346 | C18: 100 | D18: -158 | E18: -6.3099042
A20: 1) Nicht der Kammer der gewerblichen Wirtschaft zugehörige Betriebe (z.B. Rechtsanwälte, Magistrate, usw).
A21: Der Bereich "Sonstige Lehrberechtigte" wurde bis zum Jahr 2012 als "Nichtkammer" bezeichnet.
A22: 2) Ausbildungseinrichtungen nach dem Berufsausbildungsgesetz
A23: (zB Überbetriebliche Lehrausbildungen im Auftrag des AMS, selbständige Ausbildungseinrichtungen).
A24: 3) Davon haben 286 Jugendliche einen Ausbildungsplatz in der Berufsausbildung gemäß §8b
A25: (215 in verlängerten Lehrausbildungen und 71 in Teilqualifizierungen;
A26: 158 werden in Unternehmungen und 128 in Einrichtungen ausgebildet).
A27: Rundungsdifferenzen wurden nicht ausgeglichen.
A28: Quelle: LEHRLINGSSTATISTIK 2025, Wirtschaftskammern Österreichs

Sheet LL_Sp K
A3: Lehrlingsstatistik 31.12.2025
A4: Lehrlinge nach Sparten | E4: Kärnten
A6: Sparte | B6: Lehrlinge | D6: Veränderung zum Vorjahr
B7: absolut | C7: in % | D7: absolut | E7: in %
A8: Gewerbe und Handwerk | B8: 3287 | C8: 47.152489 | D8: -219 | E8: -6.2464347
A9: Industrie | B9: 1072 | C9: 15.377995 | D9: -13 | E9: -1.1981567
A10: Handel | B10: 902 | C10: 12.93932 | D10: -56 | E10: -5.8455115
A11: Bank und Versicherung | B11: 108 | C11: 1.5492756 | D11: 16 | E11: 17.391304
A12: Transport und Verkehr | B12: 82 | C12: 1.1763018 | D12: -10 | E12: -10.869565
A13: Tourismus und Freizeitwirtschaft | B13: 583 | C13: 8.3632191 | D13: -4 | E13: -0.68143101
A14: Information und Consulting | B14: 126 | C14: 1.8074882 | D14: 13 | E14: 11.504425
A15: Sonstige Lehrberechtigte 1) | B15: 586 | C15: 8.4062545 | D15: -6 | E15: -1.0135135
A16: Summe in Ausbildungsbetrieben | B16: 6746 | C16: 96.772343 | D16: -279 | E16: -3.9715302
A17: Überbetriebliche Lehrausbildung 2) | B17: 225 | C17: 3.2276574 | D17: 51 | E17: 29.310345
A18: INSGESAMT 3) | B18: 6971 | C18: 100 | D18: -228 | E18: -3.1671065
A20: 1) Nicht der Kammer der gewerblichen Wirtschaft zugehörige Betriebe (z.B. Rechtsanwälte, Magistrate, usw).
A21: Der Bereich "Sonstige Lehrberechtigte" wurde bis zum Jahr 2012 als "Nichtkammer" bezeichnet.
A22: 2) Ausbildungseinrichtungen nach dem Berufsausbildungsgesetz
A23: (zB Überbetriebliche Lehrausbildungen im Auftrag des AMS, selbständige Ausbildungseinrichtungen).
A24: 3) Davon haben 467 Jugendliche einen Ausbildungsplatz in der Berufsausbildung gemäß §8b
A25: (404 in verlängerten Lehrausbildungen und 63 in Teilqualifizierungen;
A26: 403 werden in Unternehmungen und 64 in Einrichtungen ausgebildet).
A27: Rundungsdifferenzen wurden nicht ausgeglichen.
A28: Quelle: LEHRLINGSSTATISTIK 2025, Wirtschaftskammern Österreichs

Sheet LL_Sp NÖ
A3: Lehrlingsstatistik 31.12.2025
A4: Lehrlinge nach Sparten | E4: Niederösterreich
A6: Sparte | B6: Lehrlinge | D6: Veränderung zum Vorjahr
B7: absolut | C7: in % | D7: absolut | E7: in %
A8: Gewerbe und Handwerk | B8: 7869 | C8: 47.920346 | D8: -173 | E8: -2.1512062
A9: Industrie | B9: 2520 | C9: 15.346203 | D9: -197 | E9: -7.2506441
A10: Handel | B10: 2133 | C10: 12.989465 | D10: -204 | E10: -8.7291399
A11: Bank und Versicherung | B11: 142 | C11: 0.86474636 | D11: -2 | E11: -1.3888889
A12: Transport und Verkehr | B12: 544 | C12: 3.3128311 | D12: 51 | E12: 10.344828
A13: Tourismus und Freizeitwirtschaft | B13: 868 | C13: 5.2859144 | D13: -40 | E13: -4.4052863
A14: Information und Consulting | B14: 244 | C14: 1.4859022 | D14: -27 | E14: -9.9630996
A15: Sonstige Lehrberechtigte 1) | B15: 1353 | C15: 8.2394495 | D15: -57 | E15: -4.0425532
A16: Summe in Ausbildungsbetrieben | B16: 15673 | C16: 95.444857 | D16: -649 | E16: -3.9762284
A17: Überbetriebliche Lehrausbildung 2) | B17: 748 | C17: 4.5551428 | D17: 84 | E17: 12.650602
A18: INSGESAMT 3) | B18: 16421 | C18: 100 | D18: -565 | E18: -3.3262687
A20: 1) Nicht der Kammer der gewerblichen Wirtschaft zugehörige Betriebe (z.B. Rechtsanwälte, Magistrate, usw).
A21: Der Bereich "Sonstige Lehrberechtigte" wurde bis zum Jahr 2012 als "Nichtkammer" bezeichnet.
A22: 2) Ausbildungseinrichtungen nach dem Berufsausbildungsgesetz
A23: (zB Überbetriebliche Lehrausbildungen im Auftrag des AMS, selbständige Ausbildungseinrichtungen).
A24: 3) Davon haben 1.401 Jugendliche einen Ausbildungsplatz in der Berufsausbildung gemäß §8b
A25: (1.292 in verlängerten Lehrausbildungen und 109 in Teilqualifizierungen;
A26: 1.102 werden in Unternehmungen und 299 in Einrichtungen ausgebildet).
A27: Rundungsdifferenzen wurden nicht ausgeglichen.
A28: Quelle: LEHRLINGSSTATISTIK 2025, Wirtschaftskammern Österreichs

Sheet LL_Sp OÖ
A3: Lehrlingsstatistik 31.12.2025
A4: Lehrlinge nach Sparten | E4: Oberösterreich
A6: Sparte | B6: Lehrlinge | D6: Veränderung zum Vorjahr
B7: absolut | C7: in % | D7: absolut | E7: in %
A8: Gewerbe und Handwerk | B8: 9108 | C8: 42.580645 | D8: -311 | E8: -3.3018367
A9: Industrie | B9: 4986 | C9: 23.309958 | D9: -289 | E9: -5.478673
A10: Handel | B10: 2513 | C10: 11.748481 | D10: -139 | E10: -5.2413273
A11: Bank und Versicherung | B11: 288 | C11: 1.3464236 | D11: -12 | E11: -4
A12: Transport und Verkehr | B12: 657 | C12: 3.0715288 | D12: 26 | E12: 4.1204437
A13: Tourismus und Freizeitwirtschaft | B13: 1006 | C13: 4.7031323 | D13: 14 | E13: 1.4112903
A14: Information und Consulting | B14: 535 | C14: 2.5011688 | D14: -52 | E14: -8.8586031
A15: Sonstige Lehrberechtigte 1) | B15: 1974 | C15: 9.2286115 | D15: -2 | E15: -0.10121457
A16: Summe in Ausbildungsbetrieben | B16: 21067 | C16: 98.489949 | D16: -765 | E16: -3.5040308
A17: Überbetriebliche Lehrausbildung 2) | B17: 323 | C17: 1.5100514 | D17: -4 | E17: -1.2232416
A18: INSGESAMT 3) | B18: 21390 | C18: 100 | D18: -769 | E18: -3.4703732
A20: 1) Nicht der Kammer der gewerblichen Wirtschaft zugehörige Betriebe (z.B. Rechtsanwälte, Magistrate, usw).
A21: Der Bereich "Sonstige Lehrberechtigte" wurde bis zum Jahr 2012 als "Nichtkammer" bezeichnet.
A22: 2) Ausbildungseinrichtungen nach dem Berufsausbildungsgesetz
A23: (zB Überbetriebliche Lehrausbildungen im Auftrag des AMS, selbständige Ausbildungseinrichtungen).
A24: 3) Davon haben 1.975 Jugendliche einen Ausbildungsplatz in der Berufsausbildung gemäß §8b
A25: (1.719 in verlängerten Lehrausbildungen und 256 in Teilqualifizierungen;
A26: 1.721 werden in Unternehmungen und 254 in Einrichtungen ausgebildet).
A27: Rundungsdifferenzen wurden nicht ausgeglichen.
A28: Quelle: LEHRLINGSSTATISTIK 2025, Wirtschaftskammern Österreichs

Sheet LL_Sp S
A3: Lehrlingsstatistik 31.12.2025
A4: Lehrlinge nach Sparten | E4: Salzburg
A6: Sparte | B6: Lehrlinge | D6: Veränderung zum Vorjahr
B7: absolut | C7: in % | D7: absolut | E7: in %
A8: Gewerbe und Handwerk | B8: 3524 | C8: 46.706428 | D8: -178 | E8: -4.8082118
A9: Industrie | B9: 657 | C9: 8.7077535 | D9: -5 | E9: -0.75528701
A10: Handel | B10: 1076 | C10: 14.2611 | D10: -103 | E10: -8.7362171
A11: Bank und Versicherung | B11: 151 | C11: 2.0013254 | D11: 12 | E11: 8.6330935
A12: Transport und Verkehr | B12: 243 | C12: 3.2206759 | D12: 10 | E12: 4.2918455
A13: Tourismus und Freizeitwirtschaft | B13: 743 | C13: 9.8475812 | D13: -5 | E13: -0.6684492
A14: Information und Consulting | B14: 193 | C14: 2.5579854 | D14: -54 | E14: -21.862348
A15: Sonstige Lehrberechtigte 1) | B15: 824 | C15: 10.92114 | D15: 24 | E15: 3
A16: Summe in Ausbildungsbetrieben | B16: 7411 | C16: 98.223989 | D16: -299 | E16: -3.8780804
A17: Überbetriebliche Lehrausbildung 2) | B17: 134 | C17: 1.7760106 | D17: 24 | E17: 21.818182
A18: INSGESAMT 3) | B18: 7545 | C18: 100 | D18: -275 | E18: -3.516624
A20: 1) Nicht der Kammer der gewerblichen Wirtschaft zugehörige Betriebe (z.B. Rechtsanwälte, Magistrate, usw).
A21: Der Bereich "Sonstige Lehrberechtigte" wurde bis zum Jahr 2012 als "Nichtkammer" bezeichnet.
A22: 2) Ausbildungseinrichtungen nach dem Berufsausbildungsgesetz
A23: (zB Überbetriebliche Lehrausbildungen im Auftrag des AMS, selbständige Ausbildungseinrichtungen).
A24: 3) Davon haben 418 Jugendliche einen Ausbildungsplatz in der Berufsausbildung gemäß §8b
A25: (235 in verlängerten Lehrausbildungen und 183 in Teilqualifizierungen;
A26: 304 werden in Unternehmungen und 114 in Einrichtungen ausgebildet).
A27: Rundungsdifferenzen wurden nicht ausgeglichen.
A28: Quelle: LEHRLINGSSTATISTIK 2025, Wirtschaftskammern Österreichs

Sheet LL_Sp ST
A3: Lehrlingsstatistik 31.12.2025
A4: Lehrlinge nach Sparten | E4: Steiermark
A6: Sparte | B6: Lehrlinge | D6: Veränderung zum Vorjahr
B7: absolut | C7: in % | D7: absolut | E7: in %
A8: Gewerbe und Handwerk | B8: 6391 | C8: 44.252874 | D8: -242 | E8: -3.6484245
A9: Industrie | B9: 2845 | C9: 19.699488 | D9: -79 | E9: -2.7017784
A10: Handel | B10: 1628 | C10: 11.272677 | D10: -122 | E10: -6.9714286
A11: Bank und Versicherung | B11: 144 | C11: 0.99709182 | D11: 7 | E11: 5.1094891
A12: Transport und Verkehr | B12: 158 | C12: 1.0940313 | D12: -24 | E12: -13.186813
A13: Tourismus und Freizeitwirtschaft | B13: 893 | C13: 6.1833541 | D13: -11 | E13: -1.2168142
A14: Information und Consulting | B14: 333 | C14: 2.3057748 | D14: -66 | E14: -16.541353
A15: Sonstige Lehrberechtigte 1) | B15: 1434 | C15: 9.9293727 | D15: 57 | E15: 4.1394336
A16: Summe in Ausbildungsbetrieben | B16: 13826 | C16: 95.734663 | D16: -480 | E16: -3.3552356
A17: Überbetriebliche Lehrausbildung 2) | B17: 616 | C17: 4.2653372 | D17: -6 | E17: -0.96463023
A18: INSGESAMT 3) | B18: 14442 | C18: 100 | D18: -486 | E18: -3.255627
A20: 1) Nicht der Kammer der gewerblichen Wirtschaft zugehörige Betriebe (z.B. Rechtsanwälte, Magistrate, usw).
A21: Der Bereich "Sonstige Lehrberechtigte" wurde bis zum Jahr 2012 als "Nichtkammer" bezeichnet.
A22: 2) Ausbildungseinrichtungen nach dem Berufsausbildungsgesetz
A23: (zB Überbetriebliche Lehrausbildungen im Auftrag des AMS, selbständige Ausbildungseinrichtungen).
A24: 3) Davon haben 1.488 Jugendliche einen Ausbildungsplatz in der Berufsausbildung gemäß §8b
A25: (1.270 in verlängerten Lehrausbildungen und 218 in Teilqualifizierungen;
A26: 1.244 werden in Unternehmungen und 244 in Einrichtungen ausgebildet).
A27: Rundungsdifferenzen wurden nicht ausgeglichen.
A28: Quelle: LEHRLINGSSTATISTIK 2025, Wirtschaftskammern Österreichs

Sheet LL_Sp T
A3: Lehrlingsstatistik 31.12.2025
A4: Lehrlinge nach Sparten | E4: Tirol
A6: Sparte | B6: Lehrlinge | D6: Veränderung zum Vorjahr
B7: absolut | C7: in % | D7: absolut | E7: in %
A8: Gewerbe und Handwerk | B8: 4898 | C8: 50.494845 | D8: -218 | E8: -4.2611415
A9: Industrie | B9: 1226 | C9: 12.639175 | D9: -74 | E9: -5.6923077
A10: Handel | B10: 1104 | C10: 11.381443 | D10: -125 | E10: -10.170871
A11: Bank und Versicherung | B11: 127 | C11: 1.3092784 | D11: 1 | E11: 0.79365079
A12: Transport und Verkehr | B12: 283 | C12: 2.9175258 | D12: -13 | E12: -4.3918919
A13: Tourismus und Freizeitwirtschaft | B13: 939 | C13: 9.6804124 | D13: 7 | E13: 0.75107296
A14: Information und Consulting | B14: 176 | C14: 1.814433 | D14: -30 | E14: -14.563107
A15: Sonstige Lehrberechtigte 1) | B15: 871 | C15: 8.9793814 | D15: 20 | E15: 2.3501763
A16: Summe in Ausbildungsbetrieben | B16: 9624 | C16: 99.216495 | D16: -432 | E16: -4.2959427
A17: Überbetriebliche Lehrausbildung 2) | B17: 76 | C17: 0.78350515 | D17: 7 | E17: 10.144928
A18: INSGESAMT 3) | B18: 9700 | C18: 100 | D18: -425 | E18: -4.1975309
A20: 1) Nicht der Kammer der gewerblichen Wirtschaft zugehörige Betriebe (z.B. Rechtsanwälte, Magistrate, usw).
A21: Der Bereich "Sonstige Lehrberechtigte" wurde bis zum Jahr 2012 als "Nichtkammer" bezeichnet.
A22: 2) Ausbildungseinrichtungen nach dem Berufsausbildungsgesetz
A23: (zB Überbetriebliche Lehrausbildungen im Auftrag des AMS, selbständige Ausbildungseinrichtungen).
A24: 3) Davon haben 504 Jugendliche einen Ausbildungsplatz in der Berufsausbildung gemäß §8b
A25: (451 in verlängerten Lehrausbildungen und 53 in Teilqualifizierungen;
A26: 442 werden in Unternehmungen und 62 in Einrichtungen ausgebildet).
A27: Rundungsdifferenzen wurden nicht ausgeglichen.
A28: Quelle: LEHRLINGSSTATISTIK 2025, Wirtschaftskammern Österreichs

Sheet LL_Sp V
A3: Lehrlingsstatistik 31.12.2025
A4: Lehrlinge nach Sparten | E4: Vorarlberg
A6: Sparte | B6: Lehrlinge | D6: Veränderung zum Vorjahr
B7: absolut | C7: in % | D7: absolut | E7: in %
A8: Gewerbe und Handwerk | B8: 2791 | C8: 43.966604 | D8: -49 | E8: -1.7253521
A9: Industrie | B9: 1472 | C9: 23.188406 | D9: -39 | E9: -2.5810721
A10: Handel | B10: 654 | C10: 10.302457 | D10: -85 | E10: -11.50203
A11: Bank und Versicherung | B11: 84 | C11: 1.3232514 | D11: -5 | E11: -5.6179775
A12: Transport und Verkehr | B12: 190 | C12: 2.9930687 | D12: -18 | E12: -8.6538462
A13: Tourismus und Freizeitwirtschaft | B13: 494 | C13: 7.7819786 | D13: -2 | E13: -0.40322581
A14: Information und Consulting | B14: 121 | C14: 1.9061122 | D14: -1 | E14: -0.81967213
A15: Sonstige Lehrberechtigte 1) | B15: 343 | C15: 5.4032766 | D15: 2 | E15: 0.58651026
A16: Summe in Ausbildungsbetrieben | B16: 6149 | C16: 96.865154 | D16: -197 | E16: -3.1043177
A17: Überbetriebliche Lehrausbildung 2) | B17: 199 | C17: 3.1348456 | D17: -8 | E17: -3.8647343
A18: INSGESAMT 3) | B18: 6348 | C18: 100 | D18: -205 | E18: -3.1283382
A20: 1) Nicht der Kammer der gewerblichen Wirtschaft zugehörige Betriebe (z.B. Rechtsanwälte, Magistrate, usw).
A21: Der Bereich "Sonstige Lehrberechtigte" wurde bis zum Jahr 2012 als "Nichtkammer" bezeichnet.
A22: 2) Ausbildungseinrichtungen nach dem Berufsausbildungsgesetz
A23: (zB Überbetriebliche Lehrausbildungen im Auftrag des AMS, selbständige Ausbildungseinrichtungen).
A24: 3) Davon haben 327 Jugendliche einen Ausbildungsplatz in der Berufsausbildung gemäß §8b
A25: (255 in verlängerten Lehrausbildungen und 72 in Teilqualifizierungen;
A26: 296 werden in Unternehmungen und 31 in Einrichtungen ausgebildet).
A27: Rundungsdifferenzen wurden nicht ausgeglichen.
A28: Quelle: LEHRLINGSSTATISTIK 2025, Wirtschaftskammern Österreichs

Sheet LL_Sp W
A3: Lehrlingsstatistik 31.12.2025
A4: Lehrlinge nach Sparten | E4: Wien
A6: Sparte | B6: Lehrlinge | D6: Veränderung zum Vorjahr
B7: absolut | C7: in % | D7: absolut | E7: in %
A8: Gewerbe und Handwerk | B8: 4987 | C8: 28.151284 | D8: 67 | E8: 1.3617886
A9: Industrie | B9: 1152 | C9: 6.5029636 | D9: -29 | E9: -2.4555461
A10: Handel | B10: 2462 | C10: 13.897827 | D10: -232 | E10: -8.6117298
A11: Bank und Versicherung | B11: 387 | C11: 2.1845893 | D11: -14 | E11: -3.4912718
A12: Transport und Verkehr | B12: 860 | C12: 4.854643 | D12: -33 | E12: -3.6954087
A13: Tourismus und Freizeitwirtschaft | B13: 1457 | C13: 8.2246684 | D13: -131 | E13: -8.2493703
A14: Information und Consulting | B14: 669 | C14: 3.7764606 | D14: -89 | E14: -11.741425
A15: Sonstige Lehrberechtigte 1) | B15: 2457 | C15: 13.869602 | D15: -56 | E15: -2.2284123
A16: Summe in Ausbildungsbetrieben | B16: 14431 | C16: 81.462038 | D16: -517 | E16: -3.4586567
A17: Überbetriebliche Lehrausbildung 2) | B17: 3284 | C17: 18.537962 | D17: 54 | E17: 1.6718266
A18: INSGESAMT 3) | B18: 17715 | C18: 100 | D18: -463 | E18: -2.5470349
A20: 1) Nicht der Kammer der gewerblichen Wirtschaft zugehörige Betriebe (z.B. Rechtsanwälte, Magistrate, usw).
A21: Der Bereich "Sonstige Lehrberechtigte" wurde bis zum Jahr 2012 als "Nichtkammer" bezeichnet.
A22: 2) Ausbildungseinrichtungen nach dem Berufsausbildungsgesetz
A23: (zB Überbetriebliche Lehrausbildungen im Auftrag des AMS, selbständige Ausbildungseinrichtungen).
A24: 3) Davon haben 1.496 Jugendliche einen Ausbildungsplatz in der Berufsausbildung gemäß §8b
A25: (1.250 in verlängerten Lehrausbildungen und 246 in Teilqualifizierungen;
A26: 573 werden in Unternehmungen und 923 in Einrichtungen ausgebildet).
A27: Rundungsdifferenzen wurden nicht ausgeglichen.
A28: Quelle: LEHRLINGSSTATISTIK 2025, Wirtschaftskammern Österreichs

Sheet LL_Zeitr_Sp_BDL
A4: LEHRLINGSSTATISTIK, Stichtag 31.12.
A5: Lehrlinge nach Sparten und Bundesländern 1980 - 2025
B7: Lehrlinge | J7: Lehrlinge | K7: Anteil in %
A8: Sparte | B8: 1980 | C8: 1990 | D8: 2000 | E8: 2010 | F8: 2020 | G8: 2022 | H8: 2023 | I8: 2024 | J8: 2025
A9: Gewerbe und Handwerk | B9: 102051 | C9: 76120 | D9: 67309 | E9: 57328 | F9: 46659 | G9: 46913 | H9: 46666 | I9: 45420 | J9: 43965 | K9: 42.735084
A10: Industrie | B10: 28668 | C10: 21815 | D10: 14557 | E10: 16352 | F10: 16389 | G10: 16428 | H10: 16804 | I10: 16937 | J10: 16169 | K10: 15.716674
A11: Handel | B11: 40536 | C11: 26352 | D11: 19517 | E11: 18688 | F11: 15105 | G11: 15193 | H11: 14763 | I11: 13823 | J11: 12760 | K11: 12.40304
A12: Bank und Versicherung | B12: 524 | C12: 687 | D12: 900 | E12: 1250 | F12: 1268 | G12: 1218 | H12: 1364 | I12: 1454 | J12: 1456 | K12: 1.4152686
A13: Transport und Verkehr | B13: 3001 | C13: 2689 | D13: 2269 | E13: 2724 | F13: 2786 | G13: 2856 | H13: 2981 | I13: 3032 | J13: 3021 | K13: 2.9364879
A14: Tourismus und Freizeitwirtschaft | B14: 16232 | C14: 13941 | D14: 13233 | E14: 12552 | F14: 7876 | G14: 6949 | H14: 7195 | I14: 7298 | J14: 7149 | K14: 6.9490076
A15: Information und Consulting | B15: - | C15: - | D15: - | E15: 2868 | F15: 2519 | G15: 2764 | H15: 2802 | I15: 2734 | J15: 2420 | K15: 2.3523008
A16: Alle Sparten | B16: 191012 | C16: 141604 | D16: 117785 | E16: 111762 | F16: 92602 | G16: 92321 | H16: 92575 | I16: 90698 | J16: 86940 | K16: 84.507864
A17: Sonstige 1) | B17: 3077 | C17: 3912 | D17: 8815 | E17: 18137 | F17: 15814 | G17: 15764 | H17: 15691 | I17: 15754 | J17: 15938 | K17: 15.492136
A18: INSGESAMT | B18: 194089 | C18: 145516 | D18: 126600 | E18: 129899 | F18: 108416 | G18: 108085 | H18: 108266 | I18: 106452 | J18: 102878 | K18: 100
B21: Lehrlinge | J21: Lehrlinge | K21: Anteil in %
A22: Bundesland | B22: 1980 | C22: 1990 | D22: 2000 | E22: 2010 | F22: 2020 | G22: 2022 | H22: 2023 | I22: 2024 | J22: 2025
A23: Burgenland | B23: 5215 | C23: 4044 | D23: 3119 | E23: 3039 | F23: 2567 | G23: 2547 | H23: 2557 | I23: 2504 | J23: 2346 | K23: 2.2803709
A24: Kärnten | B24: 15288 | C24: 11430 | D24: 9686 | E24: 9170 | F24: 7232 | G24: 7331 | H24: 7362 | I24: 7199 | J24: 6971 | K24: 6.7759871
A25: Niederösterreich | B25: 31428 | C25: 23379 | D25: 20183 | E25: 19814 | F25: 16943 | G25: 17412 | H25: 17311 | I25: 16986 | J25: 16421 | K25: 15.961624
A26: Oberösterreich | B26: 35514 | C26: 27793 | D26: 26855 | E26: 27591 | F26: 22861 | G26: 22678 | H26: 22521 | I26: 22159 | J26: 21390 | K26: 20.791617
A27: Salzburg | B27: 13819 | C27: 10814 | D27: 10003 | E27: 10308 | F27: 8344 | G27: 7981 | H27: 7989 | I27: 7820 | J27: 7545 | K27: 7.3339295
A28: Steiermark | B28: 35606 | C28: 25363 | D28: 20172 | E28: 19298 | F28: 15323 | G28: 15275 | H28: 15318 | I28: 14928 | J28: 14442 | K28: 14.037987
A29: Tirol | B29: 17094 | C29: 13116 | D29: 12377 | E29: 13359 | F29: 10666 | G29: 10408 | H29: 10258 | I29: 10125 | J29: 9700 | K29: 9.4286436
A30: Vorarlberg | B30: 9045 | C30: 7722 | D30: 7106 | E30: 8133 | F30: 7115 | G30: 6756 | H30: 6735 | I30: 6553 | J30: 6348 | K30: 6.1704154
A31: Wien | B31: 31080 | C31: 21855 | D31: 17099 | E31: 19187 | F31: 17365 | G31: 17697 | H31: 18215 | I31: 18178 | J31: 17715 | K31: 17.219425
A32: ÖSTERREICH | B32: 194089 | C32: 145516 | D32: 126600 | E32: 129899 | F32: 108416 | G32: 108085 | H32: 108266 | I32: 106452 | J32: 102878 | K32: 100
A35: 1) Lehrlinge die außerhalb des Wirtschaftskammerbereichs (zB Rechtsanwälte, Magistrate, usw) und in Ausbildungseinrichtungen nach dem
A36: Berufsausbildungsgesetz (zB im Auftrag des AMS und selbständigen Einrichtungen) tätig sind.
A37: Rundungsdifferenzen wurden nicht ausgeglichen.
A38: Quelle: LEHRLINGSSTATISTIK, Wirtschaftskammern Österreichs

Sheet LL_Sp_Lj_Gesch
A5: Lehrlingsstatistik 31.12.2025
A6: Lehrlinge nach Sparten, Lehrjahren und Geschlecht
A9: Sparte | B9: Lehrlinge | F9: 1. Lehrjahr | J9: 2. Lehrjahr | N9: 3. Lehrjahr | R9: 4. Lehrjahr
B10: gesamt | C10: m | D10: w | E10: x | F10: gesamt | G10: m | H10: w | I10: x | J10: gesamt | K10: m | L10: w | M10: x | N10: gesamt | O10: m | P10: w | Q10: x | R10: gesamt | S10: m | T10: w | U10: x
A11: Gewerbe und Handwerk | B11: 43965 | C11: 35596 | D11: 8366 | E11: 3 | F11: 12160 | G11: 9621 | H11: 2538 | I11: 1 | J11: 12629 | K11: 10009 | L11: 2620 | M11: 0 | N11: 12321 | O11: 9780 | P11: 2539 | Q11: 2 | R11: 6855 | S11: 6186 | T11: 669 | U11: 0
A12: Industrie | B12: 16169 | C12: 13064 | D12: 3104 | E12: 1 | F12: 3825 | G12: 3097 | H12: 728 | I12: 0 | J12: 4383 | K12: 3492 | L12: 891 | M12: 0 | N12: 4572 | O12: 3638 | P12: 933 | Q12: 1 | R12: 3389 | S12: 2837 | T12: 552 | U12: 0
A13: Handel | B13: 12760 | C13: 5827 | D13: 6930 | E13: 3 | F13: 4343 | G13: 2098 | H13: 2245 | I13: 0 | J13: 4220 | K13: 1856 | L13: 2362 | M13: 2 | N13: 4055 | O13: 1767 | P13: 2287 | Q13: 1 | R13: 142 | S13: 106 | T13: 36 | U13: 0
A14: Bank und Versicherung | B14: 1456 | C14: 664 | D14: 792 | E14: 0 | F14: 409 | G14: 177 | H14: 232 | I14: 0 | J14: 526 | K14: 248 | L14: 278 | M14: 0 | N14: 517 | O14: 236 | P14: 281 | Q14: 0 | R14: 4 | S14: 3 | T14: 1 | U14: 0
A15: Transport und Verkehr | B15: 3021 | C15: 2196 | D15: 825 | E15: 0 | F15: 876 | G15: 632 | H15: 244 | I15: 0 | J15: 871 | K15: 625 | L15: 246 | M15: 0 | N15: 959 | O15: 664 | P15: 295 | Q15: 0 | R15: 315 | S15: 275 | T15: 40 | U15: 0
A16: Tourismus und Freizeitwirtschaft | B16: 7149 | C16: 3375 | D16: 3772 | E16: 2 | F16: 2392 | G16: 1155 | H16: 1235 | I16: 2 | J16: 2332 | K16: 1144 | L16: 1188 | M16: 0 | N16: 2111 | O16: 945 | P16: 1166 | Q16: 0 | R16: 314 | S16: 131 | T16: 183 | U16: 0
A17: Information und Consulting | B17: 2420 | C17: 1529 | D17: 891 | E17: 0 | F17: 574 | G17: 328 | H17: 246 | I17: 0 | J17: 740 | K17: 448 | L17: 292 | M17: 0 | N17: 723 | O17: 434 | P17: 289 | Q17: 0 | R17: 383 | S17: 319 | T17: 64 | U17: 0
A18: Sonstige Lehrberechtigte 1) | B18: 10040 | C18: 3832 | D18: 6203 | E18: 5 | F18: 2967 | G18: 1104 | H18: 1862 | I18: 1 | J18: 3300 | K18: 1151 | L18: 2146 | M18: 3 | N18: 3211 | O18: 1122 | P18: 2088 | Q18: 1 | R18: 562 | S18: 455 | T18: 107 | U18: 0
A19: Summe in Ausbildungsbetrieben | B19: 96980 | C19: 66083 | D19: 30883 | E19: 14 | F19: 27546 | G19: 18212 | H19: 9330 | I19: 4 | J19: 29001 | K19: 18973 | L19: 10023 | M19: 5 | N19: 28469 | O19: 18586 | P19: 9878 | Q19: 5 | R19: 11964 | S19: 10312 | T19: 1652 | U19: 0
A20: Überbetriebliche Lehrausbildung2) | B20: 5898 | C20: 3934 | D20: 1962 | E20: 2 | F20: 3106 | G20: 2044 | H20: 1061 | I20: 1 | J20: 1440 | K20: 994 | L20: 446 | M20: 0 | N20: 1149 | O20: 736 | P20: 412 | Q20: 1 | R20: 203 | S20: 160 | T20: 43 | U20: 0
A21: INSGESAMT 3) | B21: 102878 | C21: 70017 | D21: 32845 | E21: 16 | F21: 30652 | G21: 20256 | H21: 10391 | I21: 5 | J21: 30441 | K21: 19967 | L21: 10469 | M21: 5 | N21: 29618 | O21: 19322 | P21: 10290 | Q21: 6 | R21: 12167 | S21: 10472 | T21: 1695 | U21: 0
A23: 1) Nicht der Kammer der gewerblichen Wirtschaft zugehörige Betriebe (zB Rechtsanwälte, Magistrate, usw). Der Bereich "Sonstige Lehrberechtigte" wurde bis zum Jahr 2012
A24: als "Nichtkammer" bezeichnet.
A25: 2) Ausbildungseinrichtungen nach dem Berufsausbildungsgesetz (zB Überbetriebliche Lehrausbildungen im Auftrag des AMS, selbständige Ausbildungseinrichtungen).
A26: 3) Davon haben 8.362 Jugendliche einen Ausbildungsplatz in der Berufsausbildung gemäß §8b (7.091 in verlängerten Lehrausbildungen und 1.271 in
A27: Teilqualifizierungen; 6.243 werden in Unternehmungen und 2.119 in Einrichtungen ausgebildet).
A28: m=männlich, w=weiblich, x=weitere, siehe | D28: www.wko.at/x
A29: Quelle: LEHRLINGSSTATISTIK 2025, Wirtschaftskammern Österreichs

Sheet LL_BDL_Lj_Gesch
A5: Lehrlingsstatistik 31.12.2025
A6: Lehrlinge nach Bundesländern, Lehrjahren und Geschlecht
A9: Bundesland | B9: Lehrlinge | F9: 1. Lehrjahr | J9: 2. Lehrjahr | N9: 3. Lehrjahr | R9: 4. Lehrjahr
B10: gesamt | C10: m | D10: w | E10: x | F10: gesamt | G10: m | H10: w | I10: x | J10: gesamt | K10: m | L10: w | M10: x | N10: gesamt | O10: m | P10: w | Q10: x | R10: gesamt | S10: m | T10: w | U10: x
A11: Burgenland | B11: 2346 | C11: 1652 | D11: 694 | E11: 0 | F11: 726 | G11: 498 | H11: 228 | I11: 0 | J11: 624 | K11: 407 | L11: 217 | M11: 0 | N11: 688 | O11: 475 | P11: 213 | Q11: 0 | R11: 308 | S11: 272 | T11: 36 | U11: 0
A12: Kärnten | B12: 6971 | C12: 4637 | D12: 2332 | E12: 2 | F12: 2043 | G12: 1340 | H12: 703 | I12: 0 | J12: 2030 | K12: 1274 | L12: 756 | M12: 0 | N12: 2087 | O12: 1342 | P12: 743 | Q12: 2 | R12: 811 | S12: 681 | T12: 130 | U12: 0
A13: Niederösterreich | B13: 16421 | C13: 11835 | D13: 4584 | E13: 2 | F13: 4911 | G13: 3425 | H13: 1485 | I13: 1 | J13: 4794 | K13: 3376 | L13: 1417 | M13: 1 | N13: 4651 | O13: 3210 | P13: 1441 | Q13: 0 | R13: 2065 | S13: 1824 | T13: 241 | U13: 0
A14: Oberösterreich | B14: 21390 | C14: 14683 | D14: 6706 | E14: 1 | F14: 6015 | G14: 3935 | H14: 2080 | I14: 0 | J14: 6205 | K14: 4104 | L14: 2100 | M14: 1 | N14: 6147 | O14: 4046 | P14: 2101 | Q14: 0 | R14: 3023 | S14: 2598 | T14: 425 | U14: 0
A15: Salzburg | B15: 7545 | C15: 4995 | D15: 2549 | E15: 1 | F15: 2194 | G15: 1392 | H15: 801 | I15: 1 | J15: 2324 | K15: 1477 | L15: 847 | M15: 0 | N15: 2212 | O15: 1411 | P15: 801 | Q15: 0 | R15: 815 | S15: 715 | T15: 100 | U15: 0
A16: Steiermark | B16: 14442 | C16: 9926 | D16: 4510 | E16: 6 | F16: 4292 | G16: 2890 | H16: 1400 | I16: 2 | J16: 4231 | K16: 2809 | L16: 1422 | M16: 0 | N16: 4032 | O16: 2639 | P16: 1389 | Q16: 4 | R16: 1887 | S16: 1588 | T16: 299 | U16: 0
A17: Tirol | B17: 9700 | C17: 6679 | D17: 3021 | E17: 0 | F17: 2735 | G17: 1804 | H17: 931 | I17: 0 | J17: 2990 | K17: 1997 | L17: 993 | M17: 0 | N17: 2858 | O17: 1909 | P17: 949 | Q17: 0 | R17: 1117 | S17: 969 | T17: 148 | U17: 0
A18: Vorarlberg | B18: 6348 | C18: 4433 | D18: 1915 | E18: 0 | F18: 1715 | G18: 1219 | H18: 496 | I18: 0 | J18: 1930 | K18: 1267 | L18: 663 | M18: 0 | N18: 1871 | O18: 1238 | P18: 633 | Q18: 0 | R18: 832 | S18: 709 | T18: 123 | U18: 0
A19: Wien | B19: 17715 | C19: 11177 | D19: 6534 | E19: 4 | F19: 6021 | G19: 3753 | H19: 2267 | I19: 1 | J19: 5313 | K19: 3256 | L19: 2054 | M19: 3 | N19: 5072 | O19: 3052 | P19: 2020 | Q19: 0 | R19: 1309 | S19: 1116 | T19: 193 | U19: 0
A20: ÖSTERREICH 1) | B20: 102878 | C20: 70017 | D20: 32845 | E20: 16 | F20: 30652 | G20: 20256 | H20: 10391 | I20: 5 | J20: 30441 | K20: 19967 | L20: 10469 | M20: 5 | N20: 29618 | O20: 19322 | P20: 10290 | Q20: 6 | R20: 12167 | S20: 10472 | T20: 1695 | U20: 0
A22: 1) Davon haben 8.362 Jugendliche einen Ausbildungsplatz in der Berufsausbildung gemäß §8b (7.091 in verlängerten Lehrausbildungen und 1.271 in Teilqualifizierungen;
A23: 6.243 werden in Unternehmungen und 2.119 in Einrichtungen ausgebildet).
A24: m=männlich, w=weiblich, x=weitere, siehe | E24: www.wko.at/x
A25: Quelle: LEHRLINGSSTATISTIK 2025, Wirtschaftskammern Österreichs

Sheet LL_Zeitr_1Lj_Sp
A4: LEHRLINGSSTATISTIK, Stichtag 31.12.
A5: Lehrlinge im 1. Lehrjahr nach Sparten 2005 - 2025
A6: Österreich
B8: Lehrlinge im 1. Lehrjahr | J8: Veränderung
A9: Sparte | B9: 2005 | C9: 2010 | D9: 2015 | E9: 2020 | F9: 2022 | G9: 2023 | H9: 2024 | I9: 2025 | J9: zum Vorjahr in %
A10: Gewerbe und Handwerk | B10: 17985 | C10: 16279 | D10: 12594 | E10: 12986 | F10: 13976 | G10: 13481 | H10: 12579 | I10: 12160 | J10: -3.3309484
A11: Industrie | B11: 4091 | C11: 4036 | D11: 3851 | E11: 3975 | F11: 4734 | G11: 4849 | H11: 4448 | I11: 3825 | J11: -14.006295
A12: Handel | B12: 6368 | C12: 6262 | D12: 5009 | E12: 4910 | F12: 5451 | G12: 4915 | H12: 4624 | I12: 4343 | J12: -6.0769896
A13: Bank und Versicherung | B13: 306 | C13: 361 | D13: 301 | E13: 331 | F13: 381 | G13: 471 | H13: 437 | I13: 409 | J13: -6.4073227
A14: Transport und Verkehr | B14: 560 | C14: 775 | D14: 709 | E14: 725 | F14: 873 | G14: 926 | H14: 863 | I14: 876 | J14: 1.5063731
A15: Tourismus und Freizeitwirtschaft | B15: 4964 | C15: 4078 | D15: 2936 | E15: 1947 | F15: 2758 | G15: 2541 | H15: 2450 | I15: 2392 | J15: -2.3673469
A16: Information und Consulting | B16: 747 | C16: 773 | D16: 542 | E16: 637 | F16: 884 | G16: 746 | H16: 692 | I16: 574 | J16: -17.052023
A17: Sonstige Lehrberechtigte 1) | B17: 2567 | C17: 2538 | D17: 2256 | E17: 2739 | F17: 3007 | G17: 3182 | H17: 3105 | I17: 2967 | J17: -4.4444444
A18: Summe in Ausbildungsbetrieben | B18: 37588 | C18: 35102 | D18: 28198 | E18: 28250 | F18: 32064 | G18: 31111 | H18: 29198 | I18: 27546 | J18: -5.6579218
A19: Überbetriebliche Lehrausbildung 2) | B19: 964 | C19: 4659 | D19: 4286 | E19: 3719 | F19: 3169 | G19: 2971 | H19: 2921 | I19: 3106 | J19: 6.3334474
A20: INSGESAMT | B20: 38552 | C20: 39761 | D20: 32484 | E20: 31969 | F20: 35233 | G20: 34082 | H20: 32119 | I20: 30652 | J20: -4.56739
A22: 1) Nicht der Kammer der gewerblichen Wirtschaft zugehörige Betriebe (zB Rechtsanwälte, Magistrate, usw).
A23: Der Bereich "Sonstige Lehrberechtigte" wurde bis zum Jahr 2012 als "Nichtkammer" bezeichnet.
A24: 2) Ausbildungseinrichtungen nach dem Berufsausbildungsgesetz (zB Überbetriebliche Lehrausbildungen im Auftrag des AMS, selbständige Ausbildungseinrichtungen).
A26: Quelle: LEHRLINGSSTATISTIK, Wirtschaftskammern Österreichs

Sheet LL_Zeitr_1Lj_Sp B
A4: LEHRLINGSSTATISTIK, Stichtag 31.12.
A5: Lehrlinge im 1. Lehrjahr nach Sparten 2005 - 2025
A6: Burgenland
B8: Lehrlinge im 1. Lehrjahr | J8: Veränderung
A9: Sparte | B9: 2005 | C9: 2010 | D9: 2015 | E9: 2020 | F9: 2022 | G9: 2023 | H9: 2024 | I9: 2025 | J9: zum Vorjahr in %
A10: Gewerbe und Handwerk | B10: 496 | C10: 393 | D10: 308 | E10: 328 | F10: 410 | G10: 377 | H10: 284 | I10: 281 | J10: -1.056338
A11: Industrie | B11: 46 | C11: 41 | D11: 44 | E11: 36 | F11: 83 | G11: 83 | H11: 62 | I11: 43 | J11: -30.645161
A12: Handel | B12: 122 | C12: 116 | D12: 100 | E12: 121 | F12: 107 | G12: 95 | H12: 113 | I12: 102 | J12: -9.7345133
A13: Bank und Versicherung | B13: 5 | C13: 3 | D13: 6 | E13: 7 | F13: 8 | G13: 6 | H13: 10 | I13: 7 | J13: -30
A14: Transport und Verkehr | B14: 2 | C14: 2 | D14: 0 | E14: 2 | F14: 1 | G14: 1 | H14: 3 | I14: 1 | J14: -66.666667
A15: Tourismus und Freizeitwirtschaft | B15: 96 | C15: 87 | D15: 73 | E15: 44 | F15: 60 | G15: 56 | H15: 46 | I15: 73 | J15: 58.695652
A16: Information und Consulting | B16: 8 | C16: 8 | D16: 7 | E16: 5 | F16: 6 | G16: 13 | H16: 7 | I16: 7 | J16: 0
A17: Sonstige Lehrberechtigte 1) | B17: 69 | C17: 33 | D17: 76 | E17: 46 | F17: 73 | G17: 56 | H17: 64 | I17: 58 | J17: -9.375
A18: Summe in Ausbildungsbetrieben | B18: 844 | C18: 683 | D18: 614 | E18: 589 | F18: 748 | G18: 687 | H18: 589 | I18: 572 | J18: -2.8862479
A19: Überbetriebliche Lehrausbildung 2) | B19: 20 | C19: 217 | D19: 184 | E19: 195 | F19: 169 | G19: 150 | H19: 160 | I19: 154 | J19: -3.75
A20: INSGESAMT | B20: 864 | C20: 900 | D20: 798 | E20: 784 | F20: 917 | G20: 837 | H20: 749 | I20: 726 | J20: -3.070761
A22: 1) Nicht der Kammer der gewerblichen Wirtschaft zugehörige Betriebe (zB Rechtsanwälte, Magistrate, usw).
A23: Der Bereich "Sonstige Lehrberechtigte" wurde bis zum Jahr 2012 als "Nichtkammer" bezeichnet.
A24: 2) Ausbildungseinrichtungen nach dem Berufsausbildungsgesetz (zB Überbetriebliche Lehrausbildungen im Auftrag des AMS, selbständige Ausbildungseinrichtungen).
A26: Quelle: LEHRLINGSSTATISTIK, Wirtschaftskammern Österreichs

Sheet LL_Zeitr_1Lj_Sp K
A4: LEHRLINGSSTATISTIK, Stichtag 31.12.
A5: Lehrlinge im 1. Lehrjahr nach Sparten 2005 - 2025
A6: Kärnten
B8: Lehrlinge im 1. Lehrjahr | J8: Veränderung
A9: Sparte | B9: 2005 | C9: 2010 | D9: 2015 | E9: 2020 | F9: 2022 | G9: 2023 | H9: 2024 | I9: 2025 | J9: zum Vorjahr in %
A10: Gewerbe und Handwerk | B10: 1350 | C10: 1229 | D10: 914 | E10: 938 | F10: 1075 | G10: 1111 | H10: 980 | I10: 882 | J10: -10
A11: Industrie | B11: 281 | C11: 281 | D11: 223 | E11: 224 | F11: 299 | G11: 310 | H11: 301 | I11: 269 | J11: -10.631229
A12: Handel | B12: 527 | C12: 526 | D12: 394 | E12: 420 | F12: 367 | G12: 364 | H12: 321 | I12: 306 | J12: -4.6728972
A13: Bank und Versicherung | B13: 12 | C13: 20 | D13: 8 | E13: 11 | F13: 19 | G13: 23 | H13: 25 | I13: 33 | J13: 32
A14: Transport und Verkehr | B14: 4 | C14: 21 | D14: 12 | E14: 24 | F14: 26 | G14: 32 | H14: 26 | I14: 14 | J14: -46.153846
A15: Tourismus und Freizeitwirtschaft | B15: 430 | C15: 366 | D15: 283 | E15: 203 | F15: 242 | G15: 234 | H15: 206 | I15: 211 | J15: 2.4271845
A16: Information und Consulting | B16: 68 | C16: 46 | D16: 30 | E16: 36 | F16: 51 | G16: 33 | H16: 28 | I16: 37 | J16: 32.142857
A17: Sonstige Lehrberechtigte 1) | B17: 176 | C17: 144 | D17: 121 | E17: 143 | F17: 180 | G17: 182 | H17: 184 | I17: 158 | J17: -14.130435
A18: Summe in Ausbildungsbetrieben | B18: 2848 | C18: 2633 | D18: 1985 | E18: 1999 | F18: 2259 | G18: 2289 | H18: 2071 | I18: 1910 | J18: -7.7740222
A19: Überbetriebliche Lehrausbildung 2) | B19: 38 | C19: 217 | D19: 240 | E19: 188 | F19: 130 | G19: 104 | H19: 94 | I19: 133 | J19: 41.489362
A20: INSGESAMT | B20: 2886 | C20: 2850 | D20: 2225 | E20: 2187 | F20: 2389 | G20: 2393 | H20: 2165 | I20: 2043 | J20: -5.6351039
A22: 1) Nicht der Kammer der gewerblichen Wirtschaft zugehörige Betriebe (zB Rechtsanwälte, Magistrate, usw).
A23: Der Bereich "Sonstige Lehrberechtigte" wurde bis zum Jahr 2012 als "Nichtkammer" bezeichnet.
A24: 2) Ausbildungseinrichtungen nach dem Berufsausbildungsgesetz (zB Überbetriebliche Lehrausbildungen im Auftrag des AMS, selbständige Ausbildungseinrichtungen).
A26: Quelle: LEHRLINGSSTATISTIK, Wirtschaftskammern Österreichs

Sheet LL_Zeitr_1Lj_Sp NÖ
A4: LEHRLINGSSTATISTIK, Stichtag 31.12.
A5: Lehrlinge im 1. Lehrjahr nach Sparten 2005 - 2025
A6: Niederösterreich
B8: Lehrlinge im 1. Lehrjahr | J8: Veränderung
A9: Sparte | B9: 2005 | C9: 2010 | D9: 2015 | E9: 2020 | F9: 2022 | G9: 2023 | H9: 2024 | I9: 2025 | J9: zum Vorjahr in %
A10: Gewerbe und Handwerk | B10: 2946 | C10: 2645 | D10: 1980 | E10: 2243 | F10: 2519 | G10: 2365 | H10: 2247 | I10: 2247 | J10: 0
A11: Industrie | B11: 619 | C11: 641 | D11: 547 | E11: 635 | F11: 741 | G11: 736 | H11: 704 | I11: 591 | J11: -16.051136
A12: Handel | B12: 907 | C12: 881 | D12: 735 | E12: 745 | F12: 939 | G12: 781 | H12: 755 | I12: 682 | J12: -9.6688742
A13: Bank und Versicherung | B13: 27 | C13: 28 | D13: 25 | E13: 36 | F13: 41 | G13: 53 | H13: 53 | I13: 37 | J13: -30.188679
A14: Transport und Verkehr | B14: 43 | C14: 87 | D14: 181 | E14: 161 | F14: 157 | G14: 154 | H14: 162 | I14: 184 | J14: 13.580247
A15: Tourismus und Freizeitwirtschaft | B15: 665 | C15: 487 | D15: 297 | E15: 237 | F15: 360 | G15: 301 | H15: 297 | I15: 280 | J15: -5.7239057
A16: Information und Consulting | B16: 96 | C16: 84 | D16: 61 | E16: 63 | F16: 101 | G16: 73 | H16: 64 | I16: 59 | J16: -7.8125
A17: Sonstige Lehrberechtigte 1) | B17: 234 | C17: 214 | D17: 216 | E17: 335 | F17: 441 | G17: 473 | H17: 390 | I17: 409 | J17: 4.8717949
A18: Summe in Ausbildungsbetrieben | B18: 5537 | C18: 5067 | D18: 4042 | E18: 4455 | F18: 5299 | G18: 4936 | H18: 4672 | I18: 4489 | J18: -3.9169521
A19: Überbetriebliche Lehrausbildung 2) | B19: 202 | C19: 1105 | D19: 948 | E19: 505 | F19: 365 | G19: 297 | H19: 379 | I19: 422 | J19: 11.345646
A20: INSGESAMT | B20: 5739 | C20: 6172 | D20: 4990 | E20: 4960 | F20: 5664 | G20: 5233 | H20: 5051 | I20: 4911 | J20: -2.7717284
A22: 1) Nicht der Kammer der gewerblichen Wirtschaft zugehörige Betriebe (zB Rechtsanwälte, Magistrate, usw).
A23: Der Bereich "Sonstige Lehrberechtigte" wurde bis zum Jahr 2012 als "Nichtkammer" bezeichnet.
A24: 2) Ausbildungseinrichtungen nach dem Berufsausbildungsgesetz (zB Überbetriebliche Lehrausbildungen im Auftrag des AMS, selbständige Ausbildungseinrichtungen).
A26: Quelle: LEHRLINGSSTATISTIK, Wirtschaftskammern Österreichs

Sheet LL_Zeitr_1Lj_Sp OÖ
A4: LEHRLINGSSTATISTIK, Stichtag 31.12.
A5: Lehrlinge im 1. Lehrjahr nach Sparten 2005 - 2025
A6: Oberösterreich
B8: Lehrlinge im 1. Lehrjahr | J8: Veränderung
A9: Sparte | B9: 2005 | C9: 2010 | D9: 2015 | E9: 2020 | F9: 2022 | G9: 2023 | H9: 2024 | I9: 2025 | J9: zum Vorjahr in %
A10: Gewerbe und Handwerk | B10: 3884 | C10: 3550 | D10: 2678 | E10: 2658 | F10: 2891 | G10: 2661 | H10: 2505 | I10: 2399 | J10: -4.2315369
A11: Industrie | B11: 1183 | C11: 1106 | D11: 1176 | E11: 1244 | F11: 1491 | G11: 1525 | H11: 1318 | I11: 1157 | J11: -12.215478
A12: Handel | B12: 1366 | C12: 1317 | D12: 1019 | E12: 942 | F12: 1033 | G12: 936 | H12: 915 | I12: 896 | J12: -2.0765027
A13: Bank und Versicherung | B13: 64 | C13: 73 | D13: 58 | E13: 77 | F13: 87 | G13: 101 | H13: 88 | I13: 78 | J13: -11.363636
A14: Transport und Verkehr | B14: 164 | C14: 184 | D14: 132 | E14: 135 | F14: 186 | G14: 186 | H14: 186 | I14: 215 | J14: 15.591398
A15: Tourismus und Freizeitwirtschaft | B15: 794 | C15: 616 | D15: 441 | E15: 299 | F15: 393 | G15: 338 | H15: 346 | I15: 378 | J15: 9.2485549
A16: Information und Consulting | B16: 173 | C16: 138 | D16: 110 | E16: 132 | F16: 198 | G16: 179 | H16: 144 | I16: 129 | J16: -10.416667
A17: Sonstige Lehrberechtigte 1) | B17: 555 | C17: 491 | D17: 485 | E17: 614 | F17: 577 | G17: 623 | H17: 652 | I17: 587 | J17: -9.9693252
A18: Summe in Ausbildungsbetrieben | B18: 8183 | C18: 7475 | D18: 6099 | E18: 6101 | F18: 6856 | G18: 6549 | H18: 6154 | I18: 5839 | J18: -5.118622
A19: Überbetriebliche Lehrausbildung 2) | B19: 123 | C19: 535 | D19: 609 | E19: 488 | F19: 242 | G19: 230 | H19: 193 | I19: 176 | J19: -8.8082902
A20: INSGESAMT | B20: 8306 | C20: 8010 | D20: 6708 | E20: 6589 | F20: 7098 | G20: 6779 | H20: 6347 | I20: 6015 | J20: -5.2308177
A22: 1) Nicht der Kammer der gewerblichen Wirtschaft zugehörige Betriebe (zB Rechtsanwälte, Magistrate, usw).
A23: Der Bereich "Sonstige Lehrberechtigte" wurde bis zum Jahr 2012 als "Nichtkammer" bezeichnet.
A24: 2) Ausbildungseinrichtungen nach dem Berufsausbildungsgesetz (zB Überbetriebliche Lehrausbildungen im Auftrag des AMS, selbständige Ausbildungseinrichtungen).
A26: Quelle: LEHRLINGSSTATISTIK, Wirtschaftskammern Österreichs

Sheet LL_Zeitr_1Lj_Sp S
A4: LEHRLINGSSTATISTIK, Stichtag 31.12.
A5: Lehrlinge im 1. Lehrjahr nach Sparten 2005 - 2025
A6: Salzburg
B8: Lehrlinge im 1. Lehrjahr | J8: Veränderung
A9: Sparte | B9: 2005 | C9: 2010 | D9: 2015 | E9: 2020 | F9: 2022 | G9: 2023 | H9: 2024 | I9: 2025 | J9: zum Vorjahr in %
A10: Gewerbe und Handwerk | B10: 1428 | C10: 1400 | D10: 1053 | E10: 1058 | F10: 1072 | G10: 1019 | H10: 980 | I10: 947 | J10: -3.3673469
A11: Industrie | B11: 196 | C11: 200 | D11: 162 | E11: 170 | F11: 170 | G11: 174 | H11: 203 | I11: 161 | J11: -20.689655
A12: Handel | B12: 627 | C12: 554 | D12: 403 | E12: 412 | F12: 431 | G12: 414 | H12: 379 | I12: 349 | J12: -7.9155673
A13: Bank und Versicherung | B13: 31 | C13: 28 | D13: 36 | E13: 29 | F13: 43 | G13: 44 | H13: 43 | I13: 57 | J13: 32.55814
A14: Transport und Verkehr | B14: 46 | C14: 56 | D14: 37 | E14: 41 | F14: 63 | G14: 73 | H14: 67 | I14: 66 | J14: -1.4925373
A15: Tourismus und Freizeitwirtschaft | B15: 564 | C15: 476 | D15: 345 | E15: 195 | F15: 264 | G15: 249 | H15: 262 | I15: 256 | J15: -2.2900763
A16: Information und Consulting | B16: 72 | C16: 73 | D16: 57 | E16: 65 | F16: 80 | G16: 74 | H16: 58 | I16: 41 | J16: -29.310345
A17: Sonstige Lehrberechtigte 1) | B17: 165 | C17: 170 | D17: 164 | E17: 196 | F17: 276 | G17: 250 | H17: 223 | I17: 258 | J17: 15.695067
A18: Summe in Ausbildungsbetrieben | B18: 3129 | C18: 2957 | D18: 2257 | E18: 2166 | F18: 2399 | G18: 2297 | H18: 2215 | I18: 2135 | J18: -3.6117381
A19: Überbetriebliche Lehrausbildung 2) | B19: 0 | C19: 35 | D19: 44 | E19: 53 | F19: 53 | G19: 51 | H19: 52 | I19: 59 | J19: 13.461538
A20: INSGESAMT | B20: 3129 | C20: 2992 | D20: 2301 | E20: 2219 | F20: 2452 | G20: 2348 | H20: 2267 | I20: 2194 | J20: -3.2201147
A22: 1) Nicht der Kammer der gewerblichen Wirtschaft zugehörige Betriebe (zB Rechtsanwälte, Magistrate, usw).
A23: Der Bereich "Sonstige Lehrberechtigte" wurde bis zum Jahr 2012 als "Nichtkammer" bezeichnet.
A24: 2) Ausbildungseinrichtungen nach dem Berufsausbildungsgesetz (zB Überbetriebliche Lehrausbildungen im Auftrag des AMS, selbständige Ausbildungseinrichtungen).
A26: Quelle: LEHRLINGSSTATISTIK, Wirtschaftskammern Österreichs

Sheet LL_Zeitr_1Lj_Sp ST
A4: LEHRLINGSSTATISTIK, Stichtag 31.12.
A5: Lehrlinge im 1. Lehrjahr nach Sparten 2005 - 2025
A6: Steiermark
B8: Lehrlinge im 1. Lehrjahr | J8: Veränderung
A9: Sparte | B9: 2005 | C9: 2010 | D9: 2015 | E9: 2020 | F9: 2022 | G9: 2023 | H9: 2024 | I9: 2025 | J9: zum Vorjahr in %
A10: Gewerbe und Handwerk | B10: 2696 | C10: 2377 | D10: 1878 | E10: 2005 | F10: 2112 | G10: 1999 | H10: 1881 | I10: 1849 | J10: -1.7012228
A11: Industrie | B11: 793 | C11: 735 | D11: 709 | E11: 658 | F11: 828 | G11: 892 | H11: 800 | I11: 678 | J11: -15.25
A12: Handel | B12: 804 | C12: 792 | D12: 664 | E12: 630 | F12: 719 | G12: 673 | H12: 582 | I12: 586 | J12: 0.68728522
A13: Bank und Versicherung | B13: 29 | C13: 32 | D13: 25 | E13: 22 | F13: 30 | G13: 46 | H13: 30 | I13: 38 | J13: 26.666667
A14: Transport und Verkehr | B14: 46 | C14: 49 | D14: 37 | E14: 36 | F14: 55 | G14: 43 | H14: 59 | I14: 40 | J14: -32.20339
A15: Tourismus und Freizeitwirtschaft | B15: 701 | C15: 573 | D15: 422 | E15: 285 | F15: 304 | G15: 306 | H15: 344 | I15: 311 | J15: -9.5930233
A16: Information und Consulting | B16: 67 | C16: 95 | D16: 50 | E16: 83 | F16: 128 | G16: 85 | H16: 119 | I16: 72 | J16: -39.495798
A17: Sonstige Lehrberechtigte 1) | B17: 447 | C17: 419 | D17: 335 | E17: 377 | F17: 388 | G17: 440 | H17: 420 | I17: 430 | J17: 2.3809524
A18: Summe in Ausbildungsbetrieben | B18: 5583 | C18: 5072 | D18: 4120 | E18: 4096 | F18: 4564 | G18: 4484 | H18: 4235 | I18: 4004 | J18: -5.4545455
A19: Überbetriebliche Lehrausbildung 2) | B19: 195 | C19: 694 | D19: 519 | E19: 255 | F19: 268 | G19: 303 | H19: 299 | I19: 288 | J19: -3.6789298
A20: INSGESAMT | B20: 5778 | C20: 5766 | D20: 4639 | E20: 4351 | F20: 4832 | G20: 4787 | H20: 4534 | I20: 4292 | J20: -5.3374504
A22: 1) Nicht der Kammer der gewerblichen Wirtschaft zugehörige Betriebe (zB Rechtsanwälte, Magistrate, usw).
A23: Der Bereich "Sonstige Lehrberechtigte" wurde bis zum Jahr 2012 als "Nichtkammer" bezeichnet.
A24: 2) Ausbildungseinrichtungen nach dem Berufsausbildungsgesetz (zB Überbetriebliche Lehrausbildungen im Auftrag des AMS, selbständige Ausbildungseinrichtungen).
A26: Quelle: LEHRLINGSSTATISTIK, Wirtschaftskammern Österreichs

Sheet LL_Zeitr_1Lj_Sp T
A4: LEHRLINGSSTATISTIK, Stichtag 31.12.
A5: Lehrlinge im 1. Lehrjahr nach Sparten 2005 - 2025
A6: Tirol
B8: Lehrlinge im 1. Lehrjahr | J8: Veränderung
A9: Sparte | B9: 2005 | C9: 2010 | D9: 2015 | E9: 2020 | F9: 2022 | G9: 2023 | H9: 2024 | I9: 2025 | J9: zum Vorjahr in %
A10: Gewerbe und Handwerk | B10: 2026 | C10: 1809 | D10: 1529 | E10: 1472 | F10: 1512 | G10: 1492 | H10: 1405 | I10: 1279 | J10: -8.9679715
A11: Industrie | B11: 345 | C11: 329 | D11: 331 | E11: 343 | F11: 352 | G11: 367 | H11: 329 | I11: 278 | J11: -15.50152
A12: Handel | B12: 757 | C12: 756 | D12: 596 | E12: 503 | F12: 536 | G12: 438 | H12: 380 | I12: 372 | J12: -2.1052632
A13: Bank und Versicherung | B13: 28 | C13: 38 | D13: 29 | E13: 28 | F13: 26 | G13: 44 | H13: 44 | I13: 37 | J13: -15.909091
A14: Transport und Verkehr | B14: 26 | C14: 55 | D14: 59 | E14: 62 | F14: 89 | G14: 87 | H14: 90 | I14: 89 | J14: -1.1111111
A15: Tourismus und Freizeitwirtschaft | B15: 818 | C15: 616 | D15: 399 | E15: 282 | F15: 337 | G15: 320 | H15: 309 | I15: 327 | J15: 5.8252427
A16: Information und Consulting | B16: 47 | C16: 78 | D16: 57 | E16: 58 | F16: 67 | G16: 42 | H16: 55 | I16: 44 | J16: -20
A17: Sonstige Lehrberechtigte 1) | B17: 158 | C17: 186 | D17: 185 | E17: 214 | F17: 237 | G17: 251 | H17: 290 | I17: 262 | J17: -9.6551724
A18: Summe in Ausbildungsbetrieben | B18: 4205 | C18: 3867 | D18: 3185 | E18: 2962 | F18: 3156 | G18: 3041 | H18: 2902 | I18: 2688 | J18: -7.3742247
A19: Überbetriebliche Lehrausbildung 2) | B19: 41 | C19: 261 | D19: 159 | E19: 39 | F19: 35 | G19: 39 | H19: 41 | I19: 47 | J19: 14.634146
A20: INSGESAMT | B20: 4246 | C20: 4128 | D20: 3344 | E20: 3001 | F20: 3191 | G20: 3080 | H20: 2943 | I20: 2735 | J20: -7.0676181
A22: 1) Nicht der Kammer der gewerblichen Wirtschaft zugehörige Betriebe (zB Rechtsanwälte, Magistrate, usw).
A23: Der Bereich "Sonstige Lehrberechtigte" wurde bis zum Jahr 2012 als "Nichtkammer" bezeichnet.
A24: 2) Ausbildungseinrichtungen nach dem Berufsausbildungsgesetz (zB Überbetriebliche Lehrausbildungen im Auftrag des AMS, selbständige Ausbildungseinrichtungen).
A26: Quelle: LEHRLINGSSTATISTIK, Wirtschaftskammern Österreichs

Sheet LL_Zeitr_1Lj_Sp V
A4: LEHRLINGSSTATISTIK, Stichtag 31.12.
A5: Lehrlinge im 1. Lehrjahr nach Sparten 2005 - 2025
A6: Vorarlberg
B8: Lehrlinge im 1. Lehrjahr | J8: Veränderung
A9: Sparte | B9: 2005 | C9: 2010 | D9: 2015 | E9: 2020 | F9: 2022 | G9: 2023 | H9: 2024 | I9: 2025 | J9: zum Vorjahr in %
A10: Gewerbe und Handwerk | B10: 1139 | C10: 1114 | D10: 934 | E10: 859 | F10: 847 | G10: 871 | H10: 802 | I10: 746 | J10: -6.9825436
A11: Industrie | B11: 287 | C11: 367 | D11: 412 | E11: 387 | F11: 428 | G11: 416 | H11: 412 | I11: 367 | J11: -10.92233
A12: Handel | B12: 379 | C12: 392 | D12: 305 | E12: 274 | F12: 296 | G12: 291 | H12: 245 | I12: 191 | J12: -22.040816
A13: Bank und Versicherung | B13: 19 | C13: 23 | D13: 17 | E13: 16 | F13: 21 | G13: 24 | H13: 24 | I13: 19 | J13: -20.833333
A14: Transport und Verkehr | B14: 28 | C14: 36 | D14: 42 | E14: 58 | F14: 70 | G14: 65 | H14: 46 | I14: 49 | J14: 6.5217391
A15: Tourismus und Freizeitwirtschaft | B15: 332 | C15: 296 | D15: 178 | E15: 137 | F15: 141 | G15: 161 | H15: 148 | I15: 146 | J15: -1.3513514
A16: Information und Consulting | B16: 53 | C16: 48 | D16: 38 | E16: 39 | F16: 32 | G16: 27 | H16: 39 | I16: 32 | J16: -17.948718
A17: Sonstige Lehrberechtigte 1) | B17: 114 | C17: 161 | D17: 95 | E17: 77 | F17: 108 | G17: 89 | H17: 96 | I17: 99 | J17: 3.125
A18: Summe in Ausbildungsbetrieben | B18: 2351 | C18: 2437 | D18: 2021 | E18: 1847 | F18: 1943 | G18: 1944 | H18: 1812 | I18: 1649 | J18: -8.995585
A19: Überbetriebliche Lehrausbildung 2) | B19: 62 | C19: 67 | D19: 62 | E19: 60 | F19: 68 | G19: 79 | H19: 71 | I19: 66 | J19: -7.0422535
A20: INSGESAMT | B20: 2413 | C20: 2504 | D20: 2083 | E20: 1907 | F20: 2011 | G20: 2023 | H20: 1883 | I20: 1715 | J20: -8.9219331
A22: 1) Nicht der Kammer der gewerblichen Wirtschaft zugehörige Betriebe (zB Rechtsanwälte, Magistrate, usw).
A23: Der Bereich "Sonstige Lehrberechtigte" wurde bis zum Jahr 2012 als "Nichtkammer" bezeichnet.
A24: 2) Ausbildungseinrichtungen nach dem Berufsausbildungsgesetz (zB Überbetriebliche Lehrausbildungen im Auftrag des AMS, selbständige Ausbildungseinrichtungen).
A26: Quelle: LEHRLINGSSTATISTIK, Wirtschaftskammern Österreichs

Sheet LL_Zeitr_1Lj_Sp W
A4: LEHRLINGSSTATISTIK, Stichtag 31.12.
A5: Lehrlinge im 1. Lehrjahr nach Sparten 2005 - 2025
A6: Wien
B8: Lehrlinge im 1. Lehrjahr | J8: Veränderung
A9: Sparte | B9: 2005 | C9: 2010 | D9: 2015 | E9: 2020 | F9: 2022 | G9: 2023 | H9: 2024 | I9: 2025 | J9: zum Vorjahr in %
A10: Gewerbe und Handwerk | B10: 2020 | C10: 1762 | D10: 1320 | E10: 1425 | F10: 1538 | G10: 1586 | H10: 1495 | I10: 1530 | J10: 2.3411371
A11: Industrie | B11: 341 | C11: 336 | D11: 247 | E11: 278 | F11: 342 | G11: 346 | H11: 319 | I11: 281 | J11: -11.912226
A12: Handel | B12: 879 | C12: 928 | D12: 793 | E12: 863 | F12: 1023 | G12: 923 | H12: 934 | I12: 859 | J12: -8.0299786
A13: Bank und Versicherung | B13: 91 | C13: 116 | D13: 97 | E13: 105 | F13: 106 | G13: 130 | H13: 120 | I13: 103 | J13: -14.166667
A14: Transport und Verkehr | B14: 201 | C14: 285 | D14: 209 | E14: 206 | F14: 226 | G14: 285 | H14: 224 | I14: 218 | J14: -2.6785714
A15: Tourismus und Freizeitwirtschaft | B15: 564 | C15: 561 | D15: 498 | E15: 265 | F15: 657 | G15: 576 | H15: 492 | I15: 410 | J15: -16.666667
A16: Information und Consulting | B16: 163 | C16: 203 | D16: 132 | E16: 156 | F16: 221 | G16: 220 | H16: 178 | I16: 153 | J16: -14.044944
A17: Sonstige Lehrberechtigte 1) | B17: 649 | C17: 720 | D17: 579 | E17: 737 | F17: 727 | G17: 818 | H17: 786 | I17: 706 | J17: -10.178117
A18: Summe in Ausbildungsbetrieben | B18: 4908 | C18: 4911 | D18: 3875 | E18: 4035 | F18: 4840 | G18: 4884 | H18: 4548 | I18: 4260 | J18: -6.3324538
A19: Überbetriebliche Lehrausbildung 2) | B19: 283 | C19: 1528 | D19: 1521 | E19: 1936 | F19: 1839 | G19: 1718 | H19: 1632 | I19: 1761 | J19: 7.9044118
A20: INSGESAMT | B20: 5191 | C20: 6439 | D20: 5396 | E20: 5971 | F20: 6679 | G20: 6602 | H20: 6180 | I20: 6021 | J20: -2.5728155
A22: 1) Nicht der Kammer der gewerblichen Wirtschaft zugehörige Betriebe (zB Rechtsanwälte, Magistrate, usw).
A23: Der Bereich "Sonstige Lehrberechtigte" wurde bis zum Jahr 2012 als "Nichtkammer" bezeichnet.
A24: 2) Ausbildungseinrichtungen nach dem Berufsausbildungsgesetz (zB Überbetriebliche Lehrausbildungen im Auftrag des AMS, selbständige Ausbildungseinrichtungen).
A26: Quelle: LEHRLINGSSTATISTIK, Wirtschaftskammern Österreichs

Sheet LL_Zeitr_1Lj_BDL
A4: LEHRLINGSSTATISTIK, Stichtag 31.12.
A5: Lehrlinge im 1. Lehrjahr nach Bundesländern 2005 - 2025
B8: Lehrlinge im 1. Lehrjahr | J8: Veränderung
A9: Bundesland | B9: 2005 | C9: 2010 | D9: 2015 | E9: 2020 | F9: 2022 | G9: 2023 | H9: 2024 | I9: 2025 | J9: zum Vorjahr in %
A10: Burgenland | B10: 864 | C10: 900 | D10: 798 | E10: 784 | F10: 917 | G10: 837 | H10: 749 | I10: 726 | J10: -3.070761
A11: Kärnten | B11: 2886 | C11: 2850 | D11: 2225 | E11: 2187 | F11: 2389 | G11: 2393 | H11: 2165 | I11: 2043 | J11: -5.6351039
A12: Niederösterreich | B12: 5739 | C12: 6172 | D12: 4990 | E12: 4960 | F12: 5664 | G12: 5233 | H12: 5051 | I12: 4911 | J12: -2.7717284
A13: Oberösterreich | B13: 8306 | C13: 8010 | D13: 6708 | E13: 6589 | F13: 7098 | G13: 6779 | H13: 6347 | I13: 6015 | J13: -5.2308177
A14: Salzburg | B14: 3129 | C14: 2992 | D14: 2301 | E14: 2219 | F14: 2452 | G14: 2348 | H14: 2267 | I14: 2194 | J14: -3.2201147
A15: Steiermark | B15: 5778 | C15: 5766 | D15: 4639 | E15: 4351 | F15: 4832 | G15: 4787 | H15: 4534 | I15: 4292 | J15: -5.3374504
A16: Tirol | B16: 4246 | C16: 4128 | D16: 3344 | E16: 3001 | F16: 3191 | G16: 3080 | H16: 2943 | I16: 2735 | J16: -7.0676181
A17: Vorarlberg | B17: 2413 | C17: 2504 | D17: 2083 | E17: 1907 | F17: 2011 | G17: 2023 | H17: 1883 | I17: 1715 | J17: -8.9219331
A18: Wien | B18: 5191 | C18: 6439 | D18: 5396 | E18: 5971 | F18: 6679 | G18: 6602 | H18: 6180 | I18: 6021 | J18: -2.5728155
A19: ÖSTERREICH | B19: 38552 | C19: 39761 | D19: 32484 | E19: 31969 | F19: 35233 | G19: 34082 | H19: 32119 | I19: 30652 | J19: -4.56739
A22: Quelle: LEHRLINGSSTATISTIK, Wirtschaftskammern Österreichs

Sheet LL_Demo
A3: LEHRLINGSSTATISTIK, Stichtag 31.12.
A4: Demografische Entwicklung 1)
A6: Jahr | B6: Anzahl der 15-jährigen | C6: Veränderung gegenüber dem Vorjahr | E6: Anzahl der Lehrlinge im | F6: Veränderung gegenüber dem Vorjahr | H6: Anteil der Lehrlinge im 1. Lehrjahr an der Anzahl der
B7: im Jahresdurchschnitt 2) | C7: absolut | D7: in % | E7: 1. Lehrjahr | F7: absolut | G7: in % | H7: 15-jährigen, in %
A8: 1970 | B8: 103177 | C8: - | D8: - | E8: 45454 | F8: - | G8: - | H8: 44.054392
A9: 1975 | B9: 122640 | C9: - | D9: - | E9: 56144 | F9: - | G9: - | H9: 45.779517
A10: 1980 | B10: 130963 | C10: - | D10: - | E10: 61795 | F10: - | G10: - | H10: 47.185083
A11: 1985 | B11: 116548 | C11: - | D11: - | E11: 52781 | F11: - | G11: - | H11: 45.28692
A12: 1990 | B12: 94375 | C12: - | D12: - | E12: 44845 | F12: - | G12: - | H12: 47.517881
A13: 1995 | B13: 92640 | C13: - | D13: - | E13: 37343 | F13: - | G13: - | H13: 40.309801
A14: 2000 | B14: 94577 | C14: - | D14: - | E14: 38518 | F14: - | G14: - | H14: 40.726604
A15: 2005 | B15: 97547 | C15: 565 | D15: 0.58258233 | E15: 38552 | F15: 2608 | G15: 7.2557311 | H15: 39.521461
A16: 2010 | B16: 94557 | C16: -3173 | D16: -3.2467001 | E16: 39761 | F16: 156 | G16: 0.39388966 | H16: 42.049769
A17: 2011 | B17: 93375 | C17: -1182 | D17: -1.2500397 | E17: 39467 | F17: -294 | G17: -0.73941802 | H17: 42.267202
A18: 2012 | B18: 92882 | C18: -493 | D18: -0.52797858 | E18: 38211 | F18: -1256 | G18: -3.1824056 | H18: 41.139295
A19: 2013 | B19: 88491 | C19: -4391 | D19: -4.7275037 | E19: 35580 | F19: -2631 | G19: -6.8854518 | H19: 40.207479
A20: 2014 | B20: 86387.625 | C20: -2103.375 | D20: -2.3769366 | E20: 33508 | F20: -2072 | G20: -5.8234963 | H20: 38.787963
A21: 2015 | B21: 86045.75 | C21: -341.875 | D21: -0.39574534 | E21: 32484 | F21: -1024 | G21: -3.0559866 | H21: 37.75201
A22: 2016 | B22: 85667 | C22: -378.75 | D22: -0.44017282 | E22: 32693 | F22: 209 | G22: 0.64339367 | H22: 38.162887
A23: 2017 | B23: 85328.25 | C23: -338.75 | D23: -0.39542648 | E23: 33721 | F23: 1028 | G23: 3.144404 | H23: 39.519151
A24: 2018 | B24: 86043.125 | C24: 714.875 | D24: 0.83779405 | E24: 34402 | F24: 681 | G24: 2.0195131 | H24: 39.982276
A25: 2019 | B25: 85576.125 | C25: -467 | D25: -0.54275109 | E25: 33882 | F25: -520 | G25: -1.51154 | H25: 39.592819
A26: 2020 | B26: 86424.375 | C26: 848.25 | D26: 0.99122273 | E26: 31969 | F26: -1913 | G26: -5.6460658 | H26: 36.990722
... A31: 2025 | B31: 88375 | C31: 920.375 | D31: 1.0524029 | E31: 30652 | F31: -1467 | G31: -4.56739 | H31: 34.684017
A33: 1) Für die Darstellung der demografischen Entwicklung und der Anteile wird - abweichend zu früheren Darstellungen - die Anzahl der 15-jährigen und die Anzahl der Lehrlinge im ersten Lehrjahr herangezogen.
A34: 2) Bevölkerungsstatistik, STATISTIK AUSTRIA (2025: vorläufig; rückwirkend bis 2024 wurden die Daten revidiert)
A35: Quelle: LEHRLINGSSTATISTIK, Wirtschaftskammern Österreichs

Sheet LL_Betriebe_Sp
A5: Lehrlingsstatistik 31.12.2025
A6: Lehrbetriebe und Lehrlinge nach Sparten | H6: Österreich
A9: Sparte | B9: Lehrbetriebe 1) | D9: Lehrlinge | F9: auf 1 Lehrbetrieb entfallen … Lehrlinge
B10: absolut | C10: in % | D10: absolut | E10: in % | F10: 2023 | G10: 2024 | H10: 2025
A11: Gewerbe und Handwerk | B11: 14958 | C11: 56.59692 | D11: 43965 | E11: 42.735084 | F11: 2.9403314 | G11: 2.9464807 | H11: 2.9392298
A12: Industrie | B12: 1198 | C12: 4.5328995 | D12: 16169 | E12: 15.716674 | F12: 13.4432 | G12: 13.781123 | H12: 13.496661
A13: Handel | B13: 3133 | C13: 11.854402 | D13: 12760 | E13: 12.40304 | F13: 4.1111111 | G13: 4.1837167 | H13: 4.0727737
A14: Bank und Versicherung | B14: 271 | C14: 1.0253888 | D14: 1456 | E14: 1.4152686 | F14: 5.2461538 | G14: 5.3260073 | H14: 5.3726937
A15: Transport und Verkehr | B15: 456 | C15: 1.7253774 | D15: 3021 | E15: 2.9364879 | F15: 6.3560768 | G15: 6.5204301 | H15: 6.625
A16: Tourismus und Freizeitwirtschaft | B16: 2471 | C16: 9.3495781 | D16: 7149 | E16: 6.9490076 | F16: 2.7472318 | G16: 2.8800316 | H16: 2.8931607
A17: Information und Consulting | B17: 1188 | C17: 4.4950622 | D17: 2420 | E17: 2.3523008 | F17: 2.0437637 | G17: 2.0448766 | H17: 2.037037
A18: Sonstige Lehrberechtigte 2) | B18: 2672 | C18: 10.110106 | D18: 10040 | E18: 9.7591322 | F18: 3.4854507 | G18: 3.5485351 | H18: 3.757485
A19: Summe in Ausbildungsbetrieben | B19: 26347 | C19: 99.689735 | D19: 96980 | E19: 94.266996 | F19: 3.6248009 | G19: 3.6783863 | H19: 3.6808745
A20: Überbetriebliche Lehrausbildung 3) | B20: 82 | C20: 0.31026524 | D20: 5898 | E20: 5.7330041 | F20: 69.869048 | G20: 69.52439 | H20: 71.926829
A21: INSGESAMT 4) | B21: 26429 | C21: 100 | D21: 102878 | E21: 100 | F21: 3.997563 | G21: 4.0573236 | H21: 4.087651
A23: 1) In dieser Aufsummierung der Lehrbetriebe nach Sparten ergibt sich aufgrund der Mehrfachmitgliedschaften ein höherer Wert
A24: als bei einer Zählung nach Kammermitgliedschaften (25.168 - dies entspricht einer Einmalzählung des Mitglieds pro Bundesland).
A25: Zu beachten ist allerdings, dass ein Kammermitglied mit Standorten in mehreren Bundesländern bis zu neun Mal
A26: in dieser Summe enthalten sein kann.
A27: 2) Nicht der Kammer der gewerblichen Wirtschaft zugehörige Betriebe (zB Rechtsanwälte, Magistrate, usw).
A28: Der Bereich "Sonstige Lehrberechtigte" wurde bis zum Jahr 2012 als "Nichtkammer" bezeichnet.
A29: 3) Ausbildungseinrichtungen nach dem Berufsausbildungsgesetz
A30: (zB Überbetriebliche Lehrausbildungen im Auftrag des AMS, selbständige Ausbildungseinrichtungen).
A31: 4) Davon haben 8.362 Jugendliche einen Ausbildungsplatz in der Berufsausbildung gemäß §8b
A32: (7.091 in verlängerten Lehrausbildungen und 1.271 in Teilqualifizierungen;
A33: 6.243 werden in Unternehmungen und 2.119 in Einrichtungen ausgebildet).
A34: Rundungsdifferenzen wurden nicht ausgeglichen.
A35: Quelle: LEHRLINGSSTATISTIK 2025, Wirtschaftskammern Österreichs

Sheet LL_Betriebe_Sp B
A5: Lehrlingsstatistik 31.12.2025
A6: Lehrbetriebe und Lehrlinge nach Sparten | H6: Burgenland
A9: Sparte | B9: Lehrbetriebe 1) | D9: Lehrlinge | F9: auf 1 Lehrbetrieb entfallen … Lehrlinge
B10: absolut | C10: in % | D10: absolut | E10: in % | F10: 2023 | G10: 2024 | H10: 2025
A11: Gewerbe und Handwerk | B11: 492 | C11: 64.736842 | D11: 1110 | E11: 47.314578 | F11: 2.2785714 | G11: 2.3042672 | H11: 2.2560976
A12: Industrie | B12: 37 | C12: 4.8684211 | D12: 239 | E12: 10.187553 | F12: 6.9736842 | G12: 7.4210526 | H12: 6.4594595
A13: Handel | B13: 79 | C13: 10.394737 | D13: 288 | E13: 12.276215 | F13: 3.4615385 | G13: 3.6075949 | H13: 3.6455696
A14: Bank und Versicherung | B14: 7 | C14: 0.92105263 | D14: 25 | E14: 1.0656436 | F14: 3.7142857 | G14: 3.7142857 | H14: 3.5714286
A15: Transport und Verkehr | B15: 4 | C15: 0.52631579 | D15: 4 | E15: 0.17050298 | F15: 1 | G15: 1.3333333 | H15: 1
A16: Tourismus und Freizeitwirtschaft | B16: 50 | C16: 6.5789474 | D16: 166 | E16: 7.0758738 | F16: 2.8490566 | G16: 2.9183673 | H16: 3.32
A17: Information und Consulting | B17: 16 | C17: 2.1052632 | D17: 23 | E17: 0.98039216 | F17: 1.3461538 | G17: 1.4090909 | H17: 1.4375
A18: Sonstige Lehrberechtigte 2) | B18: 68 | C18: 8.9473684 | D18: 198 | E18: 8.4398977 | F18: 2.3246753 | G18: 2.443038 | H18: 2.9117647
A19: Summe in Ausbildungsbetrieben | B19: 753 | C19: 99.078947 | D19: 2053 | E19: 87.510656 | F19: 2.6187648 | G19: 2.7034314 | H19: 2.7264276
A20: Überbetriebliche Lehrausbildung 3) | B20: 7 | C20: 0.92105263 | D20: 293 | E20: 12.489344 | F20: 50.285714 | G20: 37.25 | H20: 41.857143
A21: INSGESAMT 4) | B21: 760 | C21: 100 | D21: 2346 | E21: 100 | F21: 3.0733173 | G21: 3.0990099 | H21: 3.1918367
A23: 1) In dieser Aufsummierung der Lehrbetriebe nach Sparten ergibt sich aufgrund der Mehrfachmitgliedschaften ein höherer Wert
A24: als bei einer Zählung nach Kammermitgliedschaften (735 - dies entspricht einer Einmalzählung des Mitglieds pro Bundesland).
A25: Zu beachten ist allerdings, dass ein Kammermitglied mit Standorten in mehreren Bundesländern bis zu neun Mal
A26: in dieser Summe enthalten sein kann.
A27: 2) Nicht der Kammer der gewerblichen Wirtschaft zugehörige Betriebe (zB Rechtsanwälte, Magistrate, usw).
A28: Der Bereich "Sonstige Lehrberechtigte" wurde bis zum Jahr 2012 als "Nichtkammer" bezeichnet.
A29: 3) Ausbildungseinrichtungen nach dem Berufsausbildungsgesetz
A30: (zB Überbetriebliche Lehrausbildungen im Auftrag des AMS, selbständige Ausbildungseinrichtungen).
A31: 4) Davon haben 286 Jugendliche einen Ausbildungsplatz in der Berufsausbildung gemäß §8b
A32: (215 in verlängerten Lehrausbildungen und 71 in Teilqualifizierungen;
A33: 158 werden in Unternehmungen und 128 in Einrichtungen ausgebildet).
A34: Rundungsdifferenzen wurden nicht ausgeglichen.
A35: Quelle: LEHRLINGSSTATISTIK 2025, Wirtschaftskammern Österreichs

Sheet LL_Betriebe_Sp K
A5: Lehrlingsstatistik 31.12.2025
A6: Lehrbetriebe und Lehrlinge nach Sparten | H6: Kärnten
A9: Sparte | B9: Lehrbetriebe 1) | D9: Lehrlinge | F9: auf 1 Lehrbetrieb entfallen … Lehrlinge
B10: absolut | C10: in % | D10: absolut | E10: in % | F10: 2023 | G10: 2024 | H10: 2025
A11: Gewerbe und Handwerk | B11: 1192 | C11: 57.307692 | D11: 3287 | E11: 47.152489 | F11: 2.7599388 | G11: 2.7759303 | H11: 2.7575503
A12: Industrie | B12: 101 | C12: 4.8557692 | D12: 1072 | E12: 15.377995 | F12: 9.754717 | G12: 10.432692 | H12: 10.613861
A13: Handel | B13: 258 | C13: 12.403846 | D13: 902 | E13: 12.93932 | F13: 3.6793103 | G13: 3.6425856 | H13: 3.496124
A14: Bank und Versicherung | B14: 22 | C14: 1.0576923 | D14: 108 | E14: 1.5492756 | F14: 4.1578947 | G14: 4.3809524 | H14: 4.9090909
A15: Transport und Verkehr | B15: 23 | C15: 1.1057692 | D15: 82 | E15: 1.1763018 | F15: 4 | G15: 3.8333333 | H15: 3.5652174
A16: Tourismus und Freizeitwirtschaft | B16: 200 | C16: 9.6153846 | D16: 583 | E16: 8.3632191 | F16: 2.6805556 | G16: 2.8086124 | H16: 2.915
A17: Information und Consulting | B17: 79 | C17: 3.7980769 | D17: 126 | E17: 1.8074882 | F17: 1.5698925 | G17: 1.527027 | H17: 1.5949367
A18: Sonstige Lehrberechtigte 2) | B18: 201 | C18: 9.6634615 | D18: 586 | E18: 8.4062545 | F18: 2.4686192 | G18: 2.7534884 | H18: 2.9154229
A19: Summe in Ausbildungsbetrieben | B19: 2076 | C19: 99.807692 | D19: 6746 | E19: 96.772343 | F19: 3.1361851 | G19: 3.2328578 | H19: 3.2495183
A20: Überbetriebliche Lehrausbildung 3) | B20: 4 | C20: 0.19230769 | D20: 225 | E20: 3.2276574 | F20: 35.4 | G20: 34.8 | H20: 56.25
A21: INSGESAMT 4) | B21: 2080 | C21: 100 | D21: 6971 | E21: 100 | F21: 3.3267058 | G21: 3.4461465 | H21: 3.5030151
A23: 1) In dieser Aufsummierung der Lehrbetriebe nach Sparten ergibt sich aufgrund der Mehrfachmitgliedschaften ein höherer Wert
A24: als bei einer Zählung nach Kammermitgliedschaften (1.990 - dies entspricht einer Einmalzählung des Mitglieds pro Bundesland).
A25: Zu beachten ist allerdings, dass ein Kammermitglied mit Standorten in mehreren Bundesländern bis zu neun Mal
A26: in dieser Summe enthalten sein kann.
A27: 2) Nicht der Kammer der gewerblichen Wirtschaft zugehörige Betriebe (zB Rechtsanwälte, Magistrate, usw).
A28: Der Bereich "Sonstige Lehrberechtigte" wurde bis zum Jahr 2012 als "Nichtkammer" bezeichnet.
A29: 3) Ausbildungseinrichtungen nach dem Berufsausbildungsgesetz
A30: (zB Überbetriebliche Lehrausbildungen im Auftrag des AMS, selbständige Ausbildungseinrichtungen).
A31: 4) Davon haben 467 Jugendliche einen Ausbildungsplatz in der Berufsausbildung gemäß §8b
A32: (404 in verlängerten Lehrausbildungen und 63 in Teilqualifizierungen;
A33: 403 werden in Unternehmungen und 64 in Einrichtungen ausgebildet).
A34: Rundungsdifferenzen wurden nicht ausgeglichen.
A35: Quelle: LEHRLINGSSTATISTIK 2025, Wirtschaftskammern Österreichs

Sheet LL_Betriebe_Sp NÖ
A5: Lehrlingsstatistik 31.12.2025
A6: Lehrbetriebe und Lehrlinge nach Sparten | H6: Niederösterreich
A9: Sparte | B9: Lehrbetriebe 1) | D9: Lehrlinge | F9: auf 1 Lehrbetrieb entfallen … Lehrlinge
B10: absolut | C10: in % | D10: absolut | E10: in % | F10: 2023 | G10: 2024 | H10: 2025
A11: Gewerbe und Handwerk | B11: 2787 | C11: 62.544883 | D11: 7869 | E11: 47.920346 | F11: 2.8105442 | G11: 2.853797 | H11: 2.8234661
A12: Industrie | B12: 223 | C12: 5.0044883 | D12: 2520 | E12: 15.346203 | F12: 11.305085 | G12: 11.660944 | H12: 11.300448
A13: Handel | B13: 495 | C13: 11.108618 | D13: 2133 | E13: 12.989465 | F13: 4.4336283 | G13: 4.4011299 | H13: 4.3090909
A14: Bank und Versicherung | B14: 29 | C14: 0.6508079 | D14: 142 | E14: 0.86474636 | F14: 4.9285714 | G14: 4.9655172 | H14: 4.8965517
A15: Transport und Verkehr | B15: 57 | C15: 1.2791741 | D15: 544 | E15: 3.3128311 | F15: 8.9814815 | G15: 9.4807692 | H15: 9.5438596
A16: Tourismus und Freizeitwirtschaft | B16: 363 | C16: 8.1463196 | D16: 868 | E16: 5.2859144 | F16: 2.2954545 | G16: 2.4540541 | H16: 2.3911846
A17: Information und Consulting | B17: 150 | C17: 3.3662478 | D17: 244 | E17: 1.4859022 | F17: 1.7565789 | G17: 1.6728395 | H17: 1.6266667
A18: Sonstige Lehrberechtigte 2) | B18: 343 | C18: 7.6974865 | D18: 1353 | E18: 8.2394495 | F18: 3.8297297 | G18: 3.9495798 | H18: 3.9446064
A19: Summe in Ausbildungsbetrieben | B19: 4447 | C19: 99.798025 | D19: 15673 | E19: 95.444857 | F19: 3.5123392 | G19: 3.5856766 | H19: 3.5243985
A20: Überbetriebliche Lehrausbildung 3) | B20: 9 | C20: 0.20197487 | D20: 748 | E20: 4.5551428 | F20: 65.9 | G20: 73.777778 | H20: 83.111111
A21: INSGESAMT 4) | B21: 4456 | C21: 100 | D21: 16421 | E21: 100 | F21: 3.8614767 | G21: 3.9483961 | H21: 3.9014018
A23: 1) In dieser Aufsummierung der Lehrbetriebe nach Sparten ergibt sich aufgrund der Mehrfachmitgliedschaften ein höherer Wert
A24: als bei einer Zählung nach Kammermitgliedschaften (4.209 - dies entspricht einer Einmalzählung des Mitglieds pro Bundesland).
A25: Zu beachten ist allerdings, dass ein Kammermitglied mit Standorten in mehreren Bundesländern bis zu neun Mal
A26: in dieser Summe enthalten sein kann.
A27: 2) Nicht der Kammer der gewerblichen Wirtschaft zugehörige Betriebe (zB Rechtsanwälte, Magistrate, usw).
A28: Der Bereich "Sonstige Lehrberechtigte" wurde bis zum Jahr 2012 als "Nichtkammer" bezeichnet.
A29: 3) Ausbildungseinrichtungen nach dem Berufsausbildungsgesetz
A30: (zB Überbetriebliche Lehrausbildungen im Auftrag des AMS, selbständige Ausbildungseinrichtungen).
A31: 4) Davon haben 1.401 Jugendliche einen Ausbildungsplatz in der Berufsausbildung gemäß §8b
A32: (1.292 in verlängerten Lehrausbildungen und 109 in Teilqualifizierungen;
A33: 1.102 werden in Unternehmungen und 299 in Einrichtungen ausgebildet).
A34: Rundungsdifferenzen wurden nicht ausgeglichen.
A35: Quelle: LEHRLINGSSTATISTIK 2025, Wirtschaftskammern Österreichs

Sheet LL_Betriebe_Sp OÖ
A5: Lehrlingsstatistik 31.12.2025
A6: Lehrbetriebe und Lehrlinge nach Sparten | H6: Oberösterreich
A9: Sparte | B9: Lehrbetriebe 1) | D9: Lehrlinge | F9: auf 1 Lehrbetrieb entfallen … Lehrlinge
B10: absolut | C10: in % | D10: absolut | E10: in % | F10: 2023 | G10: 2024 | H10: 2025
A11: Gewerbe und Handwerk | B11: 2830 | C11: 56.173085 | D11: 9108 | E11: 42.580645 | F11: 3.2573455 | G11: 3.2312178 | H11: 3.2183746
A12: Industrie | B12: 293 | C12: 5.8157999 | D12: 4986 | E12: 23.309958 | F12: 17.141479 | G12: 17.295082 | H12: 17.017065
A13: Handel | B13: 619 | C13: 12.286622 | D13: 2513 | E13: 11.748481 | F13: 4.0597668 | G13: 4.1052632 | H13: 4.0597738
A14: Bank und Versicherung | B14: 71 | C14: 1.4092894 | D14: 288 | E14: 1.3464236 | F14: 4.2272727 | G14: 4.2253521 | H14: 4.056338
A15: Transport und Verkehr | B15: 94 | C15: 1.8658198 | D15: 657 | E15: 3.0715288 | F15: 6.9775281 | G15: 6.9340659 | H15: 6.9893617
A16: Tourismus und Freizeitwirtschaft | B16: 401 | C16: 7.9595077 | D16: 1006 | E16: 4.7031323 | F16: 2.5264484 | G16: 2.4987406 | H16: 2.5087282
A17: Information und Consulting | B17: 238 | C17: 4.7240969 | D17: 535 | E17: 2.5011688 | F17: 2.2754717 | G17: 2.1740741 | H17: 2.2478992
A18: Sonstige Lehrberechtigte 2) | B18: 477 | C18: 9.4680429 | D18: 1974 | E18: 9.2286115 | F18: 3.7062257 | G18: 3.7353497 | H18: 4.1383648
A19: Summe in Ausbildungsbetrieben | B19: 5023 | C19: 99.702263 | D19: 21067 | E19: 98.489949 | F19: 4.1920968 | G19: 4.179173 | H19: 4.1941071
A20: Überbetriebliche Lehrausbildung 3) | B20: 15 | C20: 0.2977372 | D20: 323 | E20: 1.5100514 | F20: 21.8125 | G20: 20.4375 | H20: 21.533333
A21: INSGESAMT 4) | B21: 5038 | C21: 100 | D21: 21390 | E21: 100 | F21: 4.481791 | G21: 4.4774702 | H21: 4.5183777
A23: 1) In dieser Aufsummierung der Lehrbetriebe nach Sparten ergibt sich aufgrund der Mehrfachmitgliedschaften ein höherer Wert
A24: als bei einer Zählung nach Kammermitgliedschaften (4.734 - dies entspricht einer Einmalzählung des Mitglieds pro Bundesland).
A25: Zu beachten ist allerdings, dass ein Kammermitglied mit Standorten in mehreren Bundesländern bis zu neun Mal
A26: in dieser Summe enthalten sein kann.
A27: 2) Nicht der Kammer der gewerblichen Wirtschaft zugehörige Betriebe (zB Rechtsanwälte, Magistrate, usw).
A28: Der Bereich "Sonstige Lehrberechtigte" wurde bis zum Jahr 2012 als "Nichtkammer" bezeichnet.
A29: 3) Ausbildungseinrichtungen nach dem Berufsausbildungsgesetz
A30: (zB Überbetriebliche Lehrausbildungen im Auftrag des AMS, selbständige Ausbildungseinrichtungen).
A31: 4) Davon haben 1.975 Jugendliche einen Ausbildungsplatz in der Berufsausbildung gemäß §8b
A32: (1.719 in verlängerten Lehrausbildungen und 256 in Teilqualifizierungen;
A33: 1.721 werden in Unternehmungen und 254 in Einrichtungen ausgebildet).
A34: Rundungsdifferenzen wurden nicht ausgeglichen.
A35: Quelle: LEHRLINGSSTATISTIK 2025, Wirtschaftskammern Österreichs

Sheet LL_Betriebe_Sp S
A5: Lehrlingsstatistik 31.12.2025
A6: Lehrbetriebe und Lehrlinge nach Sparten | H6: Salzburg
A9: Sparte | B9: Lehrbetriebe 1) | D9: Lehrlinge | F9: auf 1 Lehrbetrieb entfallen … Lehrlinge
B10: absolut | C10: in % | D10: absolut | E10: in % | F10: 2023 | G10: 2024 | H10: 2025
A11: Gewerbe und Handwerk | B11: 1278 | C11: 53.969595 | D11: 3524 | E11: 46.706428 | F11: 2.7192857 | G11: 2.7524164 | H11: 2.7574335
A12: Industrie | B12: 70 | C12: 2.9560811 | D12: 657 | E12: 8.7077535 | F12: 8.6986301 | G12: 9.4571429 | H12: 9.3857143
A13: Handel | B13: 316 | C13: 13.344595 | D13: 1076 | E13: 14.2611 | F13: 3.4542936 | G13: 3.4473684 | H13: 3.4050633
A14: Bank und Versicherung | B14: 33 | C14: 1.3935811 | D14: 151 | E14: 2.0013254 | F14: 4.1818182 | G14: 4.34375 | H14: 4.5757576
A15: Transport und Verkehr | B15: 62 | C15: 2.6182432 | D15: 243 | E15: 3.2206759 | F15: 3.7301587 | G15: 3.6984127 | H15: 3.9193548
A16: Tourismus und Freizeitwirtschaft | B16: 274 | C16: 11.570946 | D16: 743 | E16: 9.8475812 | F16: 2.4054054 | G16: 2.6431095 | H16: 2.7116788
A17: Information und Consulting | B17: 96 | C17: 4.0540541 | D17: 193 | E17: 2.5579854 | F17: 1.8928571 | G17: 1.8712121 | H17: 2.0104167
A18: Sonstige Lehrberechtigte 2) | B18: 228 | C18: 9.6283784 | D18: 824 | E18: 10.92114 | F18: 3.5020921 | G18: 3.4632035 | H18: 3.6140351
A19: Summe in Ausbildungsbetrieben | B19: 2357 | C19: 99.535473 | D19: 7411 | E19: 98.223989 | F19: 3.0234165 | G19: 3.0864692 | H19: 3.1442512
A20: Überbetriebliche Lehrausbildung 3) | B20: 11 | C20: 0.46452703 | D20: 134 | E20: 1.7760106 | F20: 18.833333 | G20: 15.714286 | H20: 12.181818
A21: INSGESAMT 4) | B21: 2368 | C21: 100 | D21: 7545 | E21: 100 | F21: 3.1866773 | G21: 3.263773 | H21: 3.322325
A23: 1) In dieser Aufsummierung der Lehrbetriebe nach Sparten ergibt sich aufgrund der Mehrfachmitgliedschaften ein höherer Wert
A24: als bei einer Zählung nach Kammermitgliedschaften (2.271 - dies entspricht einer Einmalzählung des Mitglieds pro Bundesland).
A25: Zu beachten ist allerdings, dass ein Kammermitglied mit Standorten in mehreren Bundesländern bis zu neun Mal
A26: in dieser Summe enthalten sein kann.
A27: 2) Nicht der Kammer der gewerblichen Wirtschaft zugehörige Betriebe (zB Rechtsanwälte, Magistrate, usw).
A28: Der Bereich "Sonstige Lehrberechtigte" wurde bis zum Jahr 2012 als "Nichtkammer" bezeichnet.
A29: 3) Ausbildungseinrichtungen nach dem Berufsausbildungsgesetz
A30: (zB Überbetriebliche Lehrausbildungen im Auftrag des AMS, selbständige Ausbildungseinrichtungen).
A31: 4) Davon haben 418 Jugendliche einen Ausbildungsplatz in der Berufsausbildung gemäß §8b
A32: (235 in verlängerten Lehrausbildungen und 183 in Teilqualifizierungen;
A33: 304 werden in Unternehmungen und 114 in Einrichtungen ausgebildet).
A34: Rundungsdifferenzen wurden nicht ausgeglichen.
A35: Quelle: LEHRLINGSSTATISTIK 2025, Wirtschaftskammern Österreichs

Sheet LL_Betriebe_Sp ST
A5: Lehrlingsstatistik 31.12.2025
A6: Lehrbetriebe und Lehrlinge nach Sparten | H6: Steiermark
A9: Sparte | B9: Lehrbetriebe 1) | D9: Lehrlinge | F9: auf 1 Lehrbetrieb entfallen … Lehrlinge
B10: absolut | C10: in % | D10: absolut | E10: in % | F10: 2023 | G10: 2024 | H10: 2025
A11: Gewerbe und Handwerk | B11: 2142 | C11: 58.111774 | D11: 6391 | E11: 44.252874 | F11: 3.0148277 | G11: 3.0054372 | H11: 2.9836601
A12: Industrie | B12: 216 | C12: 5.8600109 | D12: 2845 | E12: 19.699488 | F12: 13.646226 | G12: 13.663551 | H12: 13.171296
A13: Handel | B13: 410 | C13: 11.123169 | D13: 1628 | E13: 11.272677 | F13: 3.9616935 | G13: 4.1176471 | H13: 3.9707317
A14: Bank und Versicherung | B14: 28 | C14: 0.75963104 | D14: 144 | E14: 0.99709182 | F14: 4.8076923 | G14: 5.0740741 | H14: 5.1428571
A15: Transport und Verkehr | B15: 52 | C15: 1.4107434 | D15: 158 | E15: 1.0940313 | F15: 2.8852459 | G15: 3.25 | H15: 3.0384615
A16: Tourismus und Freizeitwirtschaft | B16: 335 | C16: 9.0884428 | D16: 893 | E16: 6.1833541 | F16: 2.3498623 | G16: 2.5111111 | H16: 2.6656716
A17: Information und Consulting | B17: 157 | C17: 4.2593597 | D17: 333 | E17: 2.3057748 | F17: 2.0955056 | G17: 2.3609467 | H17: 2.1210191
A18: Sonstige Lehrberechtigte 2) | B18: 334 | C18: 9.0613131 | D18: 1434 | E18: 9.9293727 | F18: 4.1561562 | G18: 4.25 | H18: 4.2934132
A19: Summe in Ausbildungsbetrieben | B19: 3674 | C19: 99.674444 | D19: 13826 | E19: 95.734663 | F19: 3.7057042 | G19: 3.7826547 | H19: 3.7632009
A20: Überbetriebliche Lehrausbildung 3) | B20: 12 | C20: 0.32555616 | D20: 616 | E20: 4.2653372 | F20: 57.818182 | G20: 56.545455 | H20: 51.333333
A21: INSGESAMT 4) | B21: 3686 | C21: 100 | D21: 14442 | E21: 100 | F21: 4.0353003 | G21: 4.1123967 | H21: 4.1063406
A23: 1) In dieser Aufsummierung der Lehrbetriebe nach Sparten ergibt sich aufgrund der Mehrfachmitgliedschaften ein höherer Wert
A24: als bei einer Zählung nach Kammermitgliedschaften (3.517 - dies entspricht einer Einmalzählung des Mitglieds pro Bundesland).
A25: Zu beachten ist allerdings, dass ein Kammermitglied mit Standorten in mehreren Bundesländern bis zu neun Mal
A26: in dieser Summe enthalten sein kann.
A27: 2) Nicht der Kammer der gewerblichen Wirtschaft zugehörige Betriebe (zB Rechtsanwälte, Magistrate, usw).
A28: Der Bereich "Sonstige Lehrberechtigte" wurde bis zum Jahr 2012 als "Nichtkammer" bezeichnet.
A29: 3) Ausbildungseinrichtungen nach dem Berufsausbildungsgesetz
A30: (zB Überbetriebliche Lehrausbildungen im Auftrag des AMS, selbständige Ausbildungseinrichtungen).
A31: 4) Davon haben 1.488 Jugendliche einen Ausbildungsplatz in der Berufsausbildung gemäß §8b
A32: (1.270 in verlängerten Lehrausbildungen und 218 in Teilqualifizierungen;
A33: 1.244 werden in Unternehmungen und 244 in Einrichtungen ausgebildet).
A34: Rundungsdifferenzen wurden nicht ausgeglichen.
A35: Quelle: LEHRLINGSSTATISTIK 2025, Wirtschaftskammern Österreichs

Sheet LL_Betriebe_Sp T
A5: Lehrlingsstatistik 31.12.2025
A6: Lehrbetriebe und Lehrlinge nach Sparten | H6: Tirol
A9: Sparte | B9: Lehrbetriebe 1) | D9: Lehrlinge | F9: auf 1 Lehrbetrieb entfallen … Lehrlinge
B10: absolut | C10: in % | D10: absolut | E10: in % | F10: 2023 | G10: 2024 | H10: 2025
A11: Gewerbe und Handwerk | B11: 1739 | C11: 57.928048 | D11: 4898 | E11: 50.494845 | F11: 2.9045759 | G11: 2.9117814 | H11: 2.8165612
A12: Industrie | B12: 90 | C12: 2.9980013 | D12: 1226 | E12: 12.639175 | F12: 13.270833 | G12: 14.130435 | H12: 13.622222
A13: Handel | B13: 326 | C13: 10.859427 | D13: 1104 | E13: 11.381443 | F13: 3.43309 | G13: 3.3579235 | H13: 3.3865031
A14: Bank und Versicherung | B14: 37 | C14: 1.2325117 | D14: 127 | E14: 1.3092784 | F14: 2.6829268 | G14: 3.0731707 | H14: 3.4324324
A15: Transport und Verkehr | B15: 82 | C15: 2.7315123 | D15: 283 | E15: 2.9175258 | F15: 3.3012048 | G15: 3.4823529 | H15: 3.4512195
A16: Tourismus und Freizeitwirtschaft | B16: 351 | C16: 11.692205 | D16: 939 | E16: 9.6804124 | F16: 2.4550265 | G16: 2.5674931 | H16: 2.6752137
A17: Information und Consulting | B17: 115 | C17: 3.8307795 | D17: 176 | E17: 1.814433 | F17: 1.7295082 | G17: 1.5606061 | H17: 1.5304348
A18: Sonstige Lehrberechtigte 2) | B18: 259 | C18: 8.6275816 | D18: 871 | E18: 8.9793814 | F18: 3.0750988 | G18: 3.1518519 | H18: 3.3629344
A19: Summe in Ausbildungsbetrieben | B19: 2999 | C19: 99.900067 | D19: 9624 | E19: 99.216495 | F19: 3.2087531 | G19: 3.2376046 | H19: 3.2090697
A20: Überbetriebliche Lehrausbildung 3) | B20: 3 | C20: 0.099933378 | D20: 76 | E20: 0.78350515 | F20: 11.166667 | G20: 17.25 | H20: 25.333333
A21: INSGESAMT 4) | B21: 3002 | C21: 100 | D21: 9700 | E21: 100 | F21: 3.3424568 | G21: 3.3671433 | H21: 3.3494475
A23: 1) In dieser Aufsummierung der Lehrbetriebe nach Sparten ergibt sich aufgrund der Mehrfachmitgliedschaften ein höherer Wert
A24: als bei einer Zählung nach Kammermitgliedschaften (2.896 - dies entspricht einer Einmalzählung des Mitglieds pro Bundesland).
A25: Zu beachten ist allerdings, dass ein Kammermitglied mit Standorten in mehreren Bundesländern bis zu neun Mal
A26: in dieser Summe enthalten sein kann.
A27: 2) Nicht der Kammer der gewerblichen Wirtschaft zugehörige Betriebe (zB Rechtsanwälte, Magistrate, usw).
A28: Der Bereich "Sonstige Lehrberechtigte" wurde bis zum Jahr 2012 als "Nichtkammer" bezeichnet.
A29: 3) Ausbildungseinrichtungen nach dem Berufsausbildungsgesetz
A30: (zB Überbetriebliche Lehrausbildungen im Auftrag des AMS, selbständige Ausbildungseinrichtungen).
A31: 4) Davon haben 504 Jugendliche einen Ausbildungsplatz in der Berufsausbildung gemäß §8b
A32: (451 in verlängerten Lehrausbildungen und 53 in Teilqualifizierungen;
A33: 442 werden in Unternehmungen und 62 in Einrichtungen ausgebildet).
A34: Rundungsdifferenzen wurden nicht ausgeglichen.
A35: Quelle: LEHRLINGSSTATISTIK 2025, Wirtschaftskammern Österreichs

Sheet LL_Betriebe_Sp V
A5: Lehrlingsstatistik 31.12.2025
A6: Lehrbetriebe und Lehrlinge nach Sparten | H6: Vorarlberg
A9: Sparte | B9: Lehrbetriebe 1) | D9: Lehrlinge | F9: auf 1 Lehrbetrieb entfallen … Lehrlinge
B10: absolut | C10: in % | D10: absolut | E10: in % | F10: 2023 | G10: 2024 | H10: 2025
A11: Gewerbe und Handwerk | B11: 907 | C11: 55.237515 | D11: 2791 | E11: 43.966604 | F11: 3.1243469 | G11: 3.0406852 | H11: 3.0771775
A12: Industrie | B12: 85 | C12: 5.1766139 | D12: 1472 | E12: 23.188406 | F12: 16.922222 | G12: 17.367816 | H12: 17.317647
A13: Handel | B13: 221 | C13: 13.459196 | D13: 654 | E13: 10.302457 | F13: 3.109375 | G13: 3.053719 | H13: 2.959276
A14: Bank und Versicherung | B14: 24 | C14: 1.4616322 | D14: 84 | E14: 1.3232514 | F14: 4.1904762 | G14: 3.56 | H14: 3.5
A15: Transport und Verkehr | B15: 26 | C15: 1.5834348 | D15: 190 | E15: 2.9930687 | F15: 6.4 | G15: 7.4285714 | H15: 7.3076923
A16: Tourismus und Freizeitwirtschaft | B16: 170 | C16: 10.353228 | D16: 494 | E16: 7.7819786 | F16: 2.6032609 | G16: 2.952381 | H16: 2.9058824
A17: Information und Consulting | B17: 77 | C17: 4.6894032 | D17: 121 | E17: 1.9061122 | F17: 1.505618 | G17: 1.5443038 | H17: 1.5714286
A18: Sonstige Lehrberechtigte 2) | B18: 127 | C18: 7.7344702 | D18: 343 | E18: 5.4032766 | F18: 2.6015625 | G18: 2.5259259 | H18: 2.7007874
A19: Summe in Ausbildungsbetrieben | B19: 1637 | C19: 99.695493 | D19: 6149 | E19: 96.865154 | F19: 3.73125 | G19: 3.737338 | H19: 3.7562615
A20: Überbetriebliche Lehrausbildung 3) | B20: 5 | C20: 0.3045067 | D20: 199 | E20: 3.1348456 | F20: 33.6 | G20: 41.4 | H20: 39.8
A21: INSGESAMT 4) | B21: 1642 | C21: 100 | D21: 6348 | E21: 100 | F21: 3.9711085 | G21: 3.9981696 | H21: 4.0433121
A23: 1) In dieser Aufsummierung der Lehrbetriebe nach Sparten ergibt sich aufgrund der Mehrfachmitgliedschaften ein höherer Wert
A24: als bei einer Zählung nach Kammermitgliedschaften (1.570 - dies entspricht einer Einmalzählung des Mitglieds pro Bundesland).
A25: Zu beachten ist allerdings, dass ein Kammermitglied mit Standorten in mehreren Bundesländern bis zu neun Mal
A26: in dieser Summe enthalten sein kann.
A27: 2) Nicht der Kammer der gewerblichen Wirtschaft zugehörige Betriebe (zB Rechtsanwälte, Magistrate, usw).
A28: Der Bereich "Sonstige Lehrberechtigte" wurde bis zum Jahr 2012 als "Nichtkammer" bezeichnet.
A29: 3) Ausbildungseinrichtungen nach dem Berufsausbildungsgesetz
A30: (zB Überbetriebliche Lehrausbildungen im Auftrag des AMS, selbständige Ausbildungseinrichtungen).
A31: 4) Davon haben 327 Jugendliche einen Ausbildungsplatz in der Berufsausbildung gemäß §8b
A32: (255 in verlängerten Lehrausbildungen und 72 in Teilqualifizierungen;
A33: 296 werden in Unternehmungen und 31 in Einrichtungen ausgebildet).
A34: Rundungsdifferenzen wurden nicht ausgeglichen.
A35: Quelle: LEHRLINGSSTATISTIK 2025, Wirtschaftskammern Österreichs

Sheet LL_Betriebe_Sp W
A5: Lehrlingsstatistik 31.12.2025
A6: Lehrbetriebe und Lehrlinge nach Sparten | H6: Wien
A9: Sparte | B9: Lehrbetriebe 1) | D9: Lehrlinge | F9: auf 1 Lehrbetrieb entfallen … Lehrlinge
B10: absolut | C10: in % | D10: absolut | E10: in % | F10: 2023 | G10: 2024 | H10: 2025
A11: Gewerbe und Handwerk | B11: 1591 | C11: 46.835443 | D11: 4987 | E11: 28.151284 | F11: 2.9861446 | G11: 3.0054979 | H11: 3.1345066
A12: Industrie | B12: 83 | C12: 2.4433324 | D12: 1152 | E12: 6.5029636 | F12: 13.420455 | G12: 13.732558 | H12: 13.879518
A13: Handel | B13: 409 | C13: 12.040035 | D13: 2462 | E13: 13.897827 | F13: 6.0647321 | G13: 6.5707317 | H13: 6.0195599
A14: Bank und Versicherung | B14: 20 | C14: 0.58875478 | D14: 387 | E14: 2.1845893 | F14: 20.052632 | G14: 20.05 | H14: 19.35
A15: Transport und Verkehr | B15: 56 | C15: 1.6485134 | D15: 860 | E15: 4.854643 | F15: 14.47541 | G15: 14.174603 | H15: 15.357143
A16: Tourismus und Freizeitwirtschaft | B16: 327 | C16: 9.6261407 | D16: 1457 | E16: 8.2246684 | F16: 4.7053571 | G16: 4.7402985 | H16: 4.4556575
A17: Information und Consulting | B17: 260 | C17: 7.6538122 | D17: 669 | E17: 3.7764606 | F17: 2.5098039 | G17: 2.5521886 | H17: 2.5730769
A18: Sonstige Lehrberechtigte 2) | B18: 635 | C18: 18.692964 | D18: 2457 | E18: 13.869602 | F18: 3.6075188 | G18: 3.6262626 | H18: 3.8692913
A19: Summe in Ausbildungsbetrieben | B19: 3381 | C19: 99.528996 | D19: 14431 | E19: 81.462038 | F19: 4.1493162 | G19: 4.2214064 | H19: 4.2682638
A20: Überbetriebliche Lehrausbildung 3) | B20: 16 | C20: 0.47100383 | D20: 3284 | E20: 18.537962 | F20: 186 | G20: 190 | H20: 205.25
A21: INSGESAMT 4) | B21: 3397 | C21: 100 | D21: 17715 | E21: 100 | F21: 5.2614096 | G21: 5.3198712 | H21: 5.4574861
A23: 1) In dieser Aufsummierung der Lehrbetriebe nach Sparten ergibt sich aufgrund der Mehrfachmitgliedschaften ein höherer Wert
A24: als bei einer Zählung nach Kammermitgliedschaften (3.246 - dies entspricht einer Einmalzählung des Mitglieds pro Bundesland).
A25: Zu beachten ist allerdings, dass ein Kammermitglied mit Standorten in mehreren Bundesländern bis zu neun Mal
A26: in dieser Summe enthalten sein kann.
A27: 2) Nicht der Kammer der gewerblichen Wirtschaft zugehörige Betriebe (zB Rechtsanwälte, Magistrate, usw).
A28: Der Bereich "Sonstige Lehrberechtigte" wurde bis zum Jahr 2012 als "Nichtkammer" bezeichnet.
A29: 3) Ausbildungseinrichtungen nach dem Berufsausbildungsgesetz
A30: (zB Überbetriebliche Lehrausbildungen im Auftrag des AMS, selbständige Ausbildungseinrichtungen).
A31: 4) Davon haben 1.496 Jugendliche einen Ausbildungsplatz in der Berufsausbildung gemäß §8b
A32: (1.250 in verlängerten Lehrausbildungen und 246 in Teilqualifizierungen;
A33: 573 werden in Unternehmungen und 923 in Einrichtungen ausgebildet).
A34: Rundungsdifferenzen wurden nicht ausgeglichen.
A35: Quelle: LEHRLINGSSTATISTIK 2025, Wirtschaftskammern Österreichs

Sheet LL_Top10
A4: Lehrlingsstatistik 31.12.2025
A5: Die zehn häufigsten Lehrberufe | I5: Österreich
B8: Mädchen | G8: Burschen
B9: Lehrberuf | C9: Lehrlinge | D9: Anteil an den weiblichen Lehrlingen insgesamt in % | G9: Lehrberuf | H9: Lehrlinge | I9: Anteil an den männlichen Lehrlingen insgesamt in %
A10: 1. | B10: Einzelhandel | C10: 5514 | D10: 16.787943 | F10: 1. | G10: Elektrotechnik | H10: 9030 | I10: 12.896868
A11: 2. | B11: Bürokauffrau | C11: 3043 | D11: 9.2647283 | F11: 2. | G11: Metalltechnik | H11: 8407 | I11: 12.007084
A12: 3. | B12: Friseurin (Stylistin) | C12: 1979 | D12: 6.0252702 | F12: 3. | G12: Kraftfahrzeugtechnik | H12: 7605 | I12: 10.861648
A13: 4. | B13: Verwaltungsassistentin | C13: 1686 | D13: 5.1332014 | F13: 4. | G13: Einzelhandel | H13: 4598 | I13: 6.5669766
A14: 5. | B14: Pharmazeutisch-kaufmännische Assistenz | C14: 1378 | D14: 4.1954635 | F14: 5. | G14: Installations- und Gebäudetechnik | H14: 3941 | I14: 5.628633
A15: 6. | B15: Metalltechnik | C15: 1085 | D15: 3.3033947 | F15: 6. | G15: Mechatronik | H15: 3051 | I15: 4.3575132
A16: 7. | B16: Hotel- und Gastgewerbeassistentin | C16: 913 | D16: 2.7797229 | F16: 7. | G16: Informationstechnologie | H16: 1944 | I16: 2.7764686
A17: 8. | B17: Köchin | C17: 870 | D17: 2.648805 | F17: 8. | G17: Koch | H17: 1852 | I17: 2.6450719
A18: 9. | B18: Konditorei (Zuckerbäckerei) | C18: 818 | D18: 2.4904856 | F18: 9. | G18: Land- und Baumaschinentechnik | H18: 1628 | I18: 2.3251496
A19: 10. | B19: Restaurantfachfrau | C19: 782 | D19: 2.3808799 | F19: 10. | G19: Hochbau | H19: 1617 | I19: 2.3094391
B20: Summe "TOP-10" | C20: 18068 | D20: 55.009895 | G20: Summe "TOP-10" | H20: 43673 | I20: 62.374852
B21: Lehrlinge insgesamt | C21: 32845 | D21: 100 | G21: Lehrlinge insgesamt | H21: 70017 | I21: 100
A23: Aufgrund der geringen Fallzahl erfolgt diese Auswertung nur für Mädchen und Burschen. Personen mit anderen Geschlechtseinträgen als weiblich oder männlich sind daher nicht erfasst.
A24: Lehrberufe inkl. Vorgängerlehrberufe, Modulberuf und Schwerpunktlehrberufe
A25: Quelle: LEHRLINGSSTATISTIK 2025, Wirtschaftskammern Österreichs

Sheet LL_Top10 B
A4: Lehrlingsstatistik 31.12.2025
A5: Die zehn häufigsten Lehrberufe | I5: Burgenland
B8: Mädchen | G8: Burschen
B9: Lehrberuf | C9: Lehrlinge | D9: Anteil an den weiblichen Lehrlingen insgesamt in % | G9: Lehrberuf | H9: Lehrlinge | I9: Anteil an den männlichen Lehrlingen insgesamt in %
A10: 1. | B10: Einzelhandel | C10: 157 | D10: 22.622478 | F10: 1. | G10: Kraftfahrzeugtechnik | H10: 248 | I10: 15.012107
A11: 2. | B11: Bürokauffrau | C11: 55 | D11: 7.925072 | F11: 2. | G11: Elektrotechnik | H11: 168 | I11: 10.169492
A12: 3. | B12: Pharmazeutisch-kaufmännische Assistenz | C12: 49 | D12: 7.0605187 | F12: 3. | G12: Metalltechnik | H12: 150 | I12: 9.0799031
A13: 4. | B13: Verwaltungsassistentin | C13: 48 | D13: 6.9164265 | F13: 4. | G13: Installations- und Gebäudetechnik | H13: 134 | I13: 8.1113801
A14: 5. | B14: Köchin | C14: 32 | D14: 4.610951 | F14: 5. | G14: Einzelhandel | H14: 119 | I14: 7.2033898
A15: 6. | B15: Friseurin (Stylistin) | C15: 32 | D15: 4.610951 | F15: 6. | G15: Hochbau | H15: 64 | I15: 3.874092
A16: 7. | B16: Hotel- und Gastgewerbeassistentin | C16: 28 | D16: 4.0345821 | F16: 7. | G16: Karosseriebautechnik | H16: 50 | I16: 3.0266344
A17: 8. | B17: Metalltechnik | C17: 25 | D17: 3.6023055 | F17: 8. | G17: Mechatronik | H17: 47 | I17: 2.8450363
A18: 9. | B18: Restaurantfachfrau | C18: 24 | D18: 3.4582133 | F18: 9. | G18: Betonbau | H18: 40 | I18: 2.4213075
A19: 10. | B19: Konditorei (Zuckerbäckerei) | C19: 21 | D19: 3.0259366 | F19: 10. | G19: Koch | H19: 39 | I19: 2.3607748
B20: Summe "TOP-10" | C20: 471 | D20: 67.867435 | G20: Summe "TOP-10" | H20: 1059 | I20: 64.104116
B21: Lehrlinge insgesamt | C21: 694 | D21: 100 | G21: Lehrlinge insgesamt | H21: 1652 | I21: 100
A23: Aufgrund der geringen Fallzahl erfolgt diese Auswertung nur für Mädchen und Burschen. Personen mit anderen Geschlechtseinträgen als weiblich oder männlich sind daher nicht erfasst.
A24: Lehrberufe inkl. Vorgängerlehrberufe, Modulberuf und Schwerpunktlehrberufe
A25: Quelle: LEHRLINGSSTATISTIK 2025, Wirtschaftskammern Österreichs

Sheet LL_Top10 K
A4: Lehrlingsstatistik 31.12.2025
A5: Die zehn häufigsten Lehrberufe | I5: Kärnten
B8: Mädchen | G8: Burschen
B9: Lehrberuf | C9: Lehrlinge | D9: Anteil an den weiblichen Lehrlingen insgesamt in % | G9: Lehrberuf | H9: Lehrlinge | I9: Anteil an den männlichen Lehrlingen insgesamt in %
A10: 1. | B10: Einzelhandel | C10: 442 | D10: 18.953688 | F10: 1. | G10: Elektrotechnik | H10: 723 | I10: 15.591978
A11: 2. | B11: Bürokauffrau | C11: 135 | D11: 5.7890223 | F11: 2. | G11: Metalltechnik | H11: 590 | I11: 12.723744
A12: 3. | B12: Friseurin (Stylistin) | C12: 126 | D12: 5.4030875 | F12: 3. | G12: Kraftfahrzeugtechnik | H12: 583 | I12: 12.572784
A13: 4. | B13: Elektrotechnik | C13: 122 | D13: 5.2315609 | F13: 4. | G13: Einzelhandel | H13: 286 | I13: 6.1677809
A14: 5. | B14: Verwaltungsassistentin | C14: 121 | D14: 5.1886792 | F14: 5. | G14: Installations- und Gebäudetechnik | H14: 224 | I14: 4.8307095
A15: 6. | B15: Metalltechnik | C15: 100 | D15: 4.2881647 | F15: 6. | G15: Land- und Baumaschinentechnik | H15: 160 | I15: 3.4505068
A16: 7. | B16: Pharmazeutisch-kaufmännische Assistenz | C16: 88 | D16: 3.7735849 | F16: 7. | G16: Koch | H16: 156 | I16: 3.3642441
A17: 8. | B17: Restaurantfachfrau | C17: 86 | D17: 3.6878216 | F17: 8. | G17: Hochbau | H17: 137 | I17: 2.9544964
A18: 9. | B18: Hotel- und Gastgewerbeassistentin | C18: 70 | D18: 3.0017153 | F18: 9. | G18: Karosseriebautechnik | H18: 105 | I18: 2.2643951
A19: 10. | B19: Köchin | C19: 62 | D19: 2.6586621 | F19: 10. | G19: Informationstechnologie | H19: 100 | I19: 2.1565667
B20: Summe "TOP-10" | C20: 1352 | D20: 57.975986 | G20: Summe "TOP-10" | H20: 3064 | I20: 66.077205
B21: Lehrlinge insgesamt | C21: 2332 | D21: 100 | G21: Lehrlinge insgesamt | H21: 4637 | I21: 100
A23: Aufgrund der geringen Fallzahl erfolgt diese Auswertung nur für Mädchen und Burschen. Personen mit anderen Geschlechtseinträgen als weiblich oder männlich sind daher nicht erfasst.
A24: Lehrberufe inkl. Vorgängerlehrberufe, Modulberuf und Schwerpunktlehrberufe
A25: Quelle: LEHRLINGSSTATISTIK 2025, Wirtschaftskammern Österreichs

Sheet LL_Top10 NÖ
A4: Lehrlingsstatistik 31.12.2025
A5: Die zehn häufigsten Lehrberufe | I5: Niederösterreich
B8: Mädchen | G8: Burschen
B9: Lehrberuf | C9: Lehrlinge | D9: Anteil an den weiblichen Lehrlingen insgesamt in % | G9: Lehrberuf | H9: Lehrlinge | I9: Anteil an den männlichen Lehrlingen insgesamt in %
A10: 1. | B10: Einzelhandel | C10: 980 | D10: 21.378709 | F10: 1. | G10: Elektrotechnik | H10: 1643 | I10: 13.882552
A11: 2. | B11: Friseurin (Stylistin) | C11: 353 | D11: 7.7006981 | F11: 2. | G11: Kraftfahrzeugtechnik | H11: 1436 | I11: 12.133502
A12: 3. | B12: Bürokauffrau | C12: 298 | D12: 6.5008726 | F12: 3. | G12: Metalltechnik | H12: 1180 | I12: 9.9704267
A13: 4. | B13: Verwaltungsassistentin | C13: 266 | D13: 5.8027923 | F13: 4. | G13: Einzelhandel | H13: 783 | I13: 6.6159696
A14: 5. | B14: Pharmazeutisch-kaufmännische Assistenz | C14: 192 | D14: 4.1884817 | F14: 5. | G14: Installations- und Gebäudetechnik | H14: 754 | I14: 6.3709337
A15: 6. | B15: Konditorei (Zuckerbäckerei) | C15: 169 | D15: 3.6867365 | F15: 6. | G15: Mechatronik | H15: 436 | I15: 3.6839882
A16: 7. | B16: Gastronomiefachfrau | C16: 125 | D16: 2.7268761 | F16: 7. | G16: Land- und Baumaschinentechnik | H16: 422 | I16: 3.565695
A17: 8. | B17: Köchin | C17: 124 | D17: 2.7050611 | F17: 8. | G17: Karosseriebautechnik | H17: 310 | I17: 2.6193494
A18: 9. | B18: Restaurantfachfrau | C18: 106 | D18: 2.3123909 | F18: 9. | G18: Hochbau | H18: 310 | I18: 2.6193494
A19: 10. | B19: Elektrotechnik | C19: 104 | D19: 2.2687609 | F19: 10. | G19: Tischlerei - Schwerpunkt Allgemeine Tischlerei | H19: 288 | I19: 2.4334601
B20: Summe "TOP-10" | C20: 2717 | D20: 59.271379 | G20: Summe "TOP-10" | H20: 7562 | I20: 63.895226
B21: Lehrlinge insgesamt | C21: 4584 | D21: 100 | G21: Lehrlinge insgesamt | H21: 11835 | I21: 100
A23: Aufgrund der geringen Fallzahl erfolgt diese Auswertung nur für Mädchen und Burschen. Personen mit anderen Geschlechtseinträgen als weiblich oder männlich sind daher nicht erfasst.
A24: Lehrberufe inkl. Vorgängerlehrberufe, Modulberuf und Schwerpunktlehrberufe
A25: Quelle: LEHRLINGSSTATISTIK 2025, Wirtschaftskammern Österreichs

Sheet LL_Top10 OÖ
A4: Lehrlingsstatistik 31.12.2025
A5: Die zehn häufigsten Lehrberufe | I5: Oberösterreich
B8: Mädchen | G8: Burschen
B9: Lehrberuf | C9: Lehrlinge | D9: Anteil an den weiblichen Lehrlingen insgesamt in % | G9: Lehrberuf | H9: Lehrlinge | I9: Anteil an den männlichen Lehrlingen insgesamt in %
A10: 1. | B10: Einzelhandel | C10: 1062 | D10: 15.836564 | F10: 1. | G10: Metalltechnik | H10: 2407 | I10: 16.393108
A11: 2. | B11: Bürokauffrau | C11: 832 | D11: 12.4068 | F11: 2. | G11: Elektrotechnik | H11: 1676 | I11: 11.414561
A12: 3. | B12: Friseurin (Stylistin) | C12: 347 | D12: 5.1744706 | F12: 3. | G12: Kraftfahrzeugtechnik | H12: 1441 | I12: 9.8140707
A13: 4. | B13: Metalltechnik | C13: 276 | D13: 4.1157173 | F13: 4. | G13: Mechatronik | H13: 1088 | I13: 7.4099299
A14: 5. | B14: Pharmazeutisch-kaufmännische Assistenz | C14: 249 | D14: 3.7130928 | F14: 5. | G14: Installations- und Gebäudetechnik | H14: 693 | I14: 4.7197439
A15: 6. | B15: Verwaltungsassistentin | C15: 237 | D15: 3.5341485 | F15: 6. | G15: Einzelhandel | H15: 655 | I15: 4.4609412
A16: 7. | B16: Köchin | C16: 173 | D16: 2.5797793 | F16: 7. | G16: Informationstechnologie | H16: 424 | I16: 2.8876933
A17: 8. | B17: Großhandelskauffrau | C17: 168 | D17: 2.5052192 | F17: 8. | G17: Land- und Baumaschinentechnik | H17: 391 | I17: 2.6629435
A18: 9. | B18: Konditorei (Zuckerbäckerei) | C18: 167 | D18: 2.4903072 | F18: 9. | G18: Prozesstechnik | H18: 373 | I18: 2.5403528
A19: 10. | B19: Industriekauffrau | C19: 166 | D19: 2.4753952 | F19: 10. | G19: Hochbau | H19: 277 | I19: 1.8865354
B20: Summe "TOP-10" | C20: 3677 | D20: 54.831494 | G20: Summe "TOP-10" | H20: 9425 | I20: 64.189879
B21: Lehrlinge insgesamt | C21: 6706 | D21: 100 | G21: Lehrlinge insgesamt | H21: 14683 | I21: 100
A23: Aufgrund der geringen Fallzahl erfolgt diese Auswertung nur für Mädchen und Burschen. Personen mit anderen Geschlechtseinträgen als weiblich oder männlich sind daher nicht erfasst.
A24: Lehrberufe inkl. Vorgängerlehrberufe, Modulberuf und Schwerpunktlehrberufe
A25: Quelle: LEHRLINGSSTATISTIK 2025, Wirtschaftskammern Österreichs

Sheet LL_Top10 S
A4: Lehrlingsstatistik 31.12.2025
A5: Die zehn häufigsten Lehrberufe | I5: Salzburg
B8: Mädchen | G8: Burschen
B9: Lehrberuf | C9: Lehrlinge | D9: Anteil an den weiblichen Lehrlingen insgesamt in % | G9: Lehrberuf | H9: Lehrlinge | I9: Anteil an den männlichen Lehrlingen insgesamt in %
A10: 1. | B10: Einzelhandel | C10: 382 | D10: 14.986269 | F10: 1. | G10: Kraftfahrzeugtechnik | H10: 615 | I10: 12.312312
A11: 2. | B11: Bürokauffrau | C11: 340 | D11: 13.338564 | F11: 2. | G11: Elektrotechnik | H11: 569 | I11: 11.391391
A12: 3. | B12: Friseurin (Stylistin) | C12: 143 | D12: 5.6100432 | F12: 3. | G12: Metalltechnik | H12: 498 | I12: 9.96997
A13: 4. | B13: Hotel- und Gastgewerbeassistentin | C13: 122 | D13: 4.7861907 | F13: 4. | G13: Einzelhandel | H13: 358 | I13: 7.1671672
A14: 5. | B14: Pharmazeutisch-kaufmännische Assistenz | C14: 115 | D14: 4.5115732 | F14: 5. | G14: Mechatronik | H14: 200 | I14: 4.004004
A15: 6. | B15: Verwaltungsassistentin | C15: 78 | D15: 3.0600235 | F15: 6. | G15: Installations- und Gebäudetechnik | H15: 191 | I15: 3.8238238
A16: 7. | B16: Konditorei (Zuckerbäckerei) | C16: 76 | D16: 2.9815614 | F16: 7. | G16: Informationstechnologie | H16: 185 | I16: 3.7037037
A17: 8. | B17: Restaurantfachfrau | C17: 72 | D17: 2.8246371 | F17: 8. | G17: Zimmerei | H17: 182 | I17: 3.6436436
A18: 9. | B18: Köchin | C18: 64 | D18: 2.5107885 | F18: 9. | G18: Koch | H18: 176 | I18: 3.5235235
A19: 10. | B19: Bankkauffrau | C19: 55 | D19: 2.1577089 | F19: 10. | G19: Hochbau | H19: 173 | I19: 3.4634635
B20: Summe "TOP-10" | C20: 1447 | D20: 56.76736 | G20: Summe "TOP-10" | H20: 3147 | I20: 63.003003
B21: Lehrlinge insgesamt | C21: 2549 | D21: 100 | G21: Lehrlinge insgesamt | H21: 4995 | I21: 100
A23: Aufgrund der geringen Fallzahl erfolgt diese Auswertung nur für Mädchen und Burschen. Personen mit anderen Geschlechtseinträgen als weiblich oder männlich sind daher nicht erfasst.
A24: Lehrberufe inkl. Vorgängerlehrberufe, Modulberuf und Schwerpunktlehrberufe
A25: Quelle: LEHRLINGSSTATISTIK 2025, Wirtschaftskammern Österreichs

Sheet LL_Top10 ST
A4: Lehrlingsstatistik 31.12.2025
A5: Die zehn häufigsten Lehrberufe | I5: Steiermark
B8: Mädchen | G8: Burschen
B9: Lehrberuf | C9: Lehrlinge | D9: Anteil an den weiblichen Lehrlingen insgesamt in % | G9: Lehrberuf | H9: Lehrlinge | I9: Anteil an den männlichen Lehrlingen insgesamt in %
A10: 1. | B10: Einzelhandel | C10: 826 | D10: 18.314856 | F10: 1. | G10: Metalltechnik | H10: 1659 | I10: 16.713681
A11: 2. | B11: Bürokauffrau | C11: 381 | D11: 8.4478936 | F11: 2. | G11: Elektrotechnik | H11: 1380 | I11: 13.902881
A12: 3. | B12: Friseurin (Stylistin) | C12: 253 | D12: 5.6097561 | F12: 3. | G12: Kraftfahrzeugtechnik | H12: 1216 | I12: 12.250655
A13: 4. | B13: Metalltechnik | C13: 246 | D13: 5.4545455 | F13: 4. | G13: Installations- und Gebäudetechnik | H13: 535 | I13: 5.3898852
A14: 5. | B14: Verwaltungsassistentin | C14: 214 | D14: 4.7450111 | F14: 5. | G14: Einzelhandel | H14: 524 | I14: 5.2790651
A15: 6. | B15: Pharmazeutisch-kaufmännische Assistenz | C15: 140 | D15: 3.1042129 | F15: 6. | G15: Mechatronik | H15: 415 | I15: 4.1809389
A16: 7. | B16: Elektrotechnik | C16: 133 | D16: 2.9490022 | F16: 7. | G16: Land- und Baumaschinentechnik | H16: 256 | I16: 2.5790852
A17: 8. | B17: Köchin | C17: 106 | D17: 2.3503326 | F17: 8. | G17: Koch | H17: 225 | I17: 2.2667741
A18: 9. | B18: Industriekauffrau | C18: 95 | D18: 2.1064302 | F18: 9. | G18: Zimmerei | H18: 217 | I18: 2.1861777
A19: 10. | B19: Restaurantfachfrau | C19: 94 | D19: 2.0842572 | F19: 10. | G19: Informationstechnologie | H19: 212 | I19: 2.135805
B20: Summe "TOP-10" | C20: 2488 | D20: 55.166297 | G20: Summe "TOP-10" | H20: 6639 | I20: 66.884949
B21: Lehrlinge insgesamt | C21: 4510 | D21: 100 | G21: Lehrlinge insgesamt | H21: 9926 | I21: 100
A23: Aufgrund der geringen Fallzahl erfolgt diese Auswertung nur für Mädchen und Burschen. Personen mit anderen Geschlechtseinträgen als weiblich oder männlich sind daher nicht erfasst.
A24: Lehrberufe inkl. Vorgängerlehrberufe, Modulberuf und Schwerpunktlehrberufe
A25: Quelle: LEHRLINGSSTATISTIK 2025, Wirtschaftskammern Österreichs

Sheet LL_Top10 T
A4: Lehrlingsstatistik 31.12.2025
A5: Die zehn häufigsten Lehrberufe | I5: Tirol
B8: Mädchen | G8: Burschen
B9: Lehrberuf | C9: Lehrlinge | D9: Anteil an den weiblichen Lehrlingen insgesamt in % | G9: Lehrberuf | H9: Lehrlinge | I9: Anteil an den männlichen Lehrlingen insgesamt in %
A10: 1. | B10: Einzelhandel | C10: 445 | D10: 14.730222 | F10: 1. | G10: Elektrotechnik | H10: 871 | I10: 13.040874
A11: 2. | B11: Bürokauffrau | C11: 277 | D11: 9.1691493 | F11: 2. | G11: Metalltechnik | H11: 725 | I11: 10.854918
A12: 3. | B12: Friseurin (Stylistin) | C12: 189 | D12: 6.2562066 | F12: 3. | G12: Kraftfahrzeugtechnik | H12: 723 | I12: 10.824974
A13: 4. | B13: Hotel- und Gastgewerbeassistentin | C13: 147 | D13: 4.8659384 | F13: 4. | G13: Einzelhandel | H13: 397 | I13: 5.9440036
A14: 5. | B14: Pharmazeutisch-kaufmännische Assistenz | C14: 131 | D14: 4.3363125 | F14: 5. | G14: Installations- und Gebäudetechnik | H14: 380 | I14: 5.6894745
A15: 6. | B15: Köchin | C15: 103 | D15: 3.4094671 | F15: 6. | G15: Zimmerei | H15: 301 | I15: 4.5066627
A16: 7. | B16: Metalltechnik | C16: 95 | D16: 3.1446541 | F16: 7. | G16: Koch | H16: 239 | I16: 3.57838
A17: 8. | B17: Labortechnik | C17: 91 | D17: 3.0122476 | F17: 8. | G17: Hochbau | H17: 225 | I17: 3.3687678
A18: 9. | B18: Pflegeassistenz-AV | C18: 89 | D18: 2.9460444 | F18: 9. | G18: Mechatronik | H18: 209 | I18: 3.129211
A19: 10. | B19: Konditorei (Zuckerbäckerei) | C19: 81 | D19: 2.6812314 | F19: 10. | G19: Informationstechnologie | H19: 177 | I19: 2.6500973
B20: Summe "TOP-10" | C20: 1648 | D20: 54.551473 | G20: Summe "TOP-10" | H20: 4247 | I20: 63.587363
B21: Lehrlinge insgesamt | C21: 3021 | D21: 100 | G21: Lehrlinge insgesamt | H21: 6679 | I21: 100
A23: Aufgrund der geringen Fallzahl erfolgt diese Auswertung nur für Mädchen und Burschen. Personen mit anderen Geschlechtseinträgen als weiblich oder männlich sind daher nicht erfasst.
A24: Lehrberufe inkl. Vorgängerlehrberufe, Modulberuf und Schwerpunktlehrberufe
A25: Quelle: LEHRLINGSSTATISTIK 2025, Wirtschaftskammern Österreichs

Sheet LL_Top10 V
A4: Lehrlingsstatistik 31.12.2025
A5: Die zehn häufigsten Lehrberufe | I5: Vorarlberg
B8: Mädchen | G8: Burschen
B9: Lehrberuf | C9: Lehrlinge | D9: Anteil an den weiblichen Lehrlingen insgesamt in % | G9: Lehrberuf | H9: Lehrlinge | I9: Anteil an den männlichen Lehrlingen insgesamt in %
A10: 1. | B10: Einzelhandel | C10: 309 | D10: 16.13577 | F10: 1. | G10: Metalltechnik | H10: 796 | I10: 17.956237
A11: 2. | B11: Bürokauffrau | C11: 150 | D11: 7.8328982 | F11: 2. | G11: Elektrotechnik | H11: 543 | I11: 12.249041
A12: 3. | B12: Metalltechnik | C12: 110 | D12: 5.7441253 | F12: 3. | G12: Kraftfahrzeugtechnik | H12: 339 | I12: 7.6471915
A13: 4. | B13: Friseurin (Stylistin) | C13: 94 | D13: 4.9086162 | F13: 4. | G13: Einzelhandel | H13: 204 | I13: 4.6018498
A14: 5. | B14: Restaurantfachfrau | C14: 79 | D14: 4.1253264 | F14: 5. | G14: Installations- und Gebäudetechnik | H14: 201 | I14: 4.5341755
A15: 6. | B15: Verwaltungsassistentin | C15: 68 | D15: 3.5509138 | F15: 6. | G15: Mechatronik | H15: 179 | I15: 4.0378976
A16: 7. | B16: Hotel- und Gastgewerbeassistentin | C16: 66 | D16: 3.4464752 | F16: 7. | G16: Informationstechnologie | H16: 130 | I16: 2.9325513
A17: 8. | B17: Pharmazeutisch-kaufmännische Assistenz | C17: 56 | D17: 2.924282 | F17: 8. | G17: Zimmerei | H17: 126 | I17: 2.842319
A18: 9. | B18: Elektrotechnik | C18: 53 | D18: 2.767624 | F18: 9. | G18: Hochbau | H18: 118 | I18: 2.6618543
A19: 10. | B19: Betriebslogistikkauffrau | C19: 49 | D19: 2.5587467 | F19: 10. | G19: Koch | H19: 113 | I19: 2.5490638
B20: Summe "TOP-10" | C20: 1034 | D20: 53.994778 | G20: Summe "TOP-10" | H20: 2749 | I20: 62.012181
B21: Lehrlinge insgesamt | C21: 1915 | D21: 100 | G21: Lehrlinge insgesamt | H21: 4433 | I21: 100
A23: Aufgrund der geringen Fallzahl erfolgt diese Auswertung nur für Mädchen und Burschen. Personen mit anderen Geschlechtseinträgen als weiblich oder männlich sind daher nicht erfasst.
A24: Lehrberufe inkl. Vorgängerlehrberufe, Modulberuf und Schwerpunktlehrberufe
A25: Quelle: LEHRLINGSSTATISTIK 2025, Wirtschaftskammern Österreichs

Sheet LL_Top10 W
A4: Lehrlingsstatistik 31.12.2025
A5: Die zehn häufigsten Lehrberufe | I5: Wien
B8: Mädchen | G8: Burschen
B9: Lehrberuf | C9: Lehrlinge | D9: Anteil an den weiblichen Lehrlingen insgesamt in % | G9: Lehrberuf | H9: Lehrlinge | I9: Anteil an den männlichen Lehrlingen insgesamt in %
A10: 1. | B10: Einzelhandel | C10: 911 | D10: 13.942455 | F10: 1. | G10: Elektrotechnik | H10: 1457 | I10: 13.035698
A11: 2. | B11: Verwaltungsassistentin | C11: 581 | D11: 8.8919498 | F11: 2. | G11: Einzelhandel | H11: 1272 | I11: 11.380514
A12: 3. | B12: Bürokauffrau | C12: 575 | D12: 8.8001224 | F12: 3. | G12: Kraftfahrzeugtechnik | H12: 1004 | I12: 8.9827324
A13: 4. | B13: Friseurin (Stylistin) | C13: 442 | D13: 6.7646159 | F13: 4. | G13: Installations- und Gebäudetechnik | H13: 829 | I13: 7.4170171
A14: 5. | B14: Pharmazeutisch-kaufmännische Assistenz | C14: 358 | D14: 5.4790328 | F14: 5. | G14: Informationstechnologie | H14: 522 | I14: 4.6703051
A15: 6. | B15: Zahnärztliche Fachassistenz | C15: 347 | D15: 5.3106826 | F15: 6. | G15: Koch | H15: 421 | I15: 3.7666637
A16: 7. | B16: Hotel- und Gastgewerbeassistentin | C16: 289 | D16: 4.4230181 | F16: 7. | G16: Metalltechnik | H16: 402 | I16: 3.5966717
A17: 8. | B17: Köchin | C17: 165 | D17: 2.5252525 | F17: 8. | G17: Mechatronik | H17: 396 | I17: 3.5429901
A18: 9. | B18: Elektrotechnik | C18: 158 | D18: 2.4181206 | F18: 9. | G18: Karosseriebautechnik | H18: 304 | I18: 2.7198712
A19: 10. | B19: Konditorei (Zuckerbäckerei) | C19: 149 | D19: 2.2803796 | F19: 10. | G19: Elektronik | H19: 241 | I19: 2.1562137
B20: Summe "TOP-10" | C20: 3975 | D20: 60.835629 | G20: Summe "TOP-10" | H20: 6848 | I20: 61.268677
B21: Lehrlinge insgesamt | C21: 6534 | D21: 100 | G21: Lehrlinge insgesamt | H21: 11177 | I21: 100
A23: Aufgrund der geringen Fallzahl erfolgt diese Auswertung nur für Mädchen und Burschen. Personen mit anderen Geschlechtseinträgen als weiblich oder männlich sind daher nicht erfasst.
A24: Lehrberufe inkl. Vorgängerlehrberufe, Modulberuf und Schwerpunktlehrberufe
A25: Quelle: LEHRLINGSSTATISTIK 2025, Wirtschaftskammern Österreichs

Sheet LL_IBA
A5: Lehrlingsstatistik 31.12.2025
A6: Berufsausbildung gemäß §8b
C9: § 8 b Abs. 1 BAG (Verlängerung der Lehrzeit) | F9: § 8 b Abs. 2 BAG (Teilqualifizierung)
A10: Bundesland | B10: insgesamt | C10: § 8b (1) gesamt | D10: in Unter- nehmen | E10: in Einrich- tungen | F10: § 8b (2) gesamt | G10: in Unter- nehmen | H10: in Einrich- tungen
A11: Burgenland | B11: 286 | C11: 215 | D11: 132 | E11: 83 | F11: 71 | G11: 26 | H11: 45
A12: Kärnten | B12: 467 | C12: 404 | D12: 350 | E12: 54 | F12: 63 | G12: 53 | H12: 10
A13: Niederösterreich | B13: 1401 | C13: 1292 | D13: 997 | E13: 295 | F13: 109 | G13: 105 | H13: 4
A14: Oberösterreich | B14: 1975 | C14: 1719 | D14: 1587 | E14: 132 | F14: 256 | G14: 134 | H14: 122
A15: Salzburg | B15: 418 | C15: 235 | D15: 217 | E15: 18 | F15: 183 | G15: 87 | H15: 96
A16: Steiermark | B16: 1488 | C16: 1270 | D16: 1127 | E16: 143 | F16: 218 | G16: 117 | H16: 101
A17: Tirol | B17: 504 | C17: 451 | D17: 394 | E17: 57 | F17: 53 | G17: 48 | H17: 5
A18: Vorarlberg | B18: 327 | C18: 255 | D18: 249 | E18: 6 | F18: 72 | G18: 47 | H18: 25
A19: Wien | B19: 1496 | C19: 1250 | D19: 535 | E19: 715 | F19: 246 | G19: 38 | H19: 208
A20: ÖSTERREICH | B20: 8362 | C20: 7091 | D20: 5588 | E20: 1503 | F20: 1271 | G20: 655 | H20: 616
A23: Quelle: LEHRLINGSSTATISTIK 2025, Wirtschaftskammern Österreichs

Sheet olap_bld
A1: AnzahlLL | B1: Spaltenbeschriftungen
A2: Zeilenbeschriftungen | B2: 2002 | C2: 2003 | D2: 2004 | E2: 2005 | F2: 2006 | G2: 2007 | H2: 2008 | I2: 2009 | J2: 2010 | K2: 2011 | L2: 2012 | M2: 2013 | N2: 2014 | O2: 2015 | P2: 2016 | Q2: 2017 | R2: 2018
A3: Burgenland | B3: 2839 | C3: 2787 | D3: 2810 | E3: 2854 | F3: 2956 | G3: 2940 | H3: 2921 | I3: 3061 | J3: 3039 | K3: 2926 | L3: 2798 | M3: 2650 | N3: 2690 | O3: 2592 | P3: 2592 | Q3: 2608 | R3: 2521
A4: Kärnten | B4: 9182 | C4: 8714 | D4: 8660 | E4: 9004 | F4: 9284 | G4: 9580 | H4: 9733 | I4: 9427 | J4: 9170 | K4: 8967 | L4: 8798 | M4: 8395 | N4: 7958 | O4: 7501 | P4: 7135 | Q4: 7090 | R4: 7121
A5: Niederösterreich | B5: 18673 | C5: 18123 | D5: 18056 | E5: 18477 | F5: 19072 | G5: 19782 | H5: 19970 | I5: 19961 | J5: 19814 | K5: 19407 | L5: 19171 | M5: 18638 | N5: 17693 | O5: 16833 | P5: 16043 | Q5: 15821 | R5: 16154
A6: Oberösterreich | B6: 25577 | C6: 25685 | D6: 25620 | E6: 26520 | F6: 26726 | G6: 27691 | H6: 28166 | I6: 28009 | J6: 27591 | K6: 27361 | L6: 26703 | M6: 25696 | N6: 24644 | O6: 23660 | P6: 22986 | Q6: 22779 | R6: 23160
A7: Salzburg | B7: 9704 | C7: 9600 | D7: 9545 | E7: 9777 | F7: 10392 | G7: 10682 | H7: 10788 | I7: 10550 | J7: 10308 | K7: 10062 | L7: 9787 | M7: 9396 | N7: 8908 | O7: 8467 | P7: 8232 | Q7: 8272 | R7: 8422
A8: Steiermark | B8: 18696 | C8: 18224 | D8: 18350 | E8: 18743 | F8: 19164 | G8: 19682 | H8: 19904 | I8: 19838 | J8: 19298 | K8: 18911 | L8: 18264 | M8: 17580 | N8: 16737 | O8: 15820 | P8: 15326 | Q8: 15329 | R8: 15603
A9: Tirol | B9: 12574 | C9: 12654 | D9: 12942 | E9: 13286 | F9: 13585 | G9: 14039 | H9: 13930 | I9: 13854 | J9: 13359 | K9: 12937 | L9: 12525 | M9: 12084 | N9: 11490 | O9: 10947 | P9: 10708 | Q9: 10725 | R9: 10871
A10: Vorarlberg | B10: 7201 | C10: 7210 | D10: 7322 | E10: 7515 | F10: 7820 | G10: 8001 | H10: 8175 | I10: 8147 | J10: 8133 | K10: 8240 | L10: 8104 | M10: 7914 | N10: 7542 | O10: 7225 | P10: 7096 | Q10: 7143 | R10: 7164
A11: Wien | B11: 16040 | C11: 16043 | D11: 15772 | E11: 16202 | F11: 16963 | G11: 17426 | H11: 18293 | I11: 18829 | J11: 19187 | K11: 19267 | L11: 19078 | M11: 18226 | N11: 17406 | O11: 16918 | P11: 16832 | Q11: 16846 | R11: 16899
A12: Gesamtergebnis | B12: 120486 | C12: 119040 | D12: 119077 | E12: 122378 | F12: 125962 | G12: 129823 | H12: 131880 | I12: 131676 | J12: 129899 | K12: 128078 | L12: 125228 | M12: 120579 | N12: 115068 | O12: 109963 | P12: 106950 | Q12: 106613 | R12: 107915
B14: =Auswahl_Jahr&" "&Auswahl_Status -> 2018 0 | C14: =Auswahl_Jahr-1 -> 2017 | D14: Anteil | E14: Veraend_abs | F14: Veraend_Proz
A15: Burgenland | B15: =LOOKUP(TEXT($B$14,"####"),olap_bld!$2:$2,olap_bld!3:3) -> 2521 | C15: =IF($C$14<2002,0,LOOKUP(TEXT($C$14,"####"),olap_bld!$2:$2,olap_bld!3:3)) -> 2608 | D15: =B15*100/$B$24 -> 2.3360979 | E15: =IF($C$14<2002,0,B15-C15) -> -87 | F15: =IF($C$14<2002,0,(B15*100/C15)-100) -> -3.3358896 | G15: 5000 | H15: 10000 | I15: 15000 | J15: 20000 | K15: 25000 | L15: 30000 | M15: Burgenland | N15: =D15 -> 2.3360979
A16: Kärnten | B16: =LOOKUP(TEXT($B$14,"####"),olap_bld!$2:$2,olap_bld!4:4) -> 7121 | C16: =IF($C$14<2002,0,LOOKUP(TEXT($C$14,"####"),olap_bld!$2:$2,olap_bld!4:4)) -> 7090 | D16: =B16*100/$B$24 -> 6.5987119 | E16: =IF($C$14<2002,0,B16-C16) -> 31 | F16: =IF($C$14<2002,0,(B16*100/C16)-100) -> 0.43723554 | G16: 5000 | H16: 10000 | I16: 15000 | J16: 20000 | K16: 25000 | L16: 30000 | M16: Kärnten | N16: =D16 -> 6.5987119
A17: Niederösterreich | B17: =LOOKUP(TEXT($B$14,"####"),olap_bld!$2:$2,olap_bld!5:5) -> 16154 | C17: =IF($C$14<2002,0,LOOKUP(TEXT($C$14,"####"),olap_bld!$2:$2,olap_bld!5:5)) -> 15821 | D17: =B17*100/$B$24 -> 14.969189 | E17: =IF($C$14<2002,0,B17-C17) -> 333 | F17: =IF($C$14<2002,0,(B17*100/C17)-100) -> 2.1047974 | G17: 5000 | H17: 10000 | I17: 15000 | J17: 20000 | K17: 25000 | L17: 30000 | M17: Niederösterreich | N17: =D17 -> 14.969189
A18: Oberösterreich | B18: =LOOKUP(TEXT($B$14,"####"),olap_bld!$2:$2,olap_bld!6:6) -> 23160 | C18: =IF($C$14<2002,0,LOOKUP(TEXT($C$14,"####"),olap_bld!$2:$2,olap_bld!6:6)) -> 22779 | D18: =B18*100/$B$24 -> 21.461335 | E18: =IF($C$14<2002,0,B18-C18) -> 381 | F18: =IF($C$14<2002,0,(B18*100/C18)-100) -> 1.6725932 | G18: 5000 | H18: 10000 | I18: 15000 | J18: 20000 | K18: 25000 | L18: 30000 | M18: Oberösterreich | N18: =D18 -> 21.461335
A19: Salzburg | B19: =LOOKUP(TEXT($B$14,"####"),olap_bld!$2:$2,olap_bld!7:7) -> 8422 | C19: =IF($C$14<2002,0,LOOKUP(TEXT($C$14,"####"),olap_bld!$2:$2,olap_bld!7:7)) -> 8272 | D19: =B19*100/$B$24 -> 7.8042904 | E19: =IF($C$14<2002,0,B19-C19) -> 150 | F19: =IF($C$14<2002,0,(B19*100/C19)-100) -> 1.8133462 | G19: 5000 | H19: 10000 | I19: 15000 | J19: 20000 | K19: 25000 | L19: 30000 | M19: Salzburg | N19: =D19 -> 7.8042904
A20: Steiermark | B20: =LOOKUP(TEXT($B$14,"####"),olap_bld!$2:$2,olap_bld!8:8) -> 15603 | C20: =IF($C$14<2002,0,LOOKUP(TEXT($C$14,"####"),olap_bld!$2:$2,olap_bld!8:8)) -> 15329 | D20: =B20*100/$B$24 -> 14.458602 | E20: =IF($C$14<2002,0,B20-C20) -> 274 | F20: =IF($C$14<2002,0,(B20*100/C20)-100) -> 1.7874617 | G20: 5000 | H20: 10000 | I20: 15000 | J20: 20000 | K20: 25000 | L20: 30000 | M20: Steiermark | N20: =D20 -> 14.458602
A21: Tirol | B21: =LOOKUP(TEXT($B$14,"####"),olap_bld!$2:$2,olap_bld!9:9) -> 10871 | C21: =IF($C$14<2002,0,LOOKUP(TEXT($C$14,"####"),olap_bld!$2:$2,olap_bld!9:9)) -> 10725 | D21: =B21*100/$B$24 -> 10.073669 | E21: =IF($C$14<2002,0,B21-C21) -> 146 | F21: =IF($C$14<2002,0,(B21*100/C21)-100) -> 1.3613054 | G21: 5000 | H21: 10000 | I21: 15000 | J21: 20000 | K21: 25000 | L21: 30000 | M21: Tirol | N21: =D21 -> 10.073669
A22: Vorarlberg | B22: =LOOKUP(TEXT($B$14,"####"),olap_bld!$2:$2,olap_bld!10:10) -> 7164 | C22: =IF($C$14<2002,0,LOOKUP(TEXT($C$14,"####"),olap_bld!$2:$2,olap_bld!10:10)) -> 7143 | D22: =B22*100/$B$24 -> 6.6385581 | E22: =IF($C$14<2002,0,B22-C22) -> 21 | F22: =IF($C$14<2002,0,(B22*100/C22)-100) -> 0.29399412 | G22: 5000 | H22: 10000 | I22: 15000 | J22: 20000 | K22: 25000 | L22: 30000 | M22: Vorarlberg | N22: =D22 -> 6.6385581
A23: Wien | B23: =LOOKUP(TEXT($B$14,"####"),olap_bld!$2:$2,olap_bld!11:11) -> 16899 | C23: =IF($C$14<2002,0,LOOKUP(TEXT($C$14,"####"),olap_bld!$2:$2,olap_bld!11:11)) -> 16846 | D23: =B23*100/$B$24 -> 15.659547 | E23: =IF($C$14<2002,0,B23-C23) -> 53 | F23: =IF($C$14<2002,0,(B23*100/C23)-100) -> 0.31461475 | G23: 5000 | H23: 10000 | I23: 15000 | J23: 20000 | K23: 25000 | L23: 30000 | M23: Wien | N23: =D23 -> 15.659547
A24: Österreich | B24: =LOOKUP(TEXT($B$14,"####"),olap_bld!$2:$2,olap_bld!12:12) -> 107915 | C24: =IF($C$14<2002,0,LOOKUP(TEXT($C$14,"####"),olap_bld!$2:$2,olap_bld!12:12)) -> 106613 | D24: =B24*100/$B$24 -> 100 | E24: =IF($C$14<2002,0,B24-C24) -> 1302 | F24: =IF($C$14<2002,0,(B24*100/C24)-100) -> 1.2212394
A26: Anteil absteigend sortiert für Kreisdiagramm - mittels Formel
A27: 1 | B27: =INDEX($M$15:$N$23,MATCH(LARGE($N$15:$N$23,A27),$N$15:$N$23,0),1) -> Oberösterreich | C27: =INDEX($M$15:$N$23,MATCH(LARGE($N$15:$N$23,A27),$N$15:$N$23,0),2) -> 21.461335
A28: 2 | B28: =INDEX($M$15:$N$23,MATCH(LARGE($N$15:$N$23,A28),$N$15:$N$23,0),1) -> Wien | C28: =INDEX($M$15:$N$23,MATCH(LARGE($N$15:$N$23,A28),$N$15:$N$23,0),2) -> 15.659547
A29: 3 | B29: =INDEX($M$15:$N$23,MATCH(LARGE($N$15:$N$23,A29),$N$15:$N$23,0),1) -> Niederösterreich | C29: =INDEX($M$15:$N$23,MATCH(LARGE($N$15:$N$23,A29),$N$15:$N$23,0),2) -> 14.969189
A30: 4 | B30: =INDEX($M$15:$N$23,MATCH(LARGE($N$15:$N$23,A30),$N$15:$N$23,0),1) -> Steiermark | C30: =INDEX($M$15:$N$23,MATCH(LARGE($N$15:$N$23,A30),$N$15:$N$23,0),2) -> 14.458602
A31: 5 | B31: =INDEX($M$15:$N$23,MATCH(LARGE($N$15:$N$23,A31),$N$15:$N$23,0),1) -> Tirol | C31: =INDEX($M$15:$N$23,MATCH(LARGE($N$15:$N$23,A31),$N$15:$N$23,0),2) -> 10.073669
A32: 6 | B32: =INDEX($M$15:$N$23,MATCH(LARGE($N$15:$N$23,A32),$N$15:$N$23,0),1) -> Salzburg | C32: =INDEX($M$15:$N$23,MATCH(LARGE($N$15:$N$23,A32),$N$15:$N$23,0),2) -> 7.8042904
A33: 7 | B33: =INDEX($M$15:$N$23,MATCH(LARGE($N$15:$N$23,A33),$N$15:$N$23,0),1) -> Vorarlberg | C33: =INDEX($M$15:$N$23,MATCH(LARGE($N$15:$N$23,A33),$N$15:$N$23,0),2) -> 6.6385581
A34: 8 | B34: =INDEX($M$15:$N$23,MATCH(LARGE($N$15:$N$23,A34),$N$15:$N$23,0),1) -> Kärnten | C34: =INDEX($M$15:$N$23,MATCH(LARGE($N$15:$N$23,A34),$N$15:$N$23,0),2) -> 6.5987119
A35: 9 | B35: =INDEX($M$15:$N$23,MATCH(LARGE($N$15:$N$23,A35),$N$15:$N$23,0),1) -> Burgenland | C35: =INDEX($M$15:$N$23,MATCH(LARGE($N$15:$N$23,A35),$N$15:$N$23,0),2) -> 2.3360979

Sheet olap_iba
A1: AnzahlLL | C1: Spaltenbeschriftungen
A2: Zeilenbeschriftungen | B2: Lehrvertragsart | C2: 2004 | D2: 2005 | E2: 2006 | F2: 2007 | G2: 2008 | H2: 2009 | I2: 2010 | J2: 2011 | K2: 2012 | L2: 2013 | M2: 2014 | N2: 2015 | O2: 2016 | P2: 2017 | Q2: 2018
A3: Burgenland | B3: gem.§8b Abs.1 | C3: 2 | D3: 16 | E3: 21 | F3: 35 | G3: 49 | H3: 58 | I3: 78 | J3: 80 | K3: 82 | L3: 82 | M3: 122 | N3: 133 | O3: 152 | P3: 183 | Q3: 190
A4: Burgenland | B4: gem.§8b Abs.2 | C4: 3 | D4: 10 | E4: 20 | F4: 47 | G4: 62 | H4: 82 | I4: 74 | J4: 88 | K4: 103 | L4: 100 | M4: 116 | N4: 97 | O4: 106 | P4: 108 | Q4: 75
A5: Burgenland Ergebnis | C5: 5 | D5: 26 | E5: 41 | F5: 82 | G5: 111 | H5: 140 | I5: 152 | J5: 168 | K5: 185 | L5: 182 | M5: 238 | N5: 230 | O5: 258 | P5: 291 | Q5: 265
A6: Kärnten | B6: gem.§8b Abs.1 | C6: 40 | D6: 86 | E6: 156 | F6: 198 | G6: 205 | H6: 219 | I6: 207 | J6: 219 | K6: 243 | L6: 246 | M6: 282 | N6: 303 | O6: 310 | P6: 340 | Q6: 369
A7: Kärnten | B7: gem.§8b Abs.2 | C7: 34 | D7: 43 | E7: 47 | F7: 61 | G7: 79 | H7: 71 | I7: 63 | J7: 62 | K7: 82 | L7: 90 | M7: 77 | N7: 72 | O7: 67 | P7: 73 | Q7: 62
A8: Kärnten Ergebnis | C8: 74 | D8: 129 | E8: 203 | F8: 259 | G8: 284 | H8: 290 | I8: 270 | J8: 281 | K8: 325 | L8: 336 | M8: 359 | N8: 375 | O8: 377 | P8: 413 | Q8: 431
A9: Niederösterreich | B9: gem.§8b Abs.1 | C9: 34 | D9: 117 | E9: 182 | F9: 246 | G9: 311 | H9: 357 | I9: 346 | J9: 358 | K9: 340 | L9: 446 | M9: 567 | N9: 650 | O9: 720 | P9: 804 | Q9: 891
A10: Niederösterreich | B10: gem.§8b Abs.2 | C10: 9 | D10: 20 | E10: 28 | F10: 36 | G10: 53 | H10: 62 | I10: 58 | J10: 68 | K10: 76 | L10: 59 | M10: 66 | N10: 47 | O10: 57 | P10: 46 | Q10: 59
A11: Niederösterreich Ergebnis | C11: 43 | D11: 137 | E11: 210 | F11: 282 | G11: 364 | H11: 419 | I11: 404 | J11: 426 | K11: 416 | L11: 505 | M11: 633 | N11: 697 | O11: 777 | P11: 850 | Q11: 950
A12: Oberösterreich | B12: gem.§8b Abs.1 | C12: 0 | D12: 359 | E12: 396 | F12: 470 | G12: 626 | H12: 730 | I12: 847 | J12: 872 | K12: 892 | L12: 961 | M12: 987 | N12: 1070 | O12: 1151 | P12: 1332 | Q12: 1447
A13: Oberösterreich | B13: gem.§8b Abs.2 | C13: 0 | D13: 0 | E13: 173 | F13: 279 | G13: 291 | H13: 332 | I13: 459 | J13: 506 | K13: 501 | L13: 496 | M13: 569 | N13: 595 | O13: 573 | P13: 609 | Q13: 684
A14: Oberösterreich Ergebnis | C14: 0 | D14: 359 | E14: 569 | F14: 749 | G14: 917 | H14: 1062 | I14: 1306 | J14: 1378 | K14: 1393 | L14: 1457 | M14: 1556 | N14: 1665 | O14: 1724 | P14: 1941 | Q14: 2131
A15: Salzburg | B15: gem.§8b Abs.1 | C15: 0 | D15: 0 | E15: 58 | F15: 95 | G15: 97 | H15: 108 | I15: 112 | J15: 101 | K15: 115 | L15: 146 | M15: 154 | N15: 182 | O15: 198 | P15: 196 | Q15: 224
A16: Salzburg | B16: gem.§8b Abs.2 | C16: 0 | D16: 0 | E16: 96 | F16: 113 | G16: 135 | H16: 150 | I16: 134 | J16: 123 | K16: 119 | L16: 118 | M16: 123 | N16: 112 | O16: 120 | P16: 135 | Q16: 154
A17: Salzburg Ergebnis | C17: 0 | D17: 0 | E17: 154 | F17: 208 | G17: 232 | H17: 258 | I17: 246 | J17: 224 | K17: 234 | L17: 264 | M17: 277 | N17: 294 | O17: 318 | P17: 331 | Q17: 378
A18: Steiermark | B18: gem.§8b Abs.1 | C18: 109 | D18: 257 | E18: 383 | F18: 528 | G18: 665 | H18: 707 | I18: 711 | J18: 717 | K18: 767 | L18: 822 | M18: 792 | N18: 782 | O18: 857 | P18: 961 | Q18: 1130
A19: Steiermark | B19: gem.§8b Abs.2 | C19: 196 | D19: 310 | E19: 368 | F19: 396 | G19: 383 | H19: 364 | I19: 376 | J19: 355 | K19: 330 | L19: 331 | M19: 320 | N19: 281 | O19: 226 | P19: 225 | Q19: 209
A20: Steiermark Ergebnis | C20: 305 | D20: 567 | E20: 751 | F20: 924 | G20: 1048 | H20: 1071 | I20: 1087 | J20: 1072 | K20: 1097 | L20: 1153 | M20: 1112 | N20: 1063 | O20: 1083 | P20: 1186 | Q20: 1339
A21: Tirol | B21: gem.§8b Abs.1 | C21: 12 | D21: 144 | E21: 205 | F21: 256 | G21: 229 | H21: 295 | I21: 335 | J21: 374 | K21: 405 | L21: 440 | M21: 444 | N21: 448 | O21: 512 | P21: 513 | Q21: 527
A22: Tirol | B22: gem.§8b Abs.2 | C22: 17 | D22: 44 | E22: 54 | F22: 47 | G22: 49 | H22: 64 | I22: 68 | J22: 74 | K22: 63 | L22: 64 | M22: 61 | N22: 51 | O22: 49 | P22: 59 | Q22: 64
A23: Tirol Ergebnis | C23: 29 | D23: 188 | E23: 259 | F23: 303 | G23: 278 | H23: 359 | I23: 403 | J23: 448 | K23: 468 | L23: 504 | M23: 505 | N23: 499 | O23: 561 | P23: 572 | Q23: 591
A24: Vorarlberg | B24: gem.§8b Abs.1 | C24: 0 | D24: 14 | E24: 22 | F24: 40 | G24: 81 | H24: 135 | I24: 189 | J24: 208 | K24: 195 | L24: 221 | M24: 239 | N24: 256 | O24: 259 | P24: 287 | Q24: 305
A25: Vorarlberg | B25: gem.§8b Abs.2 | C25: 30 | D25: 66 | E25: 104 | F25: 107 | G25: 137 | H25: 130 | I25: 135 | J25: 121 | K25: 121 | L25: 133 | M25: 115 | N25: 110 | O25: 118 | P25: 118 | Q25: 114
A26: Vorarlberg Ergebnis | C26: 30 | D26: 80 | E26: 126 | F26: 147 | G26: 218 | H26: 265 | I26: 324 | J26: 329 | K26: 316 | L26: 354 | M26: 354 | N26: 366 | O26: 377 | P26: 405 | Q26: 419
A27: Wien | B27: gem.§8b Abs.1 | C27: 354 | D27: 293 | E27: 329 | F27: 360 | G27: 387 | H27: 696 | I27: 855 | J27: 1071 | K27: 1198 | L27: 1306 | M27: 1318 | N27: 1325 | O27: 1399 | P27: 1459 | Q27: 1324
A28: Wien | B28: gem.§8b Abs.2 | C28: 3 | D28: 45 | E28: 84 | F28: 96 | G28: 81 | H28: 123 | I28: 126 | J28: 110 | K28: 109 | L28: 91 | M28: 123 | N28: 273 | O28: 289 | P28: 254 | Q28: 217
A29: Wien Ergebnis | C29: 357 | D29: 338 | E29: 413 | F29: 456 | G29: 468 | H29: 819 | I29: 981 | J29: 1181 | K29: 1307 | L29: 1397 | M29: 1441 | N29: 1598 | O29: 1688 | P29: 1713 | Q29: 1541
C30: 2004 | D30: 2005 | E30: 2006 | F30: 2007 | G30: 2008 | H30: 2009 | I30: 2010 | J30: 2011 | K30: 2012 | L30: 2013 | M30: 2014 | N30: 2015 | O30: 2016 | P30: 2017 | Q30: 2018
A33: AnzahlLL | D33: Spaltenbeschriftungen
A34: Zeilenbeschriftungen | B34: Lehrvertragsart | C34: Sparte | D34: 2004 | E34: 2005 | F34: 2006 | G34: 2007 | H34: 2008 | I34: 2009 | J34: 2010 | K34: 2011 | L34: 2012 | M34: 2013 | N34: 2014 | O34: 2015 | P34: 2016 | Q34: 2017 | R34: 2018
A35: Burgenland | B35: gem.§8b Abs.1 | C35: Überbetriebliche Lehrausbildung | D35: 0 | E35: 0 | F35: 0 | G35: 0 | H35: 2 | I35: 6 | J35: 18 | K35: 20 | L35: 28 | M35: 29 | N35: 61 | O35: 73 | P35: 77 | Q35: 106 | R35: 116
A36: Burgenland | B36: gem.§8b Abs.2 | C36: Überbetriebliche Lehrausbildung | D36: 0 | E36: 0 | F36: 3 | G36: 21 | H36: 18 | I36: 28 | J36: 36 | K36: 67 | L36: 88 | M36: 84 | N36: 96 | O36: 77 | P36: 89 | Q36: 90 | R36: 61
A37: Kärnten | B37: gem.§8b Abs.1 | C37: Überbetriebliche Lehrausbildung | D37: 0 | E37: 0 | F37: 0 | G37: 0 | H37: 0 | I37: 0 | J37: 0 | K37: 0 | L37: 12 | M37: 14 | N37: 32 | O37: 42 | P37: 49 | Q37: 49 | R37: 54
A38: Kärnten | B38: gem.§8b Abs.2 | C38: Überbetriebliche Lehrausbildung | D38: 0 | E38: 0 | F38: 0 | G38: 0 | H38: 0 | I38: 0 | J38: 0 | K38: 1 | L38: 7 | M38: 12 | N38: 14 | O38: 12 | P38: 12 | Q38: 16 | R38: 13
A39: Niederösterreich | B39: gem.§8b Abs.1 | C39: Überbetriebliche Lehrausbildung | D39: 0 | E39: 0 | F39: 1 | G39: 0 | H39: 0 | I39: 0 | J39: 0 | K39: 0 | L39: 0 | M39: 69 | N39: 129 | O39: 161 | P39: 177 | Q39: 181 | R39: 192
A40: Niederösterreich | B40: gem.§8b Abs.2 | C40: Überbetriebliche Lehrausbildung | D40: 3 | E40: 3 | F40: 2 | G40: 3 | H40: 8 | I40: 11 | J40: 10 | K40: 7 | L40: 7 | M40: 0 | N40: 7 | O40: 0 | P40: 1 | Q40: 1 | R40: 2
A41: Oberösterreich | B41: gem.§8b Abs.1 | C41: Überbetriebliche Lehrausbildung | D41: 0 | E41: 100 | F41: 54 | G41: 53 | H41: 76 | I41: 94 | J41: 89 | K41: 72 | L41: 52 | M41: 106 | N41: 108 | O41: 117 | P41: 139 | Q41: 140 | R41: 139
A42: Oberösterreich | B42: gem.§8b Abs.2 | C42: Überbetriebliche Lehrausbildung | D42: 0 | E42: 0 | F42: 107 | G42: 166 | H42: 145 | I42: 199 | J42: 323 | K42: 383 | L42: 370 | M42: 371 | N42: 440 | O42: 460 | P42: 450 | Q42: 485 | R42: 549
A43: Salzburg | B43: gem.§8b Abs.1 | C43: Überbetriebliche Lehrausbildung | D43: 0 | E43: 0 | F43: 0 | G43: 0 | H43: 22 | I43: 19 | J43: 19 | K43: 12 | L43: 13 | M43: 12 | N43: 14 | O43: 24 | P43: 36 | Q43: 57 | R43: 67
A44: Salzburg | B44: gem.§8b Abs.2 | C44: Überbetriebliche Lehrausbildung | D44: 0 | E44: 0 | F44: 0 | G44: 0 | H44: 72 | I44: 89 | J44: 65 | K44: 64 | L44: 68 | M44: 65 | N44: 63 | O44: 71 | P44: 77 | Q44: 95 | R44: 90
A45: Steiermark | B45: gem.§8b Abs.1 | C45: Überbetriebliche Lehrausbildung | D45: 21 | E45: 43 | F45: 78 | G45: 126 | H45: 133 | I45: 161 | J45: 162 | K45: 169 | L45: 176 | M45: 177 | N45: 152 | O45: 139 | P45: 133 | Q45: 131 | R45: 145
A46: Steiermark | B46: gem.§8b Abs.2 | C46: Überbetriebliche Lehrausbildung | D46: 83 | E46: 118 | F46: 256 | G46: 262 | H46: 270 | I46: 245 | J46: 272 | K46: 254 | L46: 236 | M46: 228 | N46: 230 | O46: 207 | P46: 160 | Q46: 159 | R46: 137
... A52: Wien | B52: gem.§8b Abs.2 | C52: Überbetriebliche Lehrausbildung | D52: 2 | E52: 44 | F52: 75 | G52: 85 | H52: 70 | I52: 108 | J52: 108 | K52: 98 | L52: 94 | M52: 78 | N52: 106 | O52: 256 | P52: 273 | Q52: 246 | R52: 202
A56: =Auswahl_Jahr&" "&Auswahl_Status -> 2018 0 | C56: § 8 b Abs. 1 BAG (Verlängerung der Lehrzeit) | F56: § 8 b Abs. 2 BAG (Teilqualifizierung)
A57: Bundesland | B57: insgesamt | C57: § 8b (1) gesamt | D57: in Unter- nehmen | E57: in Einrich- tungen | F57: § 8b (2) gesamt | G57: in Unter- nehmen | H57: in Einrich- tungen
A58: Burgenland | B58: =IF(Auswahl_Jahr<2004,,LOOKUP(TEXT($A$56,"####"),olap_iba!$30:$30,olap_iba!$5:$5)) -> 265 | C58: =IF(Auswahl_Jahr<2004,,LOOKUP(TEXT($A$56,"####"),olap_iba!$30:$30,olap_iba!$3:$3)) -> 190 | D58: =C58-E58 -> 74 | E58: =IF(Auswahl_Jahr<2004,,LOOKUP(TEXT($A$56,"####"),olap_iba!$34:$34,olap_iba!$35:$35)) -> 116 | F58: =IF(Auswahl_Jahr<2004,,LOOKUP(TEXT($A$56,"####"),olap_iba!$30:$30,olap_iba!$4:$4)) -> 75 | G58: =F58-H58 -> 14 | H58: =IF(Auswahl_Jahr<2004,,LOOKUP(TEXT($A$56,"####"),olap_iba!$34:$34,olap_iba!$36:$36)) -> 61
A59: Kärnten | B59: =IF(Auswahl_Jahr<2004,,LOOKUP(TEXT($A$56,"####"),olap_iba!$30:$30,olap_iba!$8:$8)) -> 431 | C59: =IF(Auswahl_Jahr<2004,,LOOKUP(TEXT($A$56,"####"),olap_iba!$30:$30,olap_iba!$6:$6)) -> 369 | D59: =C59-E59 -> 315 | E59: =IF(Auswahl_Jahr<2004,,LOOKUP(TEXT($A$56,"####"),olap_iba!$34:$34,olap_iba!$37:$37)) -> 54 | F59: =IF(Auswahl_Jahr<2004,,LOOKUP(TEXT($A$56,"####"),olap_iba!$30:$30,olap_iba!$7:$7)) -> 62 | G59: =F59-H59 -> 49 | H59: =IF(Auswahl_Jahr<2004,,LOOKUP(TEXT($A$56,"####"),olap_iba!$34:$34,olap_iba!$38:$38)) -> 13
A60: Niederösterreich | B60: =IF(Auswahl_Jahr<2004,,LOOKUP(TEXT($A$56,"####"),olap_iba!$30:$30,olap_iba!$11:$11)) -> 950 | C60: =IF(Auswahl_Jahr<2004,,LOOKUP(TEXT($A$56,"####"),olap_iba!$30:$30,olap_iba!$9:$9)) -> 891 | D60: =C60-E60 -> 699 | E60: =IF(Auswahl_Jahr<2004,,LOOKUP(TEXT($A$56,"####"),olap_iba!$34:$34,olap_iba!$39:$39)) -> 192 | F60: =IF(Auswahl_Jahr<2004,,LOOKUP(TEXT($A$56,"####"),olap_iba!$30:$30,olap_iba!$10:$10)) -> 59 | G60: =F60-H60 -> 57 | H60: =IF(Auswahl_Jahr<2004,,LOOKUP(TEXT($A$56,"####"),olap_iba!$34:$34,olap_iba!$40:$40)) -> 2
A61: Oberösterreich | B61: =IF(Auswahl_Jahr<2004,,LOOKUP(TEXT($A$56,"####"),olap_iba!$30:$30,olap_iba!$14:$14)) -> 2131 | C61: =IF(Auswahl_Jahr<2004,,LOOKUP(TEXT($A$56,"####"),olap_iba!$30:$30,olap_iba!$12:$12)) -> 1447 | D61: =C61-E61 -> 1308 | E61: =IF(Auswahl_Jahr<2004,,LOOKUP(TEXT($A$56,"####"),olap_iba!$34:$34,olap_iba!$41:$41)) -> 139 | F61: =IF(Auswahl_Jahr<2004,,LOOKUP(TEXT($A$56,"####"),olap_iba!$30:$30,olap_iba!$13:$13)) -> 684 | G61: =F61-H61 -> 135 | H61: =IF(Auswahl_Jahr<2004,,LOOKUP(TEXT($A$56,"####"),olap_iba!$34:$34,olap_iba!$42:$42)) -> 549
A62: Salzburg | B62: =IF(Auswahl_Jahr<2004,,LOOKUP(TEXT($A$56,"####"),olap_iba!$30:$30,olap_iba!$17:$17)) -> 378 | C62: =IF(Auswahl_Jahr<2004,,LOOKUP(TEXT($A$56,"####"),olap_iba!$30:$30,olap_iba!$15:$15)) -> 224 | D62: =C62-E62 -> 157 | E62: =IF(Auswahl_Jahr<2004,,LOOKUP(TEXT($A$56,"####"),olap_iba!$34:$34,olap_iba!$43:$43)) -> 67 | F62: =IF(Auswahl_Jahr<2004,,LOOKUP(TEXT($A$56,"####"),olap_iba!$30:$30,olap_iba!$16:$16)) -> 154 | G62: =F62-H62 -> 64 | H62: =IF(Auswahl_Jahr<2004,,LOOKUP(TEXT($A$56,"####"),olap_iba!$34:$34,olap_iba!$44:$44)) -> 90
A63: Steiermark | B63: =IF(Auswahl_Jahr<2004,,LOOKUP(TEXT($A$56,"####"),olap_iba!$30:$30,olap_iba!$20:$20)) -> 1339 | C63: =IF(Auswahl_Jahr<2004,,LOOKUP(TEXT($A$56,"####"),olap_iba!$30:$30,olap_iba!$18:$18)) -> 1130 | D63: =C63-E63 -> 985 | E63: =IF(Auswahl_Jahr<2004,,LOOKUP(TEXT($A$56,"####"),olap_iba!$34:$34,olap_iba!$45:$45)) -> 145 | F63: =IF(Auswahl_Jahr<2004,,LOOKUP(TEXT($A$56,"####"),olap_iba!$30:$30,olap_iba!$19:$19)) -> 209 | G63: =F63-H63 -> 72 | H63: =IF(Auswahl_Jahr<2004,,LOOKUP(TEXT($A$56,"####"),olap_iba!$34:$34,olap_iba!$46:$46)) -> 137
A64: Tirol | B64: =IF(Auswahl_Jahr<2004,,LOOKUP(TEXT($A$56,"####"),olap_iba!$30:$30,olap_iba!$23:$23)) -> 591 | C64: =IF(Auswahl_Jahr<2004,,LOOKUP(TEXT($A$56,"####"),olap_iba!$30:$30,olap_iba!$21:$21)) -> 527 | D64: =C64-E64 -> 472 | E64: =IF(Auswahl_Jahr<2004,,LOOKUP(TEXT($A$56,"####"),olap_iba!$34:$34,olap_iba!$47:$47)) -> 55 | F64: =IF(Auswahl_Jahr<2004,,LOOKUP(TEXT($A$56,"####"),olap_iba!$30:$30,olap_iba!$22:$22)) -> 64 | G64: =F64-H64 -> 62 | H64: =IF(Auswahl_Jahr<2004,,LOOKUP(TEXT($A$56,"####"),olap_iba!$34:$34,olap_iba!$48:$48)) -> 2
A65: Vorarlberg | B65: =IF(Auswahl_Jahr<2004,,LOOKUP(TEXT($A$56,"####"),olap_iba!$30:$30,olap_iba!$26:$26)) -> 419 | C65: =IF(Auswahl_Jahr<2004,,LOOKUP(TEXT($A$56,"####"),olap_iba!$30:$30,olap_iba!$24:$24)) -> 305 | D65: =C65-E65 -> 294 | E65: =IF(Auswahl_Jahr<2004,,LOOKUP(TEXT($A$56,"####"),olap_iba!$34:$34,olap_iba!$49:$49)) -> 11 | F65: =IF(Auswahl_Jahr<2004,,LOOKUP(TEXT($A$56,"####"),olap_iba!$30:$30,olap_iba!$25:$25)) -> 114 | G65: =F65-H65 -> 89 | H65: =IF(Auswahl_Jahr<2004,,LOOKUP(TEXT($A$56,"####"),olap_iba!$34:$34,olap_iba!$50:$50)) -> 25
A66: Wien | B66: =IF(Auswahl_Jahr<2004,,LOOKUP(TEXT($A$56,"####"),olap_iba!$30:$30,olap_iba!$29:$29)) -> 1541 | C66: =IF(Auswahl_Jahr<2004,,LOOKUP(TEXT($A$56,"####"),olap_iba!$30:$30,olap_iba!$27:$27)) -> 1324 | D66: =C66-E66 -> 396 | E66: =IF(Auswahl_Jahr<2004,,LOOKUP(TEXT($A$56,"####"),olap_iba!$34:$34,olap_iba!$51:$51)) -> 928 | F66: =IF(Auswahl_Jahr<2004,,LOOKUP(TEXT($A$56,"####"),olap_iba!$30:$30,olap_iba!$28:$28)) -> 217 | G66: =F66-H66 -> 15 | H66: =IF(Auswahl_Jahr<2004,,LOOKUP(TEXT($A$56,"####"),olap_iba!$34:$34,olap_iba!$52:$52)) -> 202
A67: ÖSTERREICH | B67: =SUM(B58:B66) -> 8045 | C67: =SUM(C58:C66) -> 6407 | D67: =C67-E67 -> 4700 | E67: =SUM(E58:E66) -> 1707 | F67: =SUM(F58:F66) -> 1638 | G67: =F67-H67 -> 557 | H67: =SUM(H58:H66) -> 1081
D68: =D67+G67 -> 5257 | E68: =E67+H67 -> 2788

Sheet Dropdown
A1: Auswahl_Jahr
A2: Zeilenbeschriftungen | D2: Auswahl
A3: 2002 | B3: =LEFT(A3,4) -> 2002 | C3: =IF(LEN(A3)>4,RIGHT(A3,LEN(A3)-5),"") | D3: 2018 | E3: =LOOKUP(TEXT(Auswahl_Jahr,"####"),B3:B25,C3:C25) -> 0 | F3: =Auswahl_Jahr&" " & E3 -> 2018 0
A4: 2003 | B4: =LEFT(A4,4) -> 2003 | C4: =IF(LEN(A4)>4,RIGHT(A4,LEN(A4)-5),"")
A5: 2004 | B5: =LEFT(A5,4) -> 2004 | C5: =IF(LEN(A5)>4,RIGHT(A5,LEN(A5)-5),"") | D5: 1 Tabellenblatt, rechte Maustaste, Steuerelement formatieren, aktuelle Jahreszahl auswählen
A6: 2005 | B6: =LEFT(A6,4) -> 2005 | C6: =IF(LEN(A6)>4,RIGHT(A6,LEN(A6)-5),"")
A7: 2006 | B7: =LEFT(A7,4) -> 2006 | C7: =IF(LEN(A7)>4,RIGHT(A7,LEN(A7)-5),"")
A8: 2007 | B8: =LEFT(A8,4) -> 2007 | C8: =IF(LEN(A8)>4,RIGHT(A8,LEN(A8)-5),"")
A9: 2008 | B9: =LEFT(A9,4) -> 2008 | C9: =IF(LEN(A9)>4,RIGHT(A9,LEN(A9)-5),"")
A10: 2009 | B10: =LEFT(A10,4) -> 2009 | C10: =IF(LEN(A10)>4,RIGHT(A10,LEN(A10)-5),"")
A11: 2010 | B11: =LEFT(A11,4) -> 2010 | C11: =IF(LEN(A11)>4,RIGHT(A11,LEN(A11)-5),"")
A12: 2011 | B12: =LEFT(A12,4) -> 2011 | C12: =IF(LEN(A12)>4,RIGHT(A12,LEN(A12)-5),"")
A13: 2012 | B13: =LEFT(A13,4) -> 2012 | C13: =IF(LEN(A13)>4,RIGHT(A13,LEN(A13)-5),"")
A14: 2013 | B14: =LEFT(A14,4) -> 2013 | C14: =IF(LEN(A14)>4,RIGHT(A14,LEN(A14)-5),"")
A15: 2014 | B15: =LEFT(A15,4) -> 2014 | C15: =IF(LEN(A15)>4,RIGHT(A15,LEN(A15)-5),"")
A16: 2015 | B16: =LEFT(A16,4) -> 2015
A17: 2016 | B17: =LEFT(A17,4) -> 2016 | C17: =IF(LEN(A17)>4,RIGHT(A17,LEN(A17)-5),"")
A18: 2017 | B18: =LEFT(A18,4) -> 2017
A19: 2018 | B19: =LEFT(A19,4) -> 2018
