Workbook
Name Aktuelles_Jahr: [1]olap_sp_bld!$B$30
Name Aktuelles_Jahr: [2]olap_sp_bld_1Lj!$B$30
Name Aktuelles_Jahr: [3]olap_sp_bld_1Lj!$B$30
Name Aktuelles_Jahr: [3]olap_sp_bld_1Lj!$B$30
Name Aktuelles_Jahr: [3]olap_sp_bld_1Lj!$B$30
Name Aktuelles_Jahr: [3]olap_sp_bld_1Lj!$B$30
Name Aktuelles_Jahr: [3]olap_sp_bld_1Lj!$B$30
Name Aktuelles_Jahr: [3]olap_sp_bld_1Lj!$B$30
Name Aktuelles_Jahr: [3]olap_sp_bld_1Lj!$B$30
Name Aktuelles_Jahr: [3]olap_sp_bld_1Lj!$B$30
Name Aktuelles_Jahr: [3]olap_sp_bld_1Lj!$B$30
Name Aktuelles_Jahr: [3]olap_sp_bld_1Lj!$B$30
Name Aktuelles_Jahr: [4]olap_sp_bld!$B$30
Name Auswahl_Bundesland: [5]Dropdown!$K$3
Name Auswahl_Jahr: [6]Dropdown!$D$3
Name Auswahl_Jahr: [7]Dropdown!$D$3
Name Auswahl_Jahr: [7]Dropdown!$D$3
Name Auswahl_Jahr: [7]Dropdown!$D$3
Name Auswahl_Jahr: [7]Dropdown!$D$3
Name Auswahl_Jahr: [7]Dropdown!$D$3
Name Auswahl_Jahr: [7]Dropdown!$D$3
Name Auswahl_Jahr: [7]Dropdown!$D$3
Name Auswahl_Jahr: [7]Dropdown!$D$3
Name Auswahl_Jahr: [7]Dropdown!$D$3
Name Auswahl_Jahr: [7]Dropdown!$D$3
Name Auswahl_Jahr: [1]Dropdown!$B$3
Name Auswahl_Jahr: [8]Dropdown!$D$3
Name Auswahl_Jahr: [9]Dropdown!$D$3
Name Auswahl_Jahr: [9]Dropdown!$D$3
Name Auswahl_Jahr: [9]Dropdown!$D$3
Name Auswahl_Jahr: [9]Dropdown!$D$3
Name Auswahl_Jahr: [9]Dropdown!$D$3
Name Auswahl_Jahr: [9]Dropdown!$D$3
Name Auswahl_Jahr: [9]Dropdown!$D$3
Name Auswahl_Jahr: [9]Dropdown!$D$3
Name Auswahl_Jahr: [9]Dropdown!$D$3
Name Auswahl_Jahr: [9]Dropdown!$D$3
Name Auswahl_Jahr: [10]Dropdown!$D$3
Name Auswahl_Jahr: Dropdown!$D$3
Name Auswahl_Status: [6]Dropdown!$E$3
Name Auswahl_Status: [7]Dropdown!$E$3
Name Auswahl_Status: [7]Dropdown!$E$3
Name Auswahl_Status: [7]Dropdown!$E$3
Name Auswahl_Status: [7]Dropdown!$E$3
Name Auswahl_Status: [7]Dropdown!$E$3
Name Auswahl_Status: [7]Dropdown!$E$3
Name Auswahl_Status: [7]Dropdown!$E$3
Name Auswahl_Status: [7]Dropdown!$E$3
Name Auswahl_Status: [7]Dropdown!$E$3
Name Auswahl_Status: [7]Dropdown!$E$3
Name Auswahl_Status: [8]Dropdown!$E$3
Name Auswahl_Status: [10]Dropdown!$E$3
Name Auswahl_Status: Dropdown!$E$3
Name Diagrammtitel: #REF!
Name Fußnote1_Lehrbetrieb: [7]olap_betriebe_sp!$K$34
Name Fußnote1_Lehrbetrieb: [7]olap_betriebe_sp!$K$34
Name Fußnote1_Lehrbetrieb: [7]olap_betriebe_sp!$K$34
Name Fußnote1_Lehrbetrieb: [7]olap_betriebe_sp!$K$34
Name Fußnote1_Lehrbetrieb: [7]olap_betriebe_sp!$K$34
Name Fußnote1_Lehrbetrieb: [7]olap_betriebe_sp!$K$34

Sheet LL_BDL
A5: Lehrlingsstatistik 31.12.2025
A6: Lehrlinge nach Bundesländern
A9: Bundesland | B9: Lehrlinge | D9: Veränderung zum Vorjahr
B10: absolut | C10: in % | D10: absolut | E10: in %
A11: Burgenland | B11: 2346 | C11: 2.2803709 | D11: -158 | E11: -6.3099042
A12: Kärnten | B12: 6971 | C12: 6.7759871 | D12: -228 | E12: -3.1671065
A13: Niederösterreich | B13: 16421 | C13: 15.961624 | D13: -565 | E13: -3.3262687
A14: Oberösterreich | B14: 21390 | C14: 20.791617 | D14: -769 | E14: -3.4703732
A15: Salzburg | B15: 7545 | C15: 7.3339295 | D15: -275 | E15: -3.516624
A16: Steiermark | B16: 14442 | C16: 14.037987 | D16: -486 | E16: -3.255627
A17: Tirol | B17: 9700 | C17: 9.4286436 | D17: -425 | E17: -4.1975309
A18: Vorarlberg | B18: 6348 | C18: 6.1704154 | D18: -205 | E18: -3.1283382
A19: Wien | B19: 17715 | C19: 17.219425 | D19: -463 | E19: -2.5470349
A20: ÖSTERREICH 1) | B20: 102878 | C20: 100 | D20: -3574 | E20: -3.3573817
A22: 1) Davon haben 8.362 Jugendliche einen Ausbildungsplatz in der Berufsausbildung gemäß §8b
A23: (7.091 in verlängerten Lehrausbildungen und 1.271 in Teilqualifizierungen;
A24: 6.243 werden in Unternehmungen und 2.119 in Einrichtungen ausgebildet).
A26: Rundungsdifferenzen wurden nicht ausgeglichen.
A27: Quelle: LEHRLINGSSTATISTIK 2025, Wirtschaftskammern Österreichs

Sheet LL_Sp
A3: Lehrlingsstatistik 31.12.2025
A4: Lehrlinge nach Sparten | E4: Österreich
A6: Sparte | B6: Lehrlinge | D6: Veränderung zum Vorjahr
B7: absolut | C7: in % | D7: absolut | E7: in %
A8: Gewerbe und Handwerk | B8: 43965 | C8: 42.735084 | D8: -1455 | E8: -3.2034346
A9: Industrie | B9: 16169 | C9: 15.716674 | D9: -768 | E9: -4.5344512
A10: Handel | B10: 12760 | C10: 12.40304 | D10: -1063 | E10: -7.6900817
A11: Bank und Versicherung | B11: 1456 | C11: 1.4152686 | D11: 2 | E11: 0.13755158
A12: Transport und Verkehr | B12: 3021 | C12: 2.9364879 | D12: -11 | E12: -0.36279683
A13: Tourismus und Freizeitwirtschaft | B13: 7149 | C13: 6.9490076 | D13: -149 | E13: -2.0416552
A14: Information und Consulting | B14: 2420 | C14: 2.3523008 | D14: -314 | E14: -11.485004
A15: Sonstige Lehrberechtigte 1) | B15: 10040 | C15: 9.7591322 | D15: -13 | E15: -0.12931463
A16: Summe in Ausbildungsbetrieben | B16: 96980 | C16: 94.266996 | D16: -3771 | E16: -3.7428909
A17: Überbetriebliche Lehrausbildung 2) | B17: 5898 | C17: 5.7330041 | D17: 197 | E17: 3.4555341
A18: INSGESAMT 3) | B18: 102878 | C18: 100 | D18: -3574 | E18: -3.3573817
A20: 1) Nicht der Kammer der gewerblichen Wirtschaft zugehörige Betriebe (z.B. Rechtsanwälte, Magistrate, usw).
A21: Der Bereich "Sonstige Lehrberechtigte" wurde bis zum Jahr 2012 als "Nichtkammer" bezeichnet.
A22: 2) Ausbildungseinrichtungen nach dem Berufsausbildungsgesetz
A23: (zB Überbetriebliche Lehrausbildungen im Auftrag des AMS, selbständige Ausbildungseinrichtungen).
A24: 3) Davon haben 8.362 Jugendliche einen Ausbildungsplatz in der Berufsausbildung gemäß §8b
A25: (7.091 in verlängerten Lehrausbildungen und 1.271 in Teilqualifizierungen;
A26: 6.243 werden in Unternehmungen und 2.119 in Einrichtungen ausgebildet).
A27: Rundungsdifferenzen wurden nicht ausgeglichen.
A28: Quelle: LEHRLINGSSTATISTIK 2025, Wirtschaftskammern Österreichs

Sheet LL_Sp B
A3: Lehrlingsstatistik 31.12.2025
A4: Lehrlinge nach Sparten | E4: Burgenland
A6: Sparte | B6: Lehrlinge | D6: Veränderung zum Vorjahr
B7: absolut | C7: in % | D7: absolut | E7: in %
A8: Gewerbe und Handwerk | B8: 1110 | C8: 47.314578 | D8: -132 | E8: -10.628019
A9: Industrie | B9: 239 | C9: 10.187553 | D9: -43 | E9: -15.248227
A10: Handel | B10: 288 | C10: 12.276215 | D10: 3 | E10: 1.0526316
A11: Bank und Versicherung | B11: 25 | C11: 1.0656436 | D11: -1 | E11: -3.8461538
A12: Transport und Verkehr | B12: 4 | C12: 0.17050298 | D12: 0 | E12: 0
A13: Tourismus und Freizeitwirtschaft | B13: 166 | C13: 7.0758738 | D13: 23 | E13: 16.083916
A14: Information und Consulting | B14: 23 | C14: 0.98039216 | D14: -8 | E14: -25.806452
A15: Sonstige Lehrberechtigte 1) | B15: 198 | C15: 8.4398977 | D15: 5 | E15: 2.5906736
A16: Summe in Ausbildungsbetrieben | B16: 2053 | C16: 87.510656 | D16: -153 | E16: -6.9356301
A17: Überbetriebliche Lehrausbildung 2) | B17: 293 | C17: 12.489344 | D17: -5 | E17: -1.6778523
A18: INSGESAMT 3) | B18: 2346 | C18: 100 | D18: -158 | E18: -6.3099042
A20: 1) Nicht der Kammer der gewerblichen Wirtschaft zugehörige Betriebe (z.B. Rechtsanwälte, Magistrate, usw).
A21: Der Bereich "Sonstige Lehrberechtigte" wurde bis zum Jahr 2012 als "Nichtkammer" bezeichnet.
A22: 2) Ausbildungseinrichtungen nach dem Berufsausbildungsgesetz
A23: (zB Überbetriebliche Lehrausbildungen im Auftrag des AMS, selbständige Ausbildungseinrichtungen).
A24: 3) Davon haben 286 Jugendliche einen Ausbildungsplatz in der Berufsausbildung gemäß §8b
A25: (215 in verlängerten Lehrausbildungen und 71 in Teilqualifizierungen;
A26: 158 werden in Unternehmungen und 128 in Einrichtungen ausgebildet).
A27: Rundungsdifferenzen wurden nicht ausgeglichen.
A28: Quelle: LEHRLINGSSTATISTIK 2025, Wirtschaftskammern Österreichs

Sheet LL_Sp K
A3: Lehrlingsstatistik 31.12.2025
A4: Lehrlinge nach Sparten | E4: Kärnten
A6: Sparte | B6: Lehrlinge | D6: Veränderung zum Vorjahr
B7: absolut | C7: in % | D7: absolut | E7: in %
A8: Gewerbe und Handwerk | B8: 3287 | C8: 47.152489 | D8: -219 | E8: -6.2464347
A9: Industrie | B9: 1072 | C9: 15.377995 | D9: -13 | E9: -1.1981567
A10: Handel | B10: 902 | C10: 12.93932 | D10: -56 | E10: -5.8455115
A11: Bank und Versicherung | B11: 108 | C11: 1.5492756 | D11: 16 | E11: 17.391304
A12: Transport und Verkehr | B12: 82 | C12: 1.1763018 | D12: -10 | E12: -10.869565
A13: Tourismus und Freizeitwirtschaft | B13: 583 | C13: 8.3632191 | D13: -4 | E13: -0.68143101
A14: Information und Consulting | B14: 126 | C14: 1.8074882 | D14: 13 | E14: 11.504425
A15: Sonstige Lehrberechtigte 1) | B15: 586 | C15: 8.4062545 | D15: -6 | E15: -1.0135135
A16: Summe in Ausbildungsbetrieben | B16: 6746 | C16: 96.772343 | D16: -279 | E16: -3.9715302
A17: Überbetriebliche Lehrausbildung 2) | B17: 225 | C17: 3.2276574 | D17: 51 | E17: 29.310345
A18: INSGESAMT 3) | B18: 6971 | C18: 100 | D18: -228 | E18: -3.1671065
A20: 1) Nicht der Kammer der gewerblichen Wirtschaft zugehörige Betriebe (z.B. Rechtsanwälte, Magistrate, usw).
A21: Der Bereich "Sonstige Lehrberechtigte" wurde bis zum Jahr 2012 als "Nichtkammer" bezeichnet.
A22: 2) Ausbildungseinrichtungen nach dem Berufsausbildungsgesetz
A23: (zB Überbetriebliche Lehrausbildungen im Auftrag des AMS, selbständige Ausbildungseinrichtungen).
A24: 3) Davon haben 467 Jugendliche einen Ausbildungsplatz in der Berufsausbildung gemäß §8b
A25: (404 in verlängerten Lehrausbildungen und 63 in Teilqualifizierungen;
A26: 403 werden in Unternehmungen und 64 in Einrichtungen ausgebildet).
A27: Rundungsdifferenzen wurden nicht ausgeglichen.
A28: Quelle: LEHRLINGSSTATISTIK 2025, Wirtschaftskammern Österreichs

Sheet LL_Sp NÖ
A3: Lehrlingsstatistik 31.12.2025
A4: Lehrlinge nach Sparten | E4: Niederösterreich
A6: Sparte | B6: Lehrlinge | D6: Veränderung zum Vorjahr
B7: absolut | C7: in % | D7: absolut | E7: in %
A8: Gewerbe und Handwerk | B8: 7869 | C8: 47.920346 | D8: -173 | E8: -2.1512062
A9: Industrie | B9: 2520 | C9: 15.346203 | D9: -197 | E9: -7.2506441
A10: Handel | B10: 2133 | C10: 12.989465 | D10: -204 | E10: -8.7291399
A11: Bank und Versicherung | B11: 142 | C11: 0.86474636 | D11: -2 | E11: -1.3888889
A12: Transport und Verkehr | B12: 544 | C12: 3.3128311 | D12: 51 | E12: 10.344828
A13: Tourismus und Freizeitwirtschaft | B13: 868 | C13: 5.2859144 | D13: -40 | E13: -4.4052863
A14: Information und Consulting | B14: 244 | C14: 1.4859022 | D14: -27 | E14: -9.9630996
A15: Sonstige Lehrberechtigte 1) | B15: 1353 | C15: 8.2394495 | D15: -57 | E15: -4.0425532
A16: Summe in Ausbildungsbetrieben | B16: 15673 | C16: 95.444857 | D16: -649 | E16: -3.9762284
A17: Überbetriebliche Lehrausbildung 2) | B17: 748 | C17: 4.5551428 | D17: 84 | E17: 12.650602
A18: INSGESAMT 3) | B18: 16421 | C18: 100 | D18: -565 | E18: -3.3262687
A20: 1) Nicht der Kammer der gewerblichen Wirtschaft zugehörige Betriebe (z.B. Rechtsanwälte, Magistrate, usw).
A21: Der Bereich "Sonstige Lehrberechtigte" wurde bis zum Jahr 2012 als "Nichtkammer" bezeichnet.
A22: 2) Ausbildungseinrichtungen nach dem Berufsausbildungsgesetz
A23: (zB Überbetriebliche Lehrausbildungen im Auftrag des AMS, selbständige Ausbildungseinrichtungen).
A24: 3) Davon haben 1.401 Jugendliche einen Ausbildungsplatz in der Berufsausbildung gemäß §8b
A25: (1.292 in verlängerten Lehrausbildungen und 109 in Teilqualifizierungen;
A26: 1.102 werden in Unternehmungen und 299 in Einrichtungen ausgebildet).
A27: Rundungsdifferenzen wurden nicht ausgeglichen.
A28: Quelle: LEHRLINGSSTATISTIK 2025, Wirtschaftskammern Österreichs

Sheet LL_Sp OÖ
A3: Lehrlingsstatistik 31.12.2025
A4: Lehrlinge nach Sparten | E4: Oberösterreich
A6: Sparte | B6: Lehrlinge | D6: Veränderung zum Vorjahr
B7: absolut | C7: in % | D7: absolut | E7: in %
A8: Gewerbe und Handwerk | B8: 9108 | C8: 42.580645 | D8: -311 | E8: -3.3018367
A9: Industrie | B9: 4986 | C9: 23.309958 | D9: -289 | E9: -5.478673
A10: Handel | B10: 2513 | C10: 11.748481 | D10: -139 | E10: -5.2413273
A11: Bank und Versicherung | B11: 288 | C11: 1.3464236 | D11: -12 | E11: -4
A12: Transport und Verkehr | B12: 657 | C12: 3.0715288 | D12: 26 | E12: 4.1204437
A13: Tourismus und Freizeitwirtschaft | B13: 1006 | C13: 4.7031323 | D13: 14 | E13: 1.4112903
A14: Information und Consulting | B14: 535 | C14: 2.5011688 | D14: -52 | E14: -8.8586031
A15: Sonstige Lehrberechtigte 1) | B15: 1974 | C15: 9.2286115 | D15: -2 | E15: -0.10121457
A16: Summe in Ausbildungsbetrieben | B16: 21067 | C16: 98.489949 | D16: -765 | E16: -3.5040308
A17: Überbetriebliche Lehrausbildung 2) | B17: 323 | C17: 1.5100514 | D17: -4 | E17: -1.2232416
A18: INSGESAMT 3) | B18: 21390 | C18: 100 | D18: -769 | E18: -3.4703732
A20: 1) Nicht der Kammer der gewerblichen Wirtschaft zugehörige Betriebe (z.B. Rechtsanwälte, Magistrate, usw).
A21: Der Bereich "Sonstige Lehrberechtigte" wurde bis zum Jahr 2012 als "Nichtkammer" bezeichnet.
A22: 2) Ausbildungseinrichtungen nach dem Berufsausbildungsgesetz
A23: (zB Überbetriebliche Lehrausbildungen im Auftrag des AMS, selbständige Ausbildungseinrichtungen).
A24: 3) Davon haben 1.975 Jugendliche einen Ausbildungsplatz in der Berufsausbildung gemäß §8b
A25: (1.719 in verlängerten Lehrausbildungen und 256 in Teilqualifizierungen;
A26: 1.721 werden in Unternehmungen und 254 in Einrichtungen ausgebildet).
A27: Rundungsdifferenzen wurden nicht ausgeglichen.
A28: Quelle: LEHRLINGSSTATISTIK 2025, Wirtschaftskammern Österreichs

Sheet LL_Sp S
A3: Lehrlingsstatistik 31.12.2025
A4: Lehrlinge nach Sparten | E4: Salzburg
A6: Sparte | B6: Lehrlinge | D6: Veränderung zum Vorjahr
B7: absolut | C7: in % | D7: absolut | E7: in %
A8: Gewerbe und Handwerk | B8: 3524 | C8: 46.706428 | D8: -178 | E8: -4.8082118
A9: Industrie | B9: 657 | C9: 8.7077535 | D9: -5 | E9: -0.75528701
A10: Handel | B10: 1076 | C10: 14.2611 | D10: -103 | E10: -8.7362171
A11: Bank und Versicherung | B11: 151 | C11: 2.0013254 | D11: 12 | E11: 8.6330935
A12: Transport und Verkehr | B12: 243 | C12: 3.2206759 | D12: 10 | E12: 4.2918455
A13: Tourismus und Freizeitwirtschaft | B13: 743 | C13: 9.8475812 | D13: -5 | E13: -0.6684492
A14: Information und Consulting | B14: 193 | C14: 2.5579854 | D14: -54 | E14: -21.862348
A15: Sonstige Lehrberechtigte 1) | B15: 824 | C15: 10.92114 | D15: 24 | E15: 3
A16: Summe in Ausbildungsbetrieben | B16: 7411 | C16: 98.223989 | D16: -299 | E16: -3.8780804
A17: Überbetriebliche Lehrausbildung 2) | B17: 134 | C17: 1.7760106 | D17: 24 | E17: 21.818182
A18: INSGESAMT 3) | B18: 7545 | C18: 100 | D18: -275 | E18: -3.516624
A20: 1) Nicht der Kammer der gewerblichen Wirtschaft zugehörige Betriebe (z.B. Rechtsanwälte, Magistrate, usw).
A21: Der Bereich "Sonstige Lehrberechtigte" wurde bis zum Jahr 2012 als "Nichtkammer" bezeichnet.
A22: 2) Ausbildungseinrichtungen nach dem Berufsausbildungsgesetz
A23: (zB Überbetriebliche Lehrausbildungen im Auftrag des AMS, selbständige Ausbildungseinrichtungen).
A24: 3) Davon haben 418 Jugendliche einen Ausbildungsplatz in der Berufsausbildung gemäß §8b
A25: (235 in verlängerten Lehrausbildungen und 183 in Teilqualifizierungen;
A26: 304 werden in Unternehmungen und 114 in Einrichtungen ausgebildet).
A27: Rundungsdifferenzen wurden nicht ausgeglichen.
A28: Quelle: LEHRLINGSSTATISTIK 2025, Wirtschaftskammern Österreichs

Sheet LL_Sp ST
A3: Lehrlingsstatistik 31.12.2025
A4: Lehrlinge nach Sparten | E4: Steiermark
A6: Sparte | B6: Lehrlinge | D6: Veränderung zum Vorjahr
B7: absolut | C7: in % | D7: absolut | E7: in %
A8: Gewerbe und Handwerk | B8: 6391 | C8: 44.252874 | D8: -242 | E8: -3.6484245
A9: Industrie | B9: 2845 | C9: 19.699488 | D9: -79 | E9: -2.7017784
A10: Handel | B10: 1628 | C10: 11.272677 | D10: -122 | E10: -6.9714286
A11: Bank und Versicherung | B11: 144 | C11: 0.99709182 | D11: 7 | E11: 5.1094891
A12: Transport und Verkehr | B12: 158 | C12: 1.0940313 | D12: -24 | E12: -13.186813
A13: Tourismus und Freizeitwirtschaft | B13: 893 | C13: 6.1833541 | D13: -11 | E13: -1.2168142
A14: Information und Consulting | B14: 333 | C14: 2.3057748 | D14: -66 | E14: -16.541353
A15: Sonstige Lehrberechtigte 1) | B15: 1434 | C15: 9.9293727 | D15: 57 | E15: 4.1394336
A16: Summe in Ausbildungsbetrieben | B16: 13826 | C16: 95.734663 | D16: -480 | E16: -3.3552356
A17: Überbetriebliche Lehrausbildung 2) | B17: 616 | C17: 4.2653372 | D17: -6 | E17: -0.96463023
A18: INSGESAMT 3) | B18: 14442 | C18: 100 | D18: -486 | E18: -3.255627
A20: 1) Nicht der Kammer der gewerblichen Wirtschaft zugehörige Betriebe (z.B. Rechtsanwälte, Magistrate, usw).
A21: Der Bereich "Sonstige Lehrberechtigte" wurde bis zum Jahr 2012 als "Nichtkammer" bezeichnet.
A22: 2) Ausbildungseinrichtungen nach dem Berufsausbildungsgesetz
A23: (zB Überbetriebliche Lehrausbildungen im Auftrag des AMS, selbständige Ausbildungseinrichtungen).
A24: 3) Davon haben 1.488 Jugendliche einen Ausbildungsplatz in der Berufsausbildung gemäß §8b
A25: (1.270 in verlängerten Lehrausbildungen und 218 in Teilqualifizierungen;
A26: 1.244 werden in Unternehmungen und 244 in Einrichtungen ausgebildet).
A27: Rundungsdifferenzen wurden nicht ausgeglichen.
A28: Quelle: LEHRLINGSSTATISTIK 2025, Wirtschaftskammern Österreichs

Sheet LL_Sp T
A3: Lehrlingsstatistik 31.12.2025
A4: Lehrlinge nach Sparten | E4: Tirol
A6: Sparte | B6: Lehrlinge | D6: Veränderung zum Vorjahr
B7: absolut | C7: in % | D7: absolut | E7: in %
A8: Gewerbe und Handwerk | B8: 4898 | C8: 50.494845 | D8: -218 | E8: -4.2611415
A9: Industrie | B9: 1226 | C9: 12.639175 | D9: -74 | E9: -5.6923077
A10: Handel | B10: 1104 | C10: 11.381443 | D10: -125 | E10: -10.170871
A11: Bank und Versicherung | B11: 127 | C11: 1.3092784 | D11: 1 | E11: 0.79365079
A12: Transport und Verkehr | B12: 283 | C12: 2.9175258 | D12: -13 | E12: -4.3918919
A13: Tourismus und Freizeitwirtschaft | B13: 939 | C13: 9.6804124 | D13: 7 | E13: 0.75107296
A14: Information und Consulting | B14: 176 | C14: 1.814433 | D14: -30 | E14: -14.563107
A15: Sonstige Lehrberechtigte 1) | B15: 871 | C15: 8.9793814 | D15: 20 | E15: 2.3501763
A16: Summe in Ausbildungsbetrieben | B16: 9624 | C16: 99.216495 | D16: -432 | E16: -4.2959427
A17: Überbetriebliche Lehrausbildung 2) | B17: 76 | C17: 0.78350515 | D17: 7 | E17: 10.144928
A18: INSGESAMT 3) | B18: 9700 | C18: 100 | D18: -425 | E18: -4.1975309
A20: 1) Nicht der Kammer der gewerblichen Wirtschaft zugehörige Betriebe (z.B. Rechtsanwälte, Magistrate, usw).
A21: Der Bereich "Sonstige Lehrberechtigte" wurde bis zum Jahr 2012 als "Nichtkammer" bezeichnet.
A22: 2) Ausbildungseinrichtungen nach dem Berufsausbildungsgesetz
A23: (zB Überbetriebliche Lehrausbildungen im Auftrag des AMS, selbständige Ausbildungseinrichtungen).
A24: 3) Davon haben 504 Jugendliche einen Ausbildungsplatz in der Berufsausbildung gemäß §8b
A25: (451 in verlängerten Lehrausbildungen und 53 in Teilqualifizierungen;
A26: 442 werden in Unternehmungen und 62 in Einrichtungen ausgebildet).
A27: Rundungsdifferenzen wurden nicht ausgeglichen.
A28: Quelle: LEHRLINGSSTATISTIK 2025, Wirtschaftskammern Österreichs

Sheet LL_Sp V
A3: Lehrlingsstatistik 31.12.2025
A4: Lehrlinge nach Sparten | E4: Vorarlberg
A6: Sparte | B6: Lehrlinge | D6: Veränderung zum Vorjahr
B7: absolut | C7: in % | D7: absolut | E7: in %
A8: Gewerbe und Handwerk | B8: 2791 | C8: 43.966604 | D8: -49 | E8: -1.7253521
A9: Industrie | B9: 1472 | C9: 23.188406 | D9: -39 | E9: -2.5810721
A10: Handel | B10: 654 | C10: 10.302457 | D10: -85 | E10: -11.50203
A11: Bank und Versicherung | B11: 84 | C11: 1.3232514 | D11: -5 | E11: -5.6179775
A12: Transport und Verkehr | B12: 190 | C12: 2.9930687 | D12: -18 | E12: -8.6538462
A13: Tourismus und Freizeitwirtschaft | B13: 494 | C13: 7.7819786 | D13: -2 | E13: -0.40322581
A14: Information und Consulting | B14: 121 | C14: 1.9061122 | D14: -1 | E14: -0.81967213
A15: Sonstige Lehrberechtigte 1) | B15: 343 | C15: 5.4032766 | D15: 2 | E15: 0.58651026
A16: Summe in Ausbildungsbetrieben | B16: 6149 | C16: 96.865154 | D16: -197 | E16: -3.1043177
A17: Überbetriebliche Lehrausbildung 2) | B17: 199 | C17: 3.1348456 | D17: -8 | E17: -3.8647343
A18: INSGESAMT 3) | B18: 6348 | C18: 100 | D18: -205 | E18: -3.1283382
A20: 1) Nicht der Kammer der gewerblichen Wirtschaft zugehörige Betriebe (z.B. Rechtsanwälte, Magistrate, usw).
A21: Der Bereich "Sonstige Lehrberechtigte" wurde bis zum Jahr 2012 als "Nichtkammer" bezeichnet.
A22: 2) Ausbildungseinrichtungen nach dem Berufsausbildungsgesetz
A23: (zB Überbetriebliche Lehrausbildungen im Auftrag des AMS, selbständige Ausbildungseinrichtungen).
A24: 3) Davon haben 327 Jugendliche einen Ausbildungsplatz in der Berufsausbildung gemäß §8b
A25: (255 in verlängerten Lehrausbildungen und 72 in Teilqualifizierungen;
A26: 296 werden in Unternehmungen und 31 in Einrichtungen ausgebildet).
A27: Rundungsdifferenzen wurden nicht ausgeglichen.
A28: Quelle: LEHRLINGSSTATISTIK 2025, Wirtschaftskammern Österreichs

Sheet LL_Sp W
A3: Lehrlingsstatistik 31.12.2025
A4: Lehrlinge nach Sparten | E4: Wien
A6: Sparte | B6: Lehrlinge | D6: Veränderung zum Vorjahr
B7: absolut | C7: in % | D7: absolut | E7: in %
A8: Gewerbe und Handwerk | B8: 4987 | C8: 28.151284 | D8: 67 | E8: 1.3617886
A9: Industrie | B9: 1152 | C9: 6.5029636 | D9: -29 | E9: -2.4555461
A10: Handel | B10: 2462 | C10: 13.897827 | D10: -232 | E10: -8.6117298
A11: Bank und Versicherung | B11: 387 | C11: 2.1845893 | D11: -14 | E11: -3.4912718
A12: Transport und Verkehr | B12: 860 | C12: 4.854643 | D12: -33 | E12: -3.6954087
A13: Tourismus und Freizeitwirtschaft | B13: 1457 | C13: 8.2246684 | D13: -131 | E13: -8.2493703
A14: Information und Consulting | B14: 669 | C14: 3.7764606 | D14: -89 | E14: -11.741425
A15: Sonstige Lehrberechtigte 1) | B15: 2457 | C15: 13.869602 | D15: -56 | E15: -2.2284123
A16: Summe in Ausbildungsbetrieben | B16: 14431 | C16: 81.462038 | D16: -517 | E16: -3.4586567
A17: Überbetriebliche Lehrausbildung 2) | B17: 3284 | C17: 18.537962 | D17: 54 | E17: 1.6718266
A18: INSGESAMT 3) | B18: 17715 | C18: 100 | D18: -463 | E18: -2.5470349
A20: 1) Nicht der Kammer der gewerblichen Wirtschaft zugehörige Betriebe (z.B. Rechtsanwälte, Magistrate, usw).
A21: Der Bereich "Sonstige Lehrberechtigte" wurde bis zum Jahr 2012 als "Nichtkammer" bezeichnet.
A22: 2) Ausbildungseinrichtungen nach dem Berufsausbildungsgesetz
A23: (zB Überbetriebliche Lehrausbildungen im Auftrag des AMS, selbständige Ausbildungseinrichtungen).
A24: 3) Davon haben 1.496 Jugendliche einen Ausbildungsplatz in der Berufsausbildung gemäß §8b
A25: (1.250 in verlängerten Lehrausbildungen und 246 in Teilqualifizierungen;
A26: 573 werden in Unternehmungen und 923 in Einrichtungen ausgebildet).
A27: Rundungsdifferenzen wurden nicht ausgeglichen.
A28: Quelle: LEHRLINGSSTATISTIK 2025, Wirtschaftskammern Österreichs

Sheet LL_Zeitr_Sp_BDL
A4: LEHRLINGSSTATISTIK, Stichtag 31.12.
A5: Lehrlinge nach Sparten und Bundesländern 1980 - 2025
B7: Lehrlinge | J7: Lehrlinge | K7: Anteil in %
A8: Sparte | B8: 1980 | C8: 1990 | D8: 2000 | E8: 2010 | F8: 2020 | G8: 2022 | H8: 2023 | I8: 2024 | J8: 2025
A9: Gewerbe und Handwerk | B9: 102051 | C9: 76120 | D9: 67309 | E9: 57328 | F9: 46659 | G9: 46913 | H9: 46666 | I9: 45420 | J9: 43965 | K9: 42.735084
A10: Industrie | B10: 28668 | C10: 21815 | D10: 14557 | E10: 16352 | F10: 16389 | G10: 16428 | H10: 16804 | I10: 16937 | J10: 16169 | K10: 15.716674
A11: Handel | B11: 40536 | C11: 26352 | D11: 19517 | E11: 18688 | F11: 15105 | G11: 15193 | H11: 14763 | I11: 13823 | J11: 12760 | K11: 12.40304
A12: Bank und Versicherung | B12: 524 | C12: 687 | D12: 900 | E12: 1250 | F12: 1268 | G12: 1218 | H12: 1364 | I12: 1454 | J12: 1456 | K12: 1.4152686
A13: Transport und Verkehr | B13: 3001 | C13: 2689 | D13: 2269 | E13: 2724 | F13: 2786 | G13: 2856 | H13: 2981 | I13: 3032 | J13: 3021 | K13: 2.9364879
A14: Tourismus und Freizeitwirtschaft | B14: 16232 | C14: 13941 | D14: 13233 | E14: 12552 | F14: 7876 | G14: 6949 | H14: 7195 | I14: 7298 | J14: 7149 | K14: 6.9490076
A15: Information und Consulting | B15: - | C15: - | D15: - | E15: 2868 | F15: 2519 | G15: 2764 | H15: 2802 | I15: 2734 | J15: 2420 | K15: 2.3523008
A16: Alle Sparten | B16: 191012 | C16: 141604 | D16: 117785 | E16: 111762 | F16: 92602 | G16: 92321 | H16: 92575 | I16: 90698 | J16: 86940 | K16: 84.507864
A17: Sonstige 1) | B17: 3077 | C17: 3912 | D17: 8815 | E17: 18137 | F17: 15814 | G17: 15764 | H17: 15691 | I17: 15754 | J17: 15938 | K17: 15.492136
A18: INSGESAMT | B18: 194089 | C18: 145516 | D18: 126600 | E18: 129899 | F18: 108416 | G18: 108085 | H18: 108266 | I18: 106452 | J18: 102878 | K18: 100
B21: Lehrlinge | J21: Lehrlinge | K21: Anteil in %
A22: Bundesland | B22: 1980 | C22: 1990 | D22: 2000 | E22: 2010 | F22: 2020 | G22: 2022 | H22: 2023 | I22: 2024 | J22: 2025
A23: Burgenland | B23: 5215 | C23: 4044 | D23: 3119 | E23: 3039 | F23: 2567 | G23: 2547 | H23: 2557 | I23: 2504 | J23: 2346 | K23: 2.2803709
A24: Kärnten | B24: 15288 | C24: 11430 | D24: 9686 | E24: 9170 | F24: 7232 | G24: 7331 | H24: 7362 | I24: 7199 | J24: 6971 | K24: 6.7759871
A25: Niederösterreich | B25: 31428 | C25: 23379 | D25: 20183 | E25: 19814 | F25: 16943 | G25: 17412 | H25: 17311 | I25: 16986 | J25: 16421 | K25: 15.961624
A26: Oberösterreich | B26: 35514 | C26: 27793 | D26: 26855 | E26: 27591 | F26: 22861 | G26: 22678 | H26: 22521 | I26: 22159 | J26: 21390 | K26: 20.791617
A27: Salzburg | B27: 13819 | C27: 10814 | D27: 10003 | E27: 10308 | F27: 8344 | G27: 7981 | H27: 7989 | I27: 7820 | J27: 7545 | K27: 7.3339295
A28: Steiermark | B28: 35606 | C28: 25363 | D28: 20172 | E28: 19298 | F28: 15323 | G28: 15275 | H28: 15318 | I28: 14928 | J28: 14442 | K28: 14.037987
A29: Tirol | B29: 17094 | C29: 13116 | D29: 12377 | E29: 13359 | F29: 10666 | G29: 10408 | H29: 10258 | I29: 10125 | J29: 9700 | K29: 9.4286436
A30: Vorarlberg | B30: 9045 | C30: 7722 | D30: 7106 | E30: 8133 | F30: 7115 | G30: 6756 | H30: 6735 | I30: 6553 | J30: 6348 | K30: 6.1704154
A31: Wien | B31: 31080 | C31: 21855 | D31: 17099 | E31: 19187 | F31: 17365 | G31: 17697 | H31: 18215 | I31: 18178 | J31: 17715 | K31: 17.219425
A32: ÖSTERREICH | B32: 194089 | C32: 145516 | D32: 126600 | E32: 129899 | F32: 108416 | G32: 108085 | H32: 108266 | I32: 106452 | J32: 102878 | K32: 100
A35: 1) Lehrlinge die außerhalb des Wirtschaftskammerbereichs (zB Rechtsanwälte, Magistrate, usw) und in Ausbildungseinrichtungen nach dem
A36: Berufsausbildungsgesetz (zB im Auftrag des AMS und selbständigen Einrichtungen) tätig sind.
A37: Rundungsdifferenzen wurden nicht ausgeglichen.
A38: Quelle: LEHRLINGSSTATISTIK, Wirtschaftskammern Österreichs

Sheet LL_Sp_Lj_Gesch
A5: Lehrlingsstatistik 31.12.2025
A6: Lehrlinge nach Sparten, Lehrjahren und Geschlecht
A9: Sparte | B9: Lehrlinge | F9: 1. Lehrjahr | J9: 2. Lehrjahr | N9: 3. Lehrjahr | R9: 4. Lehrjahr
B10: gesamt | C10: m | D10: w | E10: x | F10: gesamt | G10: m | H10: w | I10: x | J10: gesamt | K10: m | L10: w | M10: x | N10: gesamt | O10: m | P10: w | Q10: x | R10: gesamt | S10: m | T10: w | U10: x
A11: Gewerbe und Handwerk | B11: 43965 | C11: 35596 | D11: 8366 | E11: 3 | F11: 12160 | G11: 9621 | H11: 2538 | I11: 1 | J11: 12629 | K11: 10009 | L11: 2620 | M11: 0 | N11: 12321 | O11: 9780 | P11: 2539 | Q11: 2 | R11: 6855 | S11: 6186 | T11: 669 | U11: 0
A12: Industrie | B12: 16169 | C12: 13064 | D12: 3104 | E12: 1 | F12: 3825 | G12: 3097 | H12: 728 | I12: 0 | J12: 4383 | K12: 3492 | L12: 891 | M12: 0 | N12: 4572 | O12: 3638 | P12: 933 | Q12: 1 | R12: 3389 | S12: 2837 | T12: 552 | U12: 0
A13: Handel | B13: 12760 | C13: 5827 | D13: 6930 | E13: 3 | F13: 4343 | G13: 2098 | H13: 2245 | I13: 0 | J13: 4220 | K13: 1856 | L13: 2362 | M13: 2 | N13: 4055 | O13: 1767 | P13: 2287 | Q13: 1 | R13: 142 | S13: 106 | T13: 36 | U13: 0
A14: Bank und Versicherung | B14: 1456 | C14: 664 | D14: 792 | E14: 0 | F14: 409 | G14: 177 | H14: 232 | I14: 0 | J14: 526 | K14: 248 | L14: 278 | M14: 0 | N14: 517 | O14: 236 | P14: 281 | Q14: 0 | R14: 4 | S14: 3 | T14: 1 | U14: 0
A15: Transport und Verkehr | B15: 3021 | C15: 2196 | D15: 825 | E15: 0 | F15: 876 | G15: 632 | H15: 244 | I15: 0 | J15: 871 | K15: 625 | L15: 246 | M15: 0 | N15: 959 | O15: 664 | P15: 295 | Q15: 0 | R15: 315 | S15: 275 | T15: 40 | U15: 0
A16: Tourismus und Freizeitwirtschaft | B16: 7149 | C16: 3375 | D16: 3772 | E16: 2 | F16: 2392 | G16: 1155 | H16: 1235 | I16: 2 | J16: 2332 | K16: 1144 | L16: 1188 | M16: 0 | N16: 2111 | O16: 945 | P16: 1166 | Q16: 0 | R16: 314 | S16: 131 | T16: 183 | U16: 0
A17: Information und Consulting | B17: 2420 | C17: 1529 | D17: 891 | E17: 0 | F17: 574 | G17: 328 | H17: 246 | I17: 0 | J17: 740 | K17: 448 | L17: 292 | M17: 0 | N17: 723 | O17: 434 | P17: 289 | Q17: 0 | R17: 383 | S17: 319 | T17: 64 | U17: 0
A18: Sonstige Lehrberechtigte 1) | B18: 10040 | C18: 3832 | D18: 6203 | E18: 5 | F18: 2967 | G18: 1104 | H18: 1862 | I18: 1 | J18: 3300 | K18: 1151 | L18: 2146 | M18: 3 | N18: 3211 | O18: 1122 | P18: 2088 | Q18: 1 | R18: 562 | S18: 455 | T18: 107 | U18: 0
A19: Summe in Ausbildungsbetrieben | B19: 96980 | C19: 66083 | D19: 30883 | E19: 14 | F19: 27546 | G19: 18212 | H19: 9330 | I19: 4 | J19: 29001 | K19: 18973 | L19: 10023 | M19: 5 | N19: 28469 | O19: 18586 | P19: 9878 | Q19: 5 | R19: 11964 | S19: 10312 | T19: 1652 | U19: 0
A20: Überbetriebliche Lehrausbildung2) | B20: 5898 | C20: 3934 | D20: 1962 | E20: 2 | F20: 3106 | G20: 2044 | H20: 1061 | I20: 1 | J20: 1440 | K20: 994 | L20: 446 | M20: 0 | N20: 1149 | O20: 736 | P20: 412 | Q20: 1 | R20: 203 | S20: 160 | T20: 43 | U20: 0
A21: INSGESAMT 3) | B21: 102878 | C21: 70017 | D21: 32845 | E21: 16 | F21: 30652 | G21: 20256 | H21: 10391 | I21: 5 | J21: 30441 | K21: 19967 | L21: 10469 | M21: 5 | N21: 29618 | O21: 19322 | P21: 10290 | Q21: 6 | R21: 12167 | S21: 10472 | T21: 1695 | U21: 0
A23: 1) Nicht der Kammer der gewerblichen Wirtschaft zugehörige Betriebe (zB Rechtsanwälte, Magistrate, usw). Der Bereich "Sonstige Lehrberechtigte" wurde bis zum Jahr 2012
A24: als "Nichtkammer" bezeichnet.
A25: 2) Ausbildungseinrichtungen nach dem Berufsausbildungsgesetz (zB Überbetriebliche Lehrausbildungen im Auftrag des AMS, selbständige Ausbildungseinrichtungen).
A26: 3) Davon haben 8.362 Jugendliche einen Ausbildungsplatz in der Berufsausbildung gemäß §8b (7.091 in verlängerten Lehrausbildungen und 1.271 in
A27: Teilqualifizierungen; 6.243 werden in Unternehmungen und 2.119 in Einrichtungen ausgebildet).
A28: m=männlich, w=weiblich, x=weitere, siehe | D28: www.wko.at/x
A29: Quelle: LEHRLINGSSTATISTIK 2025, Wirtschaftskammern Österreichs

Sheet LL_BDL_Lj_Gesch
A5: Lehrlingsstatistik 31.12.2025
A6: Lehrlinge nach Bundesländern, Lehrjahren und Geschlecht
A9: Bundesland | B9: Lehrlinge | F9: 1. Lehrjahr | J9: 2. Lehrjahr | N9: 3. Lehrjahr | R9: 4. Lehrjahr
B10: gesamt | C10: m | D10: w | E10: x | F10: gesamt | G10: m | H10: w | I10: x | J10: gesamt | K10: m | L10: w | M10: x | N10: gesamt | O10: m | P10: w | Q10: x | R10: gesamt | S10: m | T10: w | U10: x
A11: Burgenland | B11: 2346 | C11: 1652 | D11: 694 | E11: 0 | F11: 726 | G11: 498 | H11: 228 | I11: 0 | J11: 624 | K11: 407 | L11: 217 | M11: 0 | N11: 688 | O11: 475 | P11: 213 | Q11: 0 | R11: 308 | S11: 272 | T11: 36 | U11: 0
A12: Kärnten | B12: 6971 | C12: 4637 | D12: 2332 | E12: 2 | F12: 2043 | G12: 1340 | H12: 703 | I12: 0 | J12: 2030 | K12: 1274 | L12: 756 | M12: 0 | N12: 2087 | O12: 1342 | P12: 743 | Q12: 2 | R12: 811 | S12: 681 | T12: 130 | U12: 0
A13: Niederösterreich | B13: 16421 | C13: 11835 | D13: 4584 | E13: 2 | F13: 4911 | G13: 3425 | H13: 1485 | I13: 1 | J13: 4794 | K13: 3376 | L13: 1417 | M13: 1 | N13: 4651 | O13: 3210 | P13: 1441 | Q13: 0 | R13: 2065 | S13: 1824 | T13: 241 | U13: 0
A14: Oberösterreich | B14: 21390 | C14: 14683 | D14: 6706 | E14: 1 | F14: 6015 | G14: 3935 | H14: 2080 | I14: 0 | J14: 6205 | K14: 4104 | L14: 2100 | M14: 1 | N14: 6147 | O14: 4046 | P14: 2101 | Q14: 0 | R14: 3023 | S14: 2598 | T14: 425 | U14: 0
A15: Salzburg | B15: 7545 | C15: 4995 | D15: 2549 | E15: 1 | F15: 2194 | G15: 1392 | H15: 801 | I15: 1 | J15: 2324 | K15: 1477 | L15: 847 | M15: 0 | N15: 2212 | O15: 1411 | P15: 801 | Q15: 0 | R15: 815 | S15: 715 | T15: 100 | U15: 0
A16: Steiermark | B16: 14442 | C16: 9926 | D16: 4510 | E16: 6 | F16: 4292 | G16: 2890 | H16: 1400 | I16: 2 | J16: 4231 | K16: 2809 | L16: 1422 | M16: 0 | N16: 4032 | O16: 2639 | P16: 1389 | Q16: 4 | R16: 1887 | S16: 1588 | T16: 299 | U16: 0
A17: Tirol | B17: 9700 | C17: 6679 | D17: 3021 | E17: 0 | F17: 2735 | G17: 1804 | H17: 931 | I17: 0 | J17: 2990 | K17: 1997 | L17: 993 | M17: 0 | N17: 2858 | O17: 1909 | P17: 949 | Q17: 0 | R17: 1117 | S17: 969 | T17: 148 | U17: 0
A18: Vorarlberg | B18: 6348 | C18: 4433 | D18: 1915 | E18: 0 | F18: 1715 | G18: 1219 | H18: 496 | I18: 0 | J18: 1930 | K18: 1267 | L18: 663 | M18: 0 | N18: 1871 | O18: 1238 | P18: 633 | Q18: 0 | R18: 832 | S18: 709 | T18: 123 | U18: 0
A19: Wien | B19: 17715 | C19: 11177 | D19: 6534 | E19: 4 | F19: 6021 | G19: 3753 | H19: 2267 | I19: 1 | J19: 5313 | K19: 3256 | L19: 2054 | M19: 3 | N19: 5072 | O19: 3052 | P19: 2020 | Q19: 0 | R19: 1309 | S19: 1116 | T19: 193 | U19: 0
A20: ÖSTERREICH 1) | B20: 102878 | C20: 70017 | D20: 32845 | E20: 16 | F20: 30652 | G20: 20256 | H20: 10391 | I20: 5 | J20: 30441 | K20: 19967 | L20: 10469 | M20: 5 | N20: 29618 | O20: 19322 | P20: 10290 | Q20: 6 | R20: 12167 | S20: 10472 | T20: 1695 | U20: 0
A22: 1) Davon haben 8.362 Jugendliche einen Ausbildungsplatz in der Berufsausbildung gemäß §8b (7.091 in verlängerten Lehrausbildungen und 1.271 in Teilqualifizierungen;
A23: 6.243 werden in Unternehmungen und 2.119 in Einrichtungen ausgebildet).
A24: m=männlich, w=weiblich, x=weitere, siehe | E24: www.wko.at/x
A25: Quelle: LEHRLINGSSTATISTIK 2025, Wirtschaftskammern Österreichs

Sheet LL_Zeitr_1Lj_Sp
A4: LEHRLINGSSTATISTIK, Stichtag 31.12.
A5: Lehrlinge im 1. Lehrjahr nach Sparten 2005 - 2025
A6: Österreich
B8: Lehrlinge im 1. Lehrjahr | J8: Veränderung
A9: Sparte | B9: 2005 | C9: 2010 | D9: 2015 | E9: 2020 | F9: 2022 | G9: 2023 | H9: 2024 | I9: 2025 | J9: zum Vorjahr in %
A10: Gewerbe und Handwerk | B10: 17985 | C10: 16279 | D10: 12594 | E10: 12986 | F10: 13976 | G10: 13481 | H10: 12579 | I10: 12160 | J10: -3.3309484
A11: Industrie | B11: 4091 | C11: 4036 | D11: 3851 | E11: 3975 | F11: 4734 | G11: 4849 | H11: 4448 | I11: 3825 | J11: -14.006295
A12: Handel | B12: 6368 | C12: 6262 | D12: 5009 | E12: 4910 | F12: 5451 | G12: 4915 | H12: 4624 | I12: 4343 | J12: -6.0769896
A13: Bank und Versicherung | B13: 306 | C13: 361 | D13: 301 | E13: 331 | F13: 381 | G13: 471 | H13: 437 | I13: 409 | J13: -6.4073227
A14: Transport und Verkehr | B14: 560 | C14: 775 | D14: 709 | E14: 725 | F14: 873 | G14: 926 | H14: 863 | I14: 876 | J14: 1.5063731
A15: Tourismus und Freizeitwirtschaft | B15: 4964 | C15: 4078 | D15: 2936 | E15: 1947 | F15: 2758 | G15: 2541 | H15: 2450 | I15: 2392 | J15: -2.3673469
A16: Information und Consulting | B16: 747 | C16: 773 | D16: 542 | E16: 637 | F16: 884 | G16: 746 | H16: 692 | I16: 574 | J16: -17.052023
A17: Sonstige Lehrberechtigte 1) | B17: 2567 | C17: 2538 | D17: 2256 | E17: 2739 | F17: 3007 | G17: 3182 | H17: 3105 | I17: 2967 | J17: -4.4444444
A18: Summe in Ausbildungsbetrieben | B18: 37588 | C18: 35102 | D18: 28198 | E18: 28250 | F18: 32064 | G18: 31111 | H18: 29198 | I18: 27546 | J18: -5.6579218
A19: Überbetriebliche Lehrausbildung 2) | B19: 964 | C19: 4659 | D19: 4286 | E19: 3719 | F19: 3169 | G19: 2971 | H19: 2921 | I19: 3106 | J19: 6.3334474
A20: INSGESAMT | B20: 38552 | C20: 39761 | D20: 32484 | E20: 31969 | F20: 35233 | G20: 34082 | H20: 32119 | I20: 30652 | J20: -4.56739
A22: 1) Nicht der Kammer der gewerblichen Wirtschaft zugehörige Betriebe (zB Rechtsanwälte, Magistrate, usw).
A23: Der Bereich "Sonstige Lehrberechtigte" wurde bis zum Jahr 2012 als "Nichtkammer" bezeichnet.
A24: 2) Ausbildungseinrichtungen nach dem Berufsausbildungsgesetz (zB Überbetriebliche Lehrausbildungen im Auftrag des AMS, selbständige Ausbildungseinrichtungen).
A26: Quelle: LEHRLINGSSTATISTIK, Wirtschaftskammern Österreichs

Sheet LL_Zeitr_1Lj_Sp B
A4: LEHRLINGSSTATISTIK, Stichtag 31.12.
A5: Lehrlinge im 1. Lehrjahr nach Sparten 2005 - 2025
A6: Burgenland
B8: Lehrlinge im 1. Lehrjahr | J8: Veränderung
A9: Sparte | B9: 2005 | C9: 2010 | D9: 2015 | E9: 2020 | F9: 2022 | G9: 2023 | H9: 2024 | I9: 2025 | J9: zum Vorjahr in %
A10: Gewerbe und Handwerk | B10: 496 | C10: 393 | D10: 308 | E10: 328 | F10: 410 | G10: 377 | H10: 284 | I10: 281 | J10: -1.056338
A11: Industrie | B11: 46 | C11: 41 | D11: 44 | E11: 36 | F11: 83 | G11: 83 | H11: 62 | I11: 43 | J11: -30.645161
A12: Handel | B12: 122 | C12: 116 | D12: 100 | E12: 121 | F12: 107 | G12: 95 | H12: 113 | I12: 102 | J12: -9.7345133
A13: Bank und Versicherung | B13: 5 | C13: 3 | D13: 6 | E13: 7 | F13: 8 | G13: 6 | H13: 10 | I13: 7 | J13: -30
A14: Transport und Verkehr | B14: 2 | C14: 2 | D14: 0 | E14: 2 | F14: 1 | G14: 1 | H14: 3 | I14: 1 | J14: -66.666667
A15: Tourismus und Freizeitwirtschaft | B15: 96 | C15: 87 | D15: 73 | E15: 44 | F15: 60 | G15: 56 | H15: 46 | I15: 73 | J15: 58.695652
A16: Information und Consulting | B16: 8 | C16: 8 | D16: 7 | E16: 5 | F16: 6 | G16: 13 | H16: 7 | I16: 7 | J16: 0
A17: Sonstige Lehrberechtigte 1) | B17: 69 | C17: 33 | D17: 76 | E17: 46 | F17: 73 | G17: 56 | H17: 64 | I17: 58 | J17: -9.375
A18: Summe in Ausbildungsbetrieben | B18: 844 | C18: 683 | D18: 614 | E18: 589 | F18: 748 | G18: 687 | H18: 589 | I18: 572 | J18: -2.8862479
A19: Überbetriebliche Lehrausbildung 2) | B19: 20 | C19: 217 | D19: 184 | E19: 195 | F19: 169 | G19: 150 | H19: 160 | I19: 154 | J19: -3.75
A20: INSGESAMT | B20: 864 | C20: 900 | D20: 798 | E20: 784 | F20: 917 | G20: 837 | H20: 749 | I20: 726 | J20: -3.070761
A22: 1) Nicht der Kammer der gewerblichen Wirtschaft zugehörige Betriebe (zB Rechtsanwälte, Magistrate, usw).
A23: Der Bereich "Sonstige Lehrberechtigte" wurde bis zum Jahr 2012 als "Nichtkammer" bezeichnet.
A24: 2) Ausbildungseinrichtungen nach dem Berufsausbildungsgesetz (zB Überbetriebliche Lehrausbildungen im Auftrag des AMS, selbständige Ausbildungseinrichtungen).
A26: Quelle: LEHRLINGSSTATISTIK, Wirtschaftskammern Österreichs

Sheet LL_Zeitr_1Lj_Sp K
A4: LEHRLINGSSTATISTIK, Stichtag 31.12.
A5: Lehrlinge im 1. Lehrjahr nach Sparten 2005 - 2025
A6: Kärnten
B8: Lehrlinge im 1. Lehrjahr | J8: Veränderung
A9: Sparte | B9: 2005 | C9: 2010 | D9: 2015 | E9: 2020 | F9: 2022 | G9: 2023 | H9: 2024 | I9: 2025 | J9: zum Vorjahr in %
A10: Gewerbe und Handwerk | B10: 1350 | C10: 1229 | D10: 914 | E10: 938 | F10: 1075 | G10: 1111 | H10: 980 | I10: 882 | J10: -10
A11: Industrie | B11: 281 | C11: 281 | D11: 223 | E11: 224 | F11: 299 | G11: 310 | H11: 301 | I11: 269 | J11: -10.631229
A12: Handel | B12: 527 | C12: 526 | D12: 394 | E12: 420 | F12: 367 | G12: 364 | H12: 321 | I12: 306 | J12: -4.6728972
A13: Bank und Versicherung | B13: 12 | C13: 20 | D13: 8 | E13: 11 | F13: 19 | G13: 23 | H13: 25 | I13: 33 | J13: 32
A14: Transport und Verkehr | B14: 4 | C14: 21 | D14: 12 | E14: 24 | F14: 26 | G14: 32 | H14: 26 | I14: 14 | J14: -46.153846
A15: Tourismus und Freizeitwirtschaft | B15: 430 | C15: 366 | D15: 283 | E15: 203 | F15: 242 | G15: 234 | H15: 206 | I15: 211 | J15: 2.4271845
A16: Information und Consulting | B16: 68 | C16: 46 | D16: 30 | E16: 36 | F16: 51 | G16: 33 | H16: 28 | I16: 37 | J16: 32.142857
A17: Sonstige Lehrberechtigte 1) | B17: 176 | C17: 144 | D17: 121 | E17: 143 | F17: 180 | G17: 182 | H17: 184 | I17: 158 | J17: -14.130435
A18: Summe in Ausbildungsbetrieben | B18: 2848 | C18: 2633 | D18: 1985 | E18: 1999 | F18: 2259 | G18: 2289 | H18: 2071 | I18: 1910 | J18: -7.7740222
A19: Überbetriebliche Lehrausbildung 2) | B19: 38 | C19: 217 | D19: 240 | E19: 188 | F19: 130 | G19: 104 | H19: 94 | I19: 133 | J19: 41.489362
A20: INSGESAMT | B20: 2886 | C20: 2850 | D20: 2225 | E20: 2187 | F20: 2389 | G20: 2393 | H20: 2165 | I20: 2043 | J20: -5.6351039
A22: 1) Nicht der Kammer der gewerblichen Wirtschaft zugehörige Betriebe (zB Rechtsanwälte, Magistrate, usw).
A23: Der Bereich "Sonstige Lehrberechtigte" wurde bis zum Jahr 2012 als "Nichtkammer" bezeichnet.
A24: 2) Ausbildungseinrichtungen nach dem Berufsausbildungsgesetz (zB Überbetriebliche Lehrausbildungen im Auftrag des AMS, selbständige Ausbildungseinrichtungen).
A26: Quelle: LEHRLINGSSTATISTIK, Wirtschaftskammern Österreichs

Sheet LL_Zeitr_1Lj_Sp NÖ
A4: LEHRLINGSSTATISTIK, Stichtag 31.12.
A5: Lehrlinge im 1. Lehrjahr nach Sparten 2005 - 2025
A6: Niederösterreich
B8: Lehrlinge im 1. Lehrjahr | J8: Veränderung
A9: Sparte | B9: 2005 | C9: 2010 | D9: 2015 | E9: 2020 | F9: 2022 | G9: 2023 | H9: 2024 | I9: 2025 | J9: zum Vorjahr in %
A10: Gewerbe und Handwerk | B10: 2946 | C10: 2645 | D10: 1980 | E10: 2243 | F10: 2519 | G10: 2365 | H10: 2247 | I10: 2247 | J10: 0
A11: Industrie | B11: 619 | C11: 641 | D11: 547 | E11: 635 | F11: 741 | G11: 736 | H11: 704 | I11: 591 | J11: -16.051136
A12: Handel | B12: 907 | C12: 881 | D12: 735 | E12: 745 | F12: 939 | G12: 781 | H12: 755 | I12: 682 | J12: -9.6688742
A13: Bank und Versicherung | B13: 27 | C13: 28 | D13: 25 | E13: 36 | F13: 41 | G13: 53 | H13: 53 | I13: 37 | J13: -30.188679
A14: Transport und Verkehr | B14: 43 | C14: 87 | D14: 181 | E14: 161 | F14: 157 | G14: 154 | H14: 162 | I14: 184 | J14: 13.580247
A15: Tourismus und Freizeitwirtschaft | B15: 665 | C15: 487 | D15: 297 | E15: 237 | F15: 360 | G15: 301 | H15: 297 | I15: 280 | J15: -5.7239057
A16: Information und Consulting | B16: 96 | C16: 84 | D16: 61 | E16: 63 | F16: 101 | G16: 73 | H16: 64 | I16: 59 | J16: -7.8125
A17: Sonstige Lehrberechtigte 1) | B17: 234 | C17: 214 | D17: 216 | E17: 335 | F17: 441 | G17: 473 | H17: 390 | I17: 409 | J17: 4.8717949
A18: Summe in Ausbildungsbetrieben | B18: 5537 | C18: 5067 | D18: 4042 | E18: 4455 | F18: 5299 | G18: 4936 | H18: 4672 | I18: 4489 | J18: -3.9169521
A19: Überbetriebliche Lehrausbildung 2) | B19: 202 | C19: 1105 | D19: 948 | E19: 505 | F19: 365 | G19: 297 | H19: 379 | I19: 422 | J19: 11.345646
A20: INSGESAMT | B20: 5739 | C20: 6172 | D20: 4990 | E20: 4960 | F20: 5664 | G20: 5233 | H20: 5051 | I20: 4911 | J20: -2.7717284
A22: 1) Nicht der Kammer der gewerblichen Wirtschaft zugehörige Betriebe (zB Rechtsanwälte, Magistrate, usw).
A23: Der Bereich "Sonstige Lehrberechtigte" wurde bis zum Jahr 2012 als "Nichtkammer" bezeichnet.
A24: 2) Ausbildungseinrichtungen nach dem Berufsausbildungsgesetz (zB Überbetriebliche Lehrausbildungen im Auftrag des AMS, selbständige Ausbildungseinrichtungen).
A26: Quelle: LEHRLINGSSTATISTIK, Wirtschaftskammern Österreichs

Sheet LL_Zeitr_1Lj_Sp OÖ
A4: LEHRLINGSSTATISTIK, Stichtag 31.12.
A5: Lehrlinge im 1. Lehrjahr nach Sparten 2005 - 2025
A6: Oberösterreich
B8: Lehrlinge im 1. Lehrjahr | J8: Veränderung
A9: Sparte | B9: 2005 | C9: 2010 | D9: 2015 | E9: 2020 | F9: 2022 | G9: 2023 | H9: 2024 | I9: 2025 | J9: zum Vorjahr in %
A10: Gewerbe und Handwerk | B10: 3884 | C10: 3550 | D10: 2678 | E10: 2658 | F10: 2891 | G10: 2661 | H10: 2505 | I10: 2399 | J10: -4.2315369
A11: Industrie | B11: 1183 | C11: 1106 | D11: 1176 | E11: 1244 | F11: 1491 | G11: 1525 | H11: 1318 | I11: 1157 | J11: -12.215478
A12: Handel | B12: 1366 | C12: 1317 | D12: 1019 | E12: 942 | F12: 1033 | G12: 936 | H12: 915 | I12: 896 | J12: -2.0765027
A13: Bank und Versicherung | B13: 64 | C13: 73 | D13: 58 | E13: 77 | F13: 87 | G13: 101 | H13: 88 | I13: 78 | J13: -11.363636
A14: Transport und Verkehr | B14: 164 | C14: 184 | D14: 132 | E14: 135 | F14: 186 | G14: 186 | H14: 186 | I14: 215 | J14: 15.591398
A15: Tourismus und Freizeitwirtschaft | B15: 794 | C15: 616 | D15: 441 | E15: 299 | F15: 393 | G15: 338 | H15: 346 | I15: 378 | J15: 9.2485549
A16: Information und Consulting | B16: 173 | C16: 138 | D16: 110 | E16: 132 | F16: 198 | G16: 179 | H16: 144 | I16: 129 | J16: -10.416667
A17: Sonstige Lehrberechtigte 1) | B17: 555 | C17: 491 | D17: 485 | E17: 614 | F17: 577 | G17: 623 | H17: 652 | I17: 587 | J17: -9.9693252
A18: Summe in Ausbildungsbetrieben | B18: 8183 | C18: 7475 | D18: 6099 | E18: 6101 | F18: 6856 | G18: 6549 | H18: 6154 | I18: 5839 | J18: -5.118622
A19: Überbetriebliche Lehrausbildung 2) | B19: 123 | C19: 535 | D19: 609 | E19: 488 | F19: 242 | G19: 230 | H19: 193 | I19: 176 | J19: -8.8082902
A20: INSGESAMT | B20: 8306 | C20: 8010 | D20: 6708 | E20: 6589 | F20: 7098 | G20: 6779 | H20: 6347 | I20: 6015 | J20: -5.2308177
A22: 1) Nicht der Kammer der gewerblichen Wirtschaft zugehörige Betriebe (zB Rechtsanwälte, Magistrate, usw).
A23: Der Bereich "Sonstige Lehrberechtigte" wurde bis zum Jahr 2012 als "Nichtkammer" bezeichnet.
A24: 2) Ausbildungseinrichtungen nach dem Berufsausbildungsgesetz (zB Überbetriebliche Lehrausbildungen im Auftrag des AMS, selbständige Ausbildungseinrichtungen).
A26: Quelle: LEHRLINGSSTATISTIK, Wirtschaftskammern Österreichs

Sheet LL_Zeitr_1Lj_Sp S
A4: LEHRLINGSSTATISTIK, Stichtag 31.12.
A5: Lehrlinge im 1. Lehrjahr nach Sparten 2005 - 2025
A6: Salzburg
B8: Lehrlinge im 1. Lehrjahr | J8: Veränderung
A9: Sparte | B9: 2005 | C9: 2010 | D9: 2015 | E9: 2020 | F9: 2022 | G9: 2023 | H9: 2024 | I9: 2025 | J9: zum Vorjahr in %
A10: Gewerbe und Handwerk | B10: 1428 | C10: 1400 | D10: 1053 | E10: 1058 | F10: 1072 | G10: 1019 | H10: 980 | I10: 947 | J10: -3.3673469
A11: Industrie | B11: 196 | C11: 200 | D11: 162 | E11: 170 | F11: 170 | G11: 174 | H11: 203 | I11: 161 | J11: -20.689655
A12: Handel | B12: 627 | C12: 554 | D12: 403 | E12: 412 | F12: 431 | G12: 414 | H12: 379 | I12: 349 | J12: -7.9155673
A13: Bank und Versicherung | B13: 31 | C13: 28 | D13: 36 | E13: 29 | F13: 43 | G13: 44 | H13: 43 | I13: 57 | J13: 32.55814
A14: Transport und Verkehr | B14: 46 | C14: 56 | D14: 37 | E14: 41 | F14: 63 | G14: 73 | H14: 67 | I14: 66 | J14: -1.4925373
A15: Tourismus und Freizeitwirtschaft | B15: 564 | C15: 476 | D15: 345 | E15: 195 | F15: 264 | G15: 249 | H15: 262 | I15: 256 | J15: -2.2900763
A16: Information und Consulting | B16: 72 | C16: 73 | D16: 57 | E16: 65 | F16: 80 | G16: 74 | H16: 58 | I16: 41 | J16: -29.310345
A17: Sonstige Lehrberechtigte 1) | B17: 165 | C17: 170 | D17: 164 | E17: 196 | F17: 276 | G17: 250 | H17: 223 | I17: 258 | J17: 15.695067
A18: Summe in Ausbildungsbetrieben | B18: 3129 | C18: 2957 | D18: 2257 | E18: 2166 | F18: 2399 | G18: 2297 | H18: 2215 | I18: 2135 | J18: -3.6117381
A19: Überbetriebliche Lehrausbildung 2) | B19: 0 | C19: 35 | D19: 44 | E19: 53 | F19: 53 | G19: 51 | H19: 52 | I19: 59 | J19: 13.461538
A20: INSGESAMT | B20: 3129 | C20: 2992 | D20: 2301 | E20: 2219 | F20: 2452 | G20: 2348 | H20: 2267 | I20: 2194 | J20: -3.2201147
A22: 1) Nicht der Kammer der gewerblichen Wirtschaft zugehörige Betriebe (zB Rechtsanwälte, Magistrate, usw).
A23: Der Bereich "Sonstige Lehrberechtigte" wurde bis zum Jahr 2012 als "Nichtkammer" bezeichnet.
A24: 2) Ausbildungseinrichtungen nach dem Berufsausbildungsgesetz (zB Überbetriebliche Lehrausbildungen im Auftrag des AMS, selbständige Ausbildungseinrichtungen).
A26: Quelle: LEHRLINGSSTATISTIK, Wirtschaftskammern Österreichs

Sheet LL_Zeitr_1Lj_Sp ST
A4: LEHRLINGSSTATISTIK, Stichtag 31.12.
A5: Lehrlinge im 1. Lehrjahr nach Sparten 2005 - 2025
A6: Steiermark
B8: Lehrlinge im 1. Lehrjahr | J8: Veränderung
A9: Sparte | B9: 2005 | C9: 2010 | D9: 2015 | E9: 2020 | F9: 2022 | G9: 2023 | H9: 2024 | I9: 2025 | J9: zum Vorjahr in %
A10: Gewerbe und Handwerk | B10: 2696 | C10: 2377 | D10: 1878 | E10: 2005 | F10: 2112 | G10: 1999 | H10: 1881 | I10: 1849 | J10: -1.7012228
A11: Industrie | B11: 793 | C11: 735 | D11: 709 | E11: 658 | F11: 828 | G11: 892 | H11: 800 | I11: 678 | J11: -15.25
A12: Handel | B12: 804 | C12: 792 | D12: 664 | E12: 630 | F12: 719 | G12: 673 | H12: 582 | I12: 586 | J12: 0.68728522
A13: Bank und Versicherung | B13: 29 | C13: 32 | D13: 25 | E13: 22 | F13: 30 | G13: 46 | H13: 30 | I13: 38 | J13: 26.666667
A14: Transport und Verkehr | B14: 46 | C14: 49 | D14: 37 | E14: 36 | F14: 55 | G14: 43 | H14: 59 | I14: 40 | J14: -32.20339
A15: Tourismus und Freizeitwirtschaft | B15: 701 | C15: 573 | D15: 422 | E15: 285 | F15: 304 | G15: 306 | H15: 344 | I15: 311 | J15: -9.5930233
A16: Information und Consulting | B16: 67 | C16: 95 | D16: 50 | E16: 83 | F16: 128 | G16: 85 | H16: 119 | I16: 72 | J16: -39.495798
A17: Sonstige Lehrberechtigte 1) | B17: 447 | C17: 419 | D17: 335 | E17: 377 | F17: 388 | G17: 440 | H17: 420 | I17: 430 | J17: 2.3809524
A18: Summe in Ausbildungsbetrieben | B18: 5583 | C18: 5072 | D18: 4120 | E18: 4096 | F18: 4564 | G18: 4484 | H18: 4235 | I18: 4004 | J18: -5.4545455
A19: Überbetriebliche Lehrausbildung 2) | B19: 195 | C19: 694 | D19: 519 | E19: 255 | F19: 268 | G19: 303 | H19: 299 | I19: 288 | J19: -3.6789298
A20: INSGESAMT | B20: 5778 | C20: 5766 | D20: 4639 | E20: 4351 | F20: 4832 | G20: 4787 | H20: 4534 | I20: 4292 | J20: -5.3374504
A22: 1) Nicht der Kammer der gewerblichen Wirtschaft zugehörige Betriebe (zB Rechtsanwälte, Magistrate, usw).
A23: Der Bereich "Sonstige Lehrberechtigte" wurde bis zum Jahr 2012 als "Nichtkammer" bezeichnet.
A24: 2) Ausbildungseinrichtungen nach dem Berufsausbildungsgesetz (zB Überbetriebliche Lehrausbildungen im Auftrag des AMS, selbständige Ausbildungseinrichtungen).
A26: Quelle: LEHRLINGSSTATISTIK, Wirtschaftskammern Österreichs

Sheet LL_Zeitr_1Lj_Sp T
A4: LEHRLINGSSTATISTIK, Stichtag 31.12.
A5: Lehrlinge im 1. Lehrjahr nach Sparten 2005 - 2025
A6: Tirol
B8: Lehrlinge im 1. Lehrjahr | J8: Veränderung
A9: Sparte | B9: 2005 | C9: 2010 | D9: 2015 | E9: 2020 | F9: 2022 | G9: 2023 | H9: 2024 | I9: 2025 | J9: zum Vorjahr in %
A10: Gewerbe und Handwerk | B10: 2026 | C10: 1809 | D10: 1529 | E10: 1472 | F10: 1512 | G10: 1492 | H10: 1405 | I10: 1279 | J10: -8.9679715
A11: Industrie | B11: 345 | C11: 329 | D11: 331 | E11: 343 | F11: 352 | G11: 367 | H11: 329 | I11: 278 | J11: -15.50152
A12: Handel | B12: 757 | C12: 756 | D12: 596 | E12: 503 | F12: 536 | G12: 438 | H12: 380 | I12: 372 | J12: -2.1052632
A13: Bank und Versicherung | B13: 28 | C13: 38 | D13: 29 | E13: 28 | F13: 26 | G13: 44 | H13: 44 | I13: 37 | J13: -15.909091
A14: Transport und Verkehr | B14: 26 | C14: 55 | D14: 59 | E14: 62 | F14: 89 | G14: 87 | H14: 90 | I14: 89 | J14: -1.1111111
A15: Tourismus und Freizeitwirtschaft | B15: 818 | C15: 616 | D15: 399 | E15: 282 | F15: 337 | G15: 320 | H15: 309 | I15: 327 | J15: 5.8252427
A16: Information und Consulting | B16: 47 | C16: 78 | D16: 57 | E16: 58 | F16: 67 | G16: 42 | H16: 55 | I16: 44 | J16: -20
A17: Sonstige Lehrberechtigte 1) | B17: 158 | C17: 186 | D17: 185 | E17: 214 | F17: 237 | G17: 251 | H17: 290 | I17: 262 | J17: -9.6551724
A18: Summe in Ausbildungsbetrieben | B18: 4205 | C18: 3867 | D18: 3185 | E18: 2962 | F18: 3156 | G18: 3041 | H18: 2902 | I18: 2688 | J18: -7.3742247
A19: Überbetriebliche Lehrausbildung 2) | B19: 41 | C19: 261 | D19: 159 | E19: 39 | F19: 35 | G19: 39 | H19: 41 | I19: 47 | J19: 14.634146
A20: INSGESAMT | B20: 4246 | C20: 4128 | D20: 3344 | E20: 3001 | F20: 3191 | G20: 3080 | H20: 2943 | I20: 2735 | J20: -7.0676181
A22: 1) Nicht der Kammer der gewerblichen Wirtschaft zugehörige Betriebe (zB Rechtsanwälte, Magistrate, usw).
A23: Der Bereich "Sonstige Lehrberechtigte" wurde bis zum Jahr 2012 als "Nichtkammer" bezeichnet.
A24: 2) Ausbildungseinrichtungen nach dem Berufsausbildungsgesetz (zB Überbetriebliche Lehrausbildungen im Auftrag des AMS, selbständige Ausbildungseinrichtungen).
A26: Quelle: LEHRLINGSSTATISTIK, Wirtschaftskammern Österreichs

Sheet LL_Zeitr_1Lj_Sp V
A4: LEHRLINGSSTATISTIK, Stichtag 31.12.
A5: Lehrlinge im 1. Lehrjahr nach Sparten 2005 - 2025
A6: Vorarlberg
B8: Lehrlinge im 1. Lehrjahr | J8: Veränderung
A9: Sparte | B9: 2005 | C9: 2010 | D9: 2015 | E9: 2020 | F9: 2022 | G9: 2023 | H9: 2024 | I9: 2025 | J9: zum Vorjahr in %
A10: Gewerbe und Handwerk | B10: 1139 | C10: 1114 | D10: 934 | E10: 859 | F10: 847 | G10: 871 | H10: 802 | I10: 746 | J10: -6.9825436
A11: Industrie | B11: 287 | C11: 367 | D11: 412 | E11: 387 | F11: 428 | G11: 416 | H11: 412 | I11: 367 | J11: -10.92233
A12: Handel | B12: 379 | C12: 392 | D12: 305 | E12: 274 | F12: 296 | G12: 291 | H12: 245 | I12: 191 | J12: -22.040816
A13: Bank und Versicherung | B13: 19 | C13: 23 | D13: 17 | E13: 16 | F13: 21 | G13: 24 | H13: 24 | I13: 19 | J13: -20.833333
A14: Transport und Verkehr | B14: 28 | C14: 36 | D14: 42 | E14: 58 | F14: 70 | G14: 65 | H14: 46 | I14: 49 | J14: 6.5217391
A15: Tourismus und Freizeitwirtschaft | B15: 332 | C15: 296 | D15: 178 | E15: 137 | F15: 141 | G15: 161 | H15: 148 | I15: 146 | J15: -1.3513514
A16: Information und Consulting | B16: 53 | C16: 48 | D16: 38 | E16: 39 | F16: 32 | G16: 27 | H16: 39 | I16: 32 | J16: -17.948718
A17: Sonstige Lehrberechtigte 1) | B17: 114 | C17: 161 | D17: 95 | E17: 77 | F17: 108 | G17: 89 | H17: 96 | I17: 99 | J17: 3.125
A18: Summe in Ausbildungsbetrieben | B18: 2351 | C18: 2437 | D18: 2021 | E18: 1847 | F18: 1943 | G18: 1944 | H18: 1812 | I18: 1649 | J18: -8.995585
A19: Überbetriebliche Lehrausbildung 2) | B19: 62 | C19: 67 | D19: 62 | E19: 60 | F19: 68 | G19: 79 | H19: 71 | I19: 66 | J19: -7.0422535
A20: INSGESAMT | B20: 2413 | C20: 2504 | D20: 2083 | E20: 1907 | F20: 2011 | G20: 2023 | H20: 1883 | I20: 1715 | J20: -8.9219331
A22: 1) Nicht der Kammer der gewerblichen Wirtschaft zugehörige Betriebe (zB Rechtsanwälte, Magistrate, usw).
A23: Der Bereich "Sonstige Lehrberechtigte" wurde bis zum Jahr 2012 als "Nichtkammer" bezeichnet.
A24: 2) Ausbildungseinrichtungen nach dem Berufsausbildungsgesetz (zB Überbetriebliche Lehrausbildungen im Auftrag des AMS, selbständige Ausbildungseinrichtungen).
A26: Quelle: LEHRLINGSSTATISTIK, Wirtschaftskammern Österreichs

Sheet LL_Zeitr_1Lj_Sp W
A4: LEHRLINGSSTATISTIK, Stichtag 31.12.
A5: Lehrlinge im 1. Lehrjahr nach Sparten 2005 - 2025
A6: Wien
B8: Lehrlinge im 1. Lehrjahr | J8: Veränderung
A9: Sparte | B9: 2005 | C9: 2010 | D9: 2015 | E9: 2020 | F9: 2022 | G9: 2023 | H9: 2024 | I9: 2025 | J9: zum Vorjahr in %
A10: Gewerbe und Handwerk | B10: 2020 | C10: 1762 | D10: 1320 | E10: 1425 | F10: 1538 | G10: 1586 | H10: 1495 | I10: 1530 | J10: 2.3411371
A11: Industrie | B11: 341 | C11: 336 | D11: 247 | E11: 278 | F11: 342 | G11: 346 | H11: 319 | I11: 281 | J11: -11.912226
A12: Handel | B12: 879 | C12: 928 | D12: 793 | E12: 863 | F12: 1023 | G12: 923 | H12: 934 | I12: 859 | J12: -8.0299786
A13: Bank und Versicherung | B13: 91 | C13: 116 | D13: 97 | E13: 105 | F13: 106 | G13: 130 | H13: 120 | I13: 103 | J13: -14.166667
A14: Transport und Verkehr | B14: 201 | C14: 285 | D14: 209 | E14: 206 | F14: 226 | G14: 285 | H14: 224 | I14: 218 | J14: -2.6785714
A15: Tourismus und Freizeitwirtschaft | B15: 564 | C15: 561 | D15: 498 | E15: 265 | F15: 657 | G15: 576 | H15: 492 | I15: 410 | J15: -16.666667
A16: Information und Consulting | B16: 163 | C16: 203 | D16: 132 | E16: 156 | F16: 221 | G16: 220 | H16: 178 | I16: 153 | J16: -14.044944
A17: Sonstige Lehrberechtigte 1) | B17: 649 | C17: 720 | D17: 579 | E17: 737 | F17: 727 | G17: 818 | H17: 786 | I17: 706 | J17: -10.178117
A18: Summe in Ausbildungsbetrieben | B18: 4908 | C18: 4911 | D18: 3875 | E18: 4035 | F18: 4840 | G18: 4884 | H18: 4548 | I18: 4260 | J18: -6.3324538
A19: Überbetriebliche Lehrausbildung 2) | B19: 283 | C19: 1528 | D19: 1521 | E19: 1936 | F19: 1839 | G19: 1718 | H19: 1632 | I19: 1761 | J19: 7.9044118
A20: INSGESAMT | B20: 5191 | C20: 6439 | D20: 5396 | E20: 5971 | F20: 6679 | G20: 6602 | H20: 6180 | I20: 6021 | J20: -2.5728155
A22: 1) Nicht der Kammer der gewerblichen Wirtschaft zugehörige Betriebe (zB Rechtsanwälte, Magistrate, usw).
A23: Der Bereich "Sonstige Lehrberechtigte" wurde bis zum Jahr 2012 als "Nichtkammer" bezeichnet.
A24: 2) Ausbildungseinrichtungen nach dem Berufsausbildungsgesetz (zB Überbetriebliche Lehrausbildungen im Auftrag des AMS, selbständige Ausbildungseinrichtungen).
A26: Quelle: LEHRLINGSSTATISTIK, Wirtschaftskammern Österreichs

Sheet LL_Zeitr_1Lj_BDL
A4: LEHRLINGSSTATISTIK, Stichtag 31.12.
A5: Lehrlinge im 1. Lehrjahr nach Bundesländern 2005 - 2025
B8: Lehrlinge im 1. Lehrjahr | J8: Veränderung
A9: Bundesland | B9: 2005 | C9: 2010 | D9: 2015 | E9: 2020 | F9: 2022 | G9: 2023 | H9: 2024 | I9: 2025 | J9: zum Vorjahr in %
A10: Burgenland | B10: 864 | C10: 900 | D10: 798 | E10: 784 | F10: 917 | G10: 837 | H10: 749 | I10: 726 | J10: -3.070761
A11: Kärnten | B11: 2886 | C11: 2850 | D11: 2225 | E11: 2187 | F11: 2389 | G11: 2393 | H11: 2165 | I11: 2043 | J11: -5.6351039
A12: Niederösterreich | B12: 5739 | C12: 6172 | D12: 4990 | E12: 4960 | F12: 5664 | G12: 5233 | H12: 5051 | I12: 4911 | J12: -2.7717284
A13: Oberösterreich | B13: 8306 | C13: 8010 | D13: 6708 | E13: 6589 | F13: 7098 | G13: 6779 | H13: 6347 | I13: 6015 | J13: -5.2308177
A14: Salzburg | B14: 3129 | C14: 2992 | D14: 2301 | E14: 2219 | F14: 2452 | G14: 2348 | H14: 2267 | I14: 2194 | J14: -3.2201147
A15: Steiermark | B15: 5778 | C15: 5766 | D15: 4639 | E15: 4351 | F15: 4832 | G15: 4787 | H15: 4534 | I15: 4292 | J15: -5.3374504
A16: Tirol | B16: 4246 | C16: 4128 | D16: 3344 | E16: 3001 | F16: 3191 | G16: 3080 | H16: 2943 | I16: 2735 | J16: -7.0676181
A17: Vorarlberg | B17: 2413 | C17: 2504 | D17: 2083 | E17: 1907 | F17: 2011 | G17: 2023 | H17: 1883 | I17: 1715 | J17: -8.9219331
A18: Wien | B18: 5191 | C18: 6439 | D18: 5396 | E18: 5971 | F18: 6679 | G18: 6602 | H18: 6180 | I18: 6021 | J18: -2.5728155
A19: ÖSTERREICH | B19: 38552 | C19: 39761 | D19: 32484 | E19: 31969 | F19: 35233 | G19: 34082 | H19: 32119 | I19: 30652 | J19: -4.56739
A22: Quelle: LEHRLINGSSTATISTIK, Wirtschaftskammern Österreichs

Sheet LL_Demo
A3: LEHRLINGSSTATISTIK, Stichtag 31.12.
A4: Demografische Entwicklung 1)
A6: Jahr | B6: Anzahl der 15-jährigen | C6: Veränderung gegenüber dem Vorjahr | E6: Anzahl der Lehrlinge im | F6: Veränderung gegenüber dem Vorjahr | H6: Anteil der Lehrlinge im 1. Lehrjahr an der Anzahl der
B7: im Jahresdurchschnitt 2) | C7: absolut | D7: in % | E7: 1. Lehrjahr | F7: absolut | G7: in % | H7: 15-jährigen, in %
A8: 1970 | B8: 103177 | C8: - | D8: - | E8: 45454 | F8: - | G8: - | H8: 44.054392
A9: 1975 | B9: 122640 | C9: - | D9: - | E9: 56144 | F9: - | G9: - | H9: 45.779517
A10: 1980 | B10: 130963 | C10: - | D10: - | E10: 61795 | F10: - | G10: - | H10: 47.185083
A11: 1985 | B11: 116548 | C11: - | D11: - | E11: 52781 | F11: - | G11: - | H11: 45.28692
A12: 1990 | B12: 94375 | C12: - | D12: - | E12: 44845 | F12: - | G12: - | H12: 47.517881
A13: 1995 | B13: 92640 | C13: - | D13: - | E13: 37343 | F13: - | G13: - | H13: 40.309801
A14: 2000 | B14: 94577 | C14: - | D14: - | E14: 38518 | F14: - | G14: - | H14: 40.726604
A15: 2005 | B15: 97547 | C15: 565 | D15: 0.58258233 | E15: 38552 | F15: 2608 | G15: 7.2557311 | H15: 39.521461
A16: 2010 | B16: 94557 | C16: -3173 | D16: -3.2467001 | E16: 39761 | F16: 156 | G16: 0.39388966 | H16: 42.049769
A17: 2011 | B17: 93375 | C17: -1182 | D17: -1.2500397 | E17: 39467 | F17: -294 | G17: -0.73941802 | H17: 42.267202
A18: 2012 | B18: 92882 | C18: -493 | D18: -0.52797858 | E18: 38211 | F18: -1256 | G18: -3.1824056 | H18: 41.139295
A19: 2013 | B19: 88491 | C19: -4391 | D19: -4.7275037 | E19: 35580 | F19: -2631 | G19: -6.8854518 | H19: 40.207479
A20: 2014 | B20: 86387.625 | C20: -2103.375 | D20: -2.3769366 | E20: 33508 | F20: -2072 | G20: -5.8234963 | H20: 38.787963
A21: 2015 | B21: 86045.75 | C21: -341.875 | D21: -0.39574534 | E21: 32484 | F21: -1024 | G21: -3.0559866 | H21: 37.75201
A22: 2016 | B22: 85667 | C22: -378.75 | D22: -0.44017282 | E22: 32693 | F22: 209 | G22: 0.64339367 | H22: 38.162887
A23: 2017 | B23: 85328.25 | C23: -338.75 | D23: -0.39542648 | E23: 33721 | F23: 1028 | G23: 3.144404 | H23: 39.519151
A24: 2018 | B24: 86043.125 | C24: 714.875 | D24: 0.83779405 | E24: 34402 | F24: 681 | G24: 2.0195131 | H24: 39.982276
A25: 2019 | B25: 85576.125 | C25: -467 | D25: -0.54275109 | E25: 33882 | F25: -520 | G25: -1.51154 | H25: 39.592819
A26: 2020 | B26: 86424.375 | C26: 848.25 | D26: 0.99122273 | E26: 31969 | F26: -1913 | G26: -5.6460658 | H26: 36.990722
... A31: 2025 | B31: 88375 | C31: 920.375 | D31: 1.0524029 | E31: 30652 | F31: -1467 | G31: -4.56739 | H31: 34.684017
A33: 1) Für die Darstellung der demografischen Entwicklung und der Anteile wird - abweichend zu früheren Darstellungen - die Anzahl der 15-jährigen und die Anzahl der Lehrlinge im ersten Lehrjahr herangezogen.
A34: 2) Bevölkerungsstatistik, STATISTIK AUSTRIA (2025: vorläufig; rückwirkend bis 2024 wurden die Daten revidiert)
A35: Quelle: LEHRLINGSSTATISTIK, Wirtschaftskammern Österreichs

Sheet LL_Betriebe_Sp
A5: Lehrlingsstatistik 31.12.2025
A6: Lehrbetriebe und Lehrlinge nach Sparten | H6: Österreich
A9: Sparte | B9: Lehrbetriebe 1) | D9: Lehrlinge | F9: auf 1 Lehrbetrieb entfallen … Lehrlinge
